BEGIN:VCALENDAR
VERSION:2.0
PRODID:-//Cultuurpodium Sint Jacobskerk - ECPv6.2.8.1//NONSGML v1.0//EN
CALSCALE:GREGORIAN
METHOD:PUBLISH
X-ORIGINAL-URL:https://sintjacobskerk.nl
X-WR-CALDESC:Evenementen voor Cultuurpodium Sint Jacobskerk
REFRESH-INTERVAL;VALUE=DURATION:PT1H
X-Robots-Tag:noindex
X-PUBLISHED-TTL:PT1H
BEGIN:VTIMEZONE
TZID:Europe/Amsterdam
BEGIN:DAYLIGHT
TZOFFSETFROM:+0100
TZOFFSETTO:+0200
TZNAME:CEST
DTSTART:20250330T010000
END:DAYLIGHT
BEGIN:STANDARD
TZOFFSETFROM:+0200
TZOFFSETTO:+0100
TZNAME:CET
DTSTART:20251026T010000
END:STANDARD
END:VTIMEZONE
BEGIN:VEVENT
DTSTART;TZID=Europe/Amsterdam:20250814T200000
DTEND;TZID=Europe/Amsterdam:20250814T200000
DTSTAMP:20260421T191444
CREATED:20250430T074350Z
LAST-MODIFIED:20250811T073342Z
UID:10000374-1755201600-1755201600@sintjacobskerk.nl
SUMMARY:Zomeravondconcerten 2025: Windbroke\, traditioneel keltische muziek
DESCRIPTION:An Thuras \, gespeeld door de Keltische folkband Windbroke \nEen reis die we nog nooit samen gemaakt hebben… \nAfzonderlijk van elkaar zijn de muzikanten van Windbroke op veel plaatsen geweest waar resten van Keltische culturen te vinden zijn. We namen individueel mooie verhalen\, foto’s en muzikale belevenissen mee naar huis die vaak dienden als inspiratiebron voor onze muziek. Toch zijn we\, gek genoeg\, nooit als hele band naar de bakermatten van onze muziek gereisd. \nToch dromen we er nog steeds van\, eens een lange reis ondernemen langs alle streken waaruit de muziek stamt die wij al jaren spelen! \nOm u een beetje met ons mee te laten dromen hebben we het programma “An Thuras” (Keltisch voor “De Reis”) samengesteld. Hierin reizen we samen met u in anderhalf uur langs vele prachtige plekken en spelen de Keltische muziek die er vandaan komt. We vertellen de verhalen door die we er gehoord hebben en beschrijven de avonturen die we daar ooit hebben beleefd. Veel vrolijke muziek en zang dus\, maar ook zeker veel weemoed en melancholie. De lokale geschiedenis van deze streken ging niet over rozen en is vaak dooraderd van onderdrukking\, armoede en ellende. De traditionele muziek\, zoals wij die spelen\, is altijd een middel geweest om even te ontsnappen aan de werkelijkheid of juist het leed te delen met anderen. Dat maakt dat Keltische traditionele muziek in zijn algemeenheid je altijd raakt in je hart! \nWe spelen dit programma weer vaak in historische gebouwen. De sfeer die deze oude bouwwerken oproepen versterkt vaak het historische aspect van onze traditionele muziek. Maar ook in een theaterachtige setting lukt het goed om de sfeer en de historische beleving over te brengen. \nTickets:  € 17\,50 \nInloop vanaf 19:15\, het concert start om 20:00. \nKoop uw tickets via deze site\,  bij boekhandel   ’t Spui\, Oude Markt 5\, Vlissingen of voorafgaande aan het concert in de kerk. \nActieprijs: € 12\,50 \nDe actieprijs is alleen geldig voor abonnees van onze nieuwsbrief of na het inschrijven voor onze nieuwsbrief en alleen bij aankoop via deze site. U kunt zich inschrijven onder aan deze pagina. Na inschrijven betaalt u na invullen kortingscode ZAWindbroke  € 12\,50 per ticket. \n \nDe zomeravondconcerten zijn mede mogelijk gemaakt door de
URL:https://sintjacobskerk.nl/agenda/windbroke-traditioneel-keltische-muziek-2-2-2/
CATEGORIES:Zichtbaar op homepage
ATTACH;FMTTYPE=image/jpeg:https://sintjacobskerk.nl/wp-content/uploads/2024/12/windbroke.jpg
END:VEVENT
END:VCALENDAR