BEGIN:VCALENDAR
VERSION:2.0
PRODID:-//Cultuurpodium Sint Jacobskerk - ECPv6.2.8.1//NONSGML v1.0//EN
CALSCALE:GREGORIAN
METHOD:PUBLISH
X-ORIGINAL-URL:https://sintjacobskerk.nl
X-WR-CALDESC:Evenementen voor Cultuurpodium Sint Jacobskerk
REFRESH-INTERVAL;VALUE=DURATION:PT1H
X-Robots-Tag:noindex
X-PUBLISHED-TTL:PT1H
BEGIN:VTIMEZONE
TZID:Europe/Amsterdam
BEGIN:DAYLIGHT
TZOFFSETFROM:+0100
TZOFFSETTO:+0200
TZNAME:CEST
DTSTART:20250330T010000
END:DAYLIGHT
BEGIN:STANDARD
TZOFFSETFROM:+0200
TZOFFSETTO:+0100
TZNAME:CET
DTSTART:20251026T010000
END:STANDARD
BEGIN:DAYLIGHT
TZOFFSETFROM:+0100
TZOFFSETTO:+0200
TZNAME:CEST
DTSTART:20260329T010000
END:DAYLIGHT
BEGIN:STANDARD
TZOFFSETFROM:+0200
TZOFFSETTO:+0100
TZNAME:CET
DTSTART:20261025T010000
END:STANDARD
END:VTIMEZONE
BEGIN:VEVENT
DTSTART;TZID=Europe/Amsterdam:20260321T193000
DTEND;TZID=Europe/Amsterdam:20260321T193000
DTSTAMP:20260421T170517
CREATED:20250926T083455Z
LAST-MODIFIED:20260226T103412Z
UID:10000497-1774121400-1774121400@sintjacobskerk.nl
SUMMARY:Vlissings ViolistenOrkest e.a: à la Rieu 2026
DESCRIPTION:‘À la Rieu’ Concert  2026 \n Stichting Stringtogether verzorgt op zaterdag 21 maart aanvang 19:30 een concert ‘`a la Rieu’ in de Sint Jacobskerk. Het orkest bestaat uit maar liefst 25 violisten\, 3 altviolisten\, 5 cellisten\, een blazersensemble twee harpistes\, cajon-speler\, 2 bassisten en pianist/organist en staat onder leding van Naomi de Keijzer.\nOok het koor ‘Sententia’ zal medewerking verlenen bij een aantal muziekstukken en liedjes. In het repertoire zijn naast echte ‘Rieu- stukken’\, zoals ‘Second Waltz’ en ‘Voilà’ ook popliedjes en andere mooie stukken opgenomen tijdens dit concert. Naast vioolsolo’s zullen ook zeker andere solisten zich laten horen. Ook dit jaar staan weer een aantal verrassingsacts op het programma. \nHet eerste deel van het concert zal heel kindvriendelijk en interactief zijn. Bij een aantal liedjes mogen alle kinderen meezingen en natuurlijk is het ook mogelijk om in de zaal mee te zingen.  Om 20:15 is er een pauze\, daarna gaat het concert verder tot uiterlijk 21:45 met een heel gevarieerd programma. De nadruk ligt op het zoveel mogelijk samenwerken met andere muzikanten\, het publiek en zelfs dansers. \nBeleef deze heerlijke muzikale avond mee en geniet van zoveel muzikaal enthousiasme! \nTickets kunt u via deze site bestellen en kopen bij boekhandel ’t Spui. \nDe kosten zijn € 7\,50 per kind en € 12\,50 per volwassene. \nDit concert wordt mede mogelijk gemaakt door: \n \nVanuit de rijksbijdrage vanuit de Regio Deal NSPD \n \n 
URL:https://sintjacobskerk.nl/agenda/vlissings-violistenorkest-e-a-a-la-rieu-2026/
CATEGORIES:Zichtbaar op homepage
ATTACH;FMTTYPE=image/jpeg:https://sintjacobskerk.nl/wp-content/uploads/2026/02/DSC03105.jpg
END:VEVENT
BEGIN:VEVENT
DTSTART;TZID=Europe/Amsterdam:20251220T193000
DTEND;TZID=Europe/Amsterdam:20251220T193000
DTSTAMP:20260421T170517
CREATED:20251103T113812Z
LAST-MODIFIED:20251201T084450Z
UID:10000511-1766259000-1766259000@sintjacobskerk.nl
SUMMARY:Schitterend Kerstconcert
DESCRIPTION:Als onderdeel van Vlissingen Schittert geeft het Violistenorkest Vlissingen een “Schitterend Kerstconcert” op zaterdag 20 december\,  aanvang 19:30.  Het orkest is aanwezig met maar liefst 25 violisten\, 2 altviolisten\, 3 cellisten een harpiste\, cajon-speler\, bassist en gitarist. De  ‘SeaSoundSingers’ versterken het programma bij een aantal kerstliederen. In het repertoire zijn naast echte klassiekers (Jingle Bells\, Stille Nacht) ook popliedjes en zelfs mooie stukken van Lindsey Stirling opgenomen. Naast vioolsolo’s zult u ook zeker andere solisten horen o.l.v. zangcoach Rosalie Vermeulen. \nHet eerste deel van het concert zal heel kindvriendelijk zijn. Bij een aantal liedjes zullen kinderen meezingen en natuurlijk is het ook mogelijk om in de zaal mee te zingen.  Om 20:15 is er een pauze\, daarna gaat het concert verder tot 21:30 met een heel gevarieerd programma. De nadruk ligt op het zoveel mogelijk samenwerken met andere muzikanten en zelfs met schitterende balletdansers. Kortom een heerlijke schitterende avond om mee te beleven! \nKaarten zijn verkrijgbaar via deze site: € 7\,50 / jongeren tot 18 jaar € 2\,50\nDe opbrengst van de tickets komt ten goede aan jongeren-muziekeducatie via de stichting StringTogether en aan het onderhoud van het oudste monument van de stad\, de Sint Jacobskerk. \nDit concert is mede mogelijk gemaakt door de \, de NSPD regiodeal van de en het 
URL:https://sintjacobskerk.nl/agenda/schitterend-kerstconcert/
CATEGORIES:Zichtbaar op homepage
ATTACH;FMTTYPE=image/jpeg:https://sintjacobskerk.nl/wp-content/uploads/2025/11/schitterend-kerstconcert-2.jpg
END:VEVENT
BEGIN:VEVENT
DTSTART;TZID=Europe/Amsterdam:20250328T193000
DTEND;TZID=Europe/Amsterdam:20250328T193000
DTSTAMP:20260421T170517
CREATED:20250303T120047Z
LAST-MODIFIED:20250303T120048Z
UID:10000396-1743190200-1743190200@sintjacobskerk.nl
SUMMARY:"a la Rieu" met John Brinkhaus\, het Violisten Orkest Vlissingen e.a.
DESCRIPTION:Het Violistenorkest Vlissingen is een jong\, in Nederland uniek\, violistenorkest met een zeer gevarieerd repertoire. Er spelen 28 violisten in het orkest\, de jongste is 8 jaar oud en de oudste 72\, een harpist\, bassist\, een cajon speler en 3 cellisten.  Het repertoire is breed: van klassieke melodieën tot nummers van Ava Max en Billie Eillish en alles wat daar tussenin zit. Voor dit concert zijn stukken ingestudeerd die ‘André Rieu’ ook speelt. Gastmuzikanten zijn uitgenodigd\, waaronder blazers en ook een zangeres.\n\nJohn Brinkhaus is muzikant-accordeonist en biedt het accordeongeluid in een modern jasje.\nMet de veelzijdigheid van de digitale Roland-accordeon creëert hij een breed scala aan stijlen en sferen\, van opzwepende feestmuziek tot romantische ballads en onvergetelijke hits van vroeger. Zijn gevarieerde repertoire (o.a. André Rieu) én vele jaren speelervaring\, zorgen voor een goede afstemming én sfeer met het publiek.\n\nTickets: € 12\,50 – jongeren tot 18 jaar € 7\,50 – te bestellen middels de rode button en te koop bij boekhandel ’t Spui\n\n“CultuurLokaal” …. het podium voor lokale culturele initiatieven 
URL:https://sintjacobskerk.nl/agenda/optie-a-la-rieu-met-john-brinkhaus-violisten-orkest-vlissingen-e-a-2-2-2-2-2-2/
CATEGORIES:Zichtbaar op homepage
ATTACH;FMTTYPE=image/jpeg:https://sintjacobskerk.nl/wp-content/uploads/2025/01/a-la-rieu.jpg
END:VEVENT
END:VCALENDAR