BEGIN:VCALENDAR
VERSION:2.0
PRODID:-//Cultuurpodium Sint Jacobskerk - ECPv6.2.8.1//NONSGML v1.0//EN
CALSCALE:GREGORIAN
METHOD:PUBLISH
X-WR-CALNAME:Cultuurpodium Sint Jacobskerk
X-ORIGINAL-URL:https://sintjacobskerk.nl
X-WR-CALDESC:Evenementen voor Cultuurpodium Sint Jacobskerk
REFRESH-INTERVAL;VALUE=DURATION:PT1H
X-Robots-Tag:noindex
X-PUBLISHED-TTL:PT1H
BEGIN:VTIMEZONE
TZID:Europe/Amsterdam
BEGIN:DAYLIGHT
TZOFFSETFROM:+0100
TZOFFSETTO:+0200
TZNAME:CEST
DTSTART:20230326T010000
END:DAYLIGHT
BEGIN:STANDARD
TZOFFSETFROM:+0200
TZOFFSETTO:+0100
TZNAME:CET
DTSTART:20231029T010000
END:STANDARD
BEGIN:DAYLIGHT
TZOFFSETFROM:+0100
TZOFFSETTO:+0200
TZNAME:CEST
DTSTART:20240331T010000
END:DAYLIGHT
BEGIN:STANDARD
TZOFFSETFROM:+0200
TZOFFSETTO:+0100
TZNAME:CET
DTSTART:20241027T010000
END:STANDARD
END:VTIMEZONE
BEGIN:VEVENT
DTSTART;TZID=Europe/Amsterdam:20241219T200000
DTEND;TZID=Europe/Amsterdam:20241219T200000
DTSTAMP:20260421T201111
CREATED:20240916T191458Z
LAST-MODIFIED:20240916T191458Z
UID:10000161-1734638400-1734638400@sintjacobskerk.nl
SUMMARY:Grootkoor Zeeland Kerstconcert met Henk Poort
DESCRIPTION:Ook dit jaar zal het Grootkoor Zeeland onder leiding van Nan van Groeningen weer  hun jaarlijkse Kerstconcert geven. \nHet repertoire bestaat uit bekende koorwerken\, met als solist Henk Poort. De Nederlandse opera- en musicalzanger Henk Poort verwierf bekendheid door zijn rollen in LesMisérables\, The Phantom of the Opera en Anatevka. Vorig jaar maakte Henk Poort – samen met Floor Jansen – furore in het programma ‘Beste Zangers’. Hun versie van het duet uit The Phantom maakte een diepe indruk. Henk Poort heeft een stem met een ongelofelijke power en hoogte om koud van te worden. Wat een stem en wat een uitstraling! Laat u betoveren door de magie van kerst en geniet samen met uw familie en vrienden van Grootkoor Zeeland. \nDe begeleiding is in handen van  Andy Booth\, piano en  Martin Martin Mans\, orgel \n 
URL:https://sintjacobskerk.nl/agenda/optie-grootkoor-zeeland-kerstconcert-2-2-2/
CATEGORIES:Zichtbaar op homepage
ATTACH;FMTTYPE=image/jpeg:https://sintjacobskerk.nl/wp-content/uploads/2024/07/Henk-Poort-Grootkoor-Zeeland.jpg
END:VEVENT
BEGIN:VEVENT
DTSTART;TZID=Europe/Amsterdam:20231223T153000
DTEND;TZID=Europe/Amsterdam:20231223T153000
DTSTAMP:20260421T201111
CREATED:20230824T112850Z
LAST-MODIFIED:20231014T091824Z
UID:10000028-1703345400-1703345400@sintjacobskerk.nl
SUMMARY:Grootkoor Zeeland - Kerstconcert 2023
DESCRIPTION:Kerstconcert Grootkoor Zeeland met Tenor Florian \nDirigenten: Etty van der Mei en Nan van Groeningen     \nHet is inmiddels een traditie geworden. In december genieten jaarlijks vele mensen van de befaamde Grootkoor kerstconcerten. Kom alvast in de kerststemming met zanger Florian\, die met zijn prachtige stem diepe indruk maakte in het tv-programma ‘ARIA’. Een groot gemengd koor\, samen met Tenor Florian en de begeleiders Rob van Dijk\, vleugel en organist Martijn Tijssen\, vertolken de grootste kerstklassiekers aller tijden. Laat u betoveren door de magie van kerst en geniet samen met uw familie en vrienden van Grootkoor Zeeland. \nDatum: zaterdag 23 december\nAanvang: 15.30 uur\nPrijs € 20\,00
URL:https://sintjacobskerk.nl/agenda/grootkoor-zeeland-kerstconcert-2023/
CATEGORIES:Zichtbaar op homepage
ATTACH;FMTTYPE=image/jpeg:https://sintjacobskerk.nl/wp-content/uploads/2023/08/Grootkoor-en-Tenor-Florian.jpg
END:VEVENT
END:VCALENDAR