BEGIN:VCALENDAR
VERSION:2.0
PRODID:-//Cultuurpodium Sint Jacobskerk - ECPv6.2.8.1//NONSGML v1.0//EN
CALSCALE:GREGORIAN
METHOD:PUBLISH
X-WR-CALNAME:Cultuurpodium Sint Jacobskerk
X-ORIGINAL-URL:https://sintjacobskerk.nl
X-WR-CALDESC:Evenementen voor Cultuurpodium Sint Jacobskerk
REFRESH-INTERVAL;VALUE=DURATION:PT1H
X-Robots-Tag:noindex
X-PUBLISHED-TTL:PT1H
BEGIN:VTIMEZONE
TZID:Europe/Amsterdam
BEGIN:DAYLIGHT
TZOFFSETFROM:+0100
TZOFFSETTO:+0200
TZNAME:CEST
DTSTART:20260329T010000
END:DAYLIGHT
BEGIN:STANDARD
TZOFFSETFROM:+0200
TZOFFSETTO:+0100
TZNAME:CET
DTSTART:20261025T010000
END:STANDARD
END:VTIMEZONE
BEGIN:VEVENT
DTSTART;TZID=Europe/Amsterdam:20260625T200000
DTEND;TZID=Europe/Amsterdam:20260625T200000
DTSTAMP:20260421T121725
CREATED:20251125T164251Z
LAST-MODIFIED:20260323T173729Z
UID:17842-1782417600-1782417600@sintjacobskerk.nl
SUMMARY:Zomeravondconcerten 2026 met Leoni Jansen
DESCRIPTION:LEONI JANSEN JAAGT \nIn haar nieuwe soloprogramma gaat zangeres Leoni Jansen op jacht! Naar waardevolle momenten\, naar de schoonheid van de natuur. Naar de mooiste liedjes\, naar oplossingen voor relatieproblemen. Naar filosofische oplossingen voor dagelijkse problemen\, en nuchtere oplossingen voor filosofische problemen. \nSimpelweg afwachten wat er op je pad komt is tijdverspilling\, daar is Leoni te gretig en te gulzig voor. Nee\, Jansen jaagt. \n \nOnderdeel van de jacht zijn schitterende nummers uit het folk-repertoire\, prachtige Nederlandstalige songs en pareltjes uit de wereldmuziek. Met haar vaak komische overpeinzingen en heldere observaties ontstaat zo een voorstelling over levenslust als elixer tegen het onverbiddelijke verstrijken van de tijd. \nTickets: € 25\,00 Early Bird € 22\,50 verkrijgbaar via deze site
URL:https://sintjacobskerk.nl/agenda/zomeravondconcert-2026-met-leonie-jansen/
CATEGORIES:Zichtbaar op homepage
ATTACH;FMTTYPE=image/jpeg:https://sintjacobskerk.nl/wp-content/uploads/2026/03/cqc9E1A-e1772530408783.jpeg
ORGANIZER;CN="Cultuurpodium Sint Jacobskerk":MAILTO:verhuur@sintjacobskerk.nl
END:VEVENT
END:VCALENDAR