BEGIN:VCALENDAR
VERSION:2.0
PRODID:-//Cultuurpodium Sint Jacobskerk - ECPv6.2.8.1//NONSGML v1.0//EN
CALSCALE:GREGORIAN
METHOD:PUBLISH
X-WR-CALNAME:Cultuurpodium Sint Jacobskerk
X-ORIGINAL-URL:https://sintjacobskerk.nl
X-WR-CALDESC:Evenementen voor Cultuurpodium Sint Jacobskerk
REFRESH-INTERVAL;VALUE=DURATION:PT1H
X-Robots-Tag:noindex
X-PUBLISHED-TTL:PT1H
BEGIN:VTIMEZONE
TZID:Europe/Amsterdam
BEGIN:DAYLIGHT
TZOFFSETFROM:+0100
TZOFFSETTO:+0200
TZNAME:CEST
DTSTART:20240331T010000
END:DAYLIGHT
BEGIN:STANDARD
TZOFFSETFROM:+0200
TZOFFSETTO:+0100
TZNAME:CET
DTSTART:20241027T010000
END:STANDARD
END:VTIMEZONE
BEGIN:VEVENT
DTSTART;TZID=Europe/Amsterdam:20240111T200000
DTEND;TZID=Europe/Amsterdam:20240111T200000
DTSTAMP:20260421T132026
CREATED:20231005T094612Z
LAST-MODIFIED:20231107T183313Z
UID:8604-1705003200-1705003200@sintjacobskerk.nl
SUMMARY:Zeeuws Orkest: Nieuwjaarsconcert met Remy van Kesteren en zangeres Rosann
DESCRIPTION:Programma: \n\nArrangementen samen met harpist Remy van Kesteren (arrangeur Martin Fondse)\nArrangementen met Zeeuwse zangeres Rosann    (arrangeur Ruud van der Meulen)\n\nEn verder op het programma: \n\nOuverture Orpheus Offenbach\nCapriccio Italien Tschaikovsky\nPas Redouble Saint-Saëns\nRosen aus dem Süden Strauss
URL:https://sintjacobskerk.nl/agenda/zeeuws-orkest-nieuwjaarsconcert-met-remy-van-kesteren-en-zangeres-rosann/
CATEGORIES:Zichtbaar op homepage
ATTACH;FMTTYPE=image/jpeg:https://sintjacobskerk.nl/wp-content/uploads/2023/10/Remy-van-Kesteren-2-scaled-1.jpg
END:VEVENT
END:VCALENDAR