BEGIN:VCALENDAR
VERSION:2.0
PRODID:-//Cultuurpodium Sint Jacobskerk - ECPv6.2.8.1//NONSGML v1.0//EN
CALSCALE:GREGORIAN
METHOD:PUBLISH
X-WR-CALNAME:Cultuurpodium Sint Jacobskerk
X-ORIGINAL-URL:https://sintjacobskerk.nl
X-WR-CALDESC:Evenementen voor Cultuurpodium Sint Jacobskerk
REFRESH-INTERVAL;VALUE=DURATION:PT1H
X-Robots-Tag:noindex
X-PUBLISHED-TTL:PT1H
BEGIN:VTIMEZONE
TZID:Europe/Amsterdam
BEGIN:DAYLIGHT
TZOFFSETFROM:+0100
TZOFFSETTO:+0200
TZNAME:CEST
DTSTART:20240331T010000
END:DAYLIGHT
BEGIN:STANDARD
TZOFFSETFROM:+0200
TZOFFSETTO:+0100
TZNAME:CET
DTSTART:20241027T010000
END:STANDARD
END:VTIMEZONE
BEGIN:VEVENT
DTSTART;TZID=Europe/Amsterdam:20240316T190000
DTEND;TZID=Europe/Amsterdam:20240316T190000
DTSTAMP:20260421T215004
CREATED:20231016T094342Z
LAST-MODIFIED:20240303T173636Z
UID:8882-1710615600-1710615600@sintjacobskerk.nl
SUMMARY:Zeeuws Concertkoor: Matthäus Passion van J.S. Bach
DESCRIPTION:Op zaterdag 16 maart as. voert het Zeeuws Concertkoor voor het eerst na corona weer de Matthäus-Passion uit in de Sint Jacobskerk te Vlissingen.\nMedewerking verlenen verder het schoolkoor van de beroemde Koorschool Haarlem en TY Zeeuws Kamerorkest.\nDe solisten zijn Falco van Loon (evangelist)\, Berend Stumphius (Christus)\, Sarah van Mol (sopraan)\, Anne-Marike Evers (mezzosopraan)\, Marcel Reijans (tenor) en Robbert Muuse (bariton).\nDe continuopartij wordt verzorgd door Jos Vogel (orgel).\nDirigent: Pim Overduin.
URL:https://sintjacobskerk.nl/agenda/zeeuws-concertkoor-matthaus-passion-van-j-s-bach/
CATEGORIES:Zichtbaar op homepage
END:VEVENT
END:VCALENDAR