BEGIN:VCALENDAR
VERSION:2.0
PRODID:-//Cultuurpodium Sint Jacobskerk - ECPv6.2.8.1//NONSGML v1.0//EN
CALSCALE:GREGORIAN
METHOD:PUBLISH
X-WR-CALNAME:Cultuurpodium Sint Jacobskerk
X-ORIGINAL-URL:https://sintjacobskerk.nl
X-WR-CALDESC:Evenementen voor Cultuurpodium Sint Jacobskerk
REFRESH-INTERVAL;VALUE=DURATION:PT1H
X-Robots-Tag:noindex
X-PUBLISHED-TTL:PT1H
BEGIN:VTIMEZONE
TZID:Europe/Amsterdam
BEGIN:DAYLIGHT
TZOFFSETFROM:+0100
TZOFFSETTO:+0200
TZNAME:CEST
DTSTART:20240331T010000
END:DAYLIGHT
BEGIN:STANDARD
TZOFFSETFROM:+0200
TZOFFSETTO:+0100
TZNAME:CET
DTSTART:20241027T010000
END:STANDARD
END:VTIMEZONE
BEGIN:VEVENT
DTSTART;TZID=Europe/Amsterdam:20240320T193000
DTEND;TZID=Europe/Amsterdam:20240320T193000
DTSTAMP:20260422T030503
CREATED:20230824T114447Z
LAST-MODIFIED:20240118T091224Z
UID:7175-1710963000-1710963000@sintjacobskerk.nl
SUMMARY:Vesper
DESCRIPTION:
URL:https://sintjacobskerk.nl/agenda/vesper-6/
ATTACH;FMTTYPE=image/png:https://sintjacobskerk.nl/wp-content/uploads/2023/08/Logo-PKN-full-colour-groot.png
END:VEVENT
END:VCALENDAR