BEGIN:VCALENDAR
VERSION:2.0
PRODID:-//Cultuurpodium Sint Jacobskerk - ECPv6.2.8.1//NONSGML v1.0//EN
CALSCALE:GREGORIAN
METHOD:PUBLISH
X-ORIGINAL-URL:https://sintjacobskerk.nl
X-WR-CALDESC:Evenementen voor Cultuurpodium Sint Jacobskerk
REFRESH-INTERVAL;VALUE=DURATION:PT1H
X-Robots-Tag:noindex
X-PUBLISHED-TTL:PT1H
BEGIN:VTIMEZONE
TZID:Europe/Amsterdam
BEGIN:DAYLIGHT
TZOFFSETFROM:+0100
TZOFFSETTO:+0200
TZNAME:CEST
DTSTART:20260329T010000
END:DAYLIGHT
BEGIN:STANDARD
TZOFFSETFROM:+0200
TZOFFSETTO:+0100
TZNAME:CET
DTSTART:20261025T010000
END:STANDARD
END:VTIMEZONE
BEGIN:VEVENT
DTSTART;TZID=Europe/Amsterdam:20260512T120000
DTEND;TZID=Europe/Amsterdam:20260512T130000
DTSTAMP:20260421T150059
CREATED:20260417T062442Z
LAST-MODIFIED:20260417T063518Z
UID:10000661-1778587200-1778590800@sintjacobskerk.nl
SUMMARY:Middagpauzedienst
DESCRIPTION:Een gebed om vrede in de wereld\, in onze stad\, in ons leven en in het leven van de mensen om ons heen.
URL:https://sintjacobskerk.nl/agenda/middagpauzedienst/2026-05-12/
END:VEVENT
BEGIN:VEVENT
DTSTART;TZID=Europe/Amsterdam:20260519T120000
DTEND;TZID=Europe/Amsterdam:20260519T130000
DTSTAMP:20260421T150059
CREATED:20260417T062442Z
LAST-MODIFIED:20260417T063518Z
UID:10000665-1779192000-1779195600@sintjacobskerk.nl
SUMMARY:Middagpauzedienst
DESCRIPTION:Een gebed om vrede in de wereld\, in onze stad\, in ons leven en in het leven van de mensen om ons heen.
URL:https://sintjacobskerk.nl/agenda/middagpauzedienst/2026-05-19/
END:VEVENT
BEGIN:VEVENT
DTSTART;TZID=Europe/Amsterdam:20260526T120000
DTEND;TZID=Europe/Amsterdam:20260526T130000
DTSTAMP:20260421T150059
CREATED:20260417T062442Z
LAST-MODIFIED:20260417T063518Z
UID:10000666-1779796800-1779800400@sintjacobskerk.nl
SUMMARY:Middagpauzedienst
DESCRIPTION:Een gebed om vrede in de wereld\, in onze stad\, in ons leven en in het leven van de mensen om ons heen.
URL:https://sintjacobskerk.nl/agenda/middagpauzedienst/2026-05-26/
END:VEVENT
BEGIN:VEVENT
DTSTART;TZID=Europe/Amsterdam:20260602T120000
DTEND;TZID=Europe/Amsterdam:20260602T130000
DTSTAMP:20260421T150059
CREATED:20260417T062442Z
LAST-MODIFIED:20260417T063518Z
UID:10000667-1780401600-1780405200@sintjacobskerk.nl
SUMMARY:Middagpauzedienst
DESCRIPTION:Een gebed om vrede in de wereld\, in onze stad\, in ons leven en in het leven van de mensen om ons heen.
URL:https://sintjacobskerk.nl/agenda/middagpauzedienst/2026-06-02/
END:VEVENT
BEGIN:VEVENT
DTSTART;TZID=Europe/Amsterdam:20260609T120000
DTEND;TZID=Europe/Amsterdam:20260609T130000
DTSTAMP:20260421T150059
CREATED:20260417T062442Z
LAST-MODIFIED:20260417T063518Z
UID:10000668-1781006400-1781010000@sintjacobskerk.nl
SUMMARY:Middagpauzedienst
DESCRIPTION:Een gebed om vrede in de wereld\, in onze stad\, in ons leven en in het leven van de mensen om ons heen.
URL:https://sintjacobskerk.nl/agenda/middagpauzedienst/2026-06-09/
END:VEVENT
BEGIN:VEVENT
DTSTART;TZID=Europe/Amsterdam:20260616T120000
DTEND;TZID=Europe/Amsterdam:20260616T130000
DTSTAMP:20260421T150059
CREATED:20260417T062442Z
LAST-MODIFIED:20260417T063518Z
UID:10000669-1781611200-1781614800@sintjacobskerk.nl
SUMMARY:Middagpauzedienst
DESCRIPTION:Een gebed om vrede in de wereld\, in onze stad\, in ons leven en in het leven van de mensen om ons heen.
URL:https://sintjacobskerk.nl/agenda/middagpauzedienst/2026-06-16/
END:VEVENT
BEGIN:VEVENT
DTSTART;TZID=Europe/Amsterdam:20260623T120000
DTEND;TZID=Europe/Amsterdam:20260623T130000
DTSTAMP:20260421T150059
CREATED:20260417T062442Z
LAST-MODIFIED:20260417T063518Z
UID:10000670-1782216000-1782219600@sintjacobskerk.nl
SUMMARY:Middagpauzedienst
DESCRIPTION:Een gebed om vrede in de wereld\, in onze stad\, in ons leven en in het leven van de mensen om ons heen.
URL:https://sintjacobskerk.nl/agenda/middagpauzedienst/2026-06-23/
END:VEVENT
BEGIN:VEVENT
DTSTART;TZID=Europe/Amsterdam:20260630T120000
DTEND;TZID=Europe/Amsterdam:20260630T130000
DTSTAMP:20260421T150059
CREATED:20260417T062442Z
LAST-MODIFIED:20260417T063518Z
UID:10000671-1782820800-1782824400@sintjacobskerk.nl
SUMMARY:Middagpauzedienst
DESCRIPTION:Een gebed om vrede in de wereld\, in onze stad\, in ons leven en in het leven van de mensen om ons heen.
URL:https://sintjacobskerk.nl/agenda/middagpauzedienst/2026-06-30/
END:VEVENT
BEGIN:VEVENT
DTSTART;TZID=Europe/Amsterdam:20260707T120000
DTEND;TZID=Europe/Amsterdam:20260707T130000
DTSTAMP:20260421T150059
CREATED:20260417T062442Z
LAST-MODIFIED:20260417T063518Z
UID:10000672-1783425600-1783429200@sintjacobskerk.nl
SUMMARY:Middagpauzedienst
DESCRIPTION:Een gebed om vrede in de wereld\, in onze stad\, in ons leven en in het leven van de mensen om ons heen.
URL:https://sintjacobskerk.nl/agenda/middagpauzedienst/2026-07-07/
END:VEVENT
BEGIN:VEVENT
DTSTART;TZID=Europe/Amsterdam:20260714T120000
DTEND;TZID=Europe/Amsterdam:20260714T130000
DTSTAMP:20260421T150059
CREATED:20260417T062442Z
LAST-MODIFIED:20260417T063518Z
UID:10000673-1784030400-1784034000@sintjacobskerk.nl
SUMMARY:Middagpauzedienst
DESCRIPTION:Een gebed om vrede in de wereld\, in onze stad\, in ons leven en in het leven van de mensen om ons heen.
URL:https://sintjacobskerk.nl/agenda/middagpauzedienst/2026-07-14/
END:VEVENT
BEGIN:VEVENT
DTSTART;TZID=Europe/Amsterdam:20260721T120000
DTEND;TZID=Europe/Amsterdam:20260721T130000
DTSTAMP:20260421T150059
CREATED:20260417T062442Z
LAST-MODIFIED:20260417T063518Z
UID:10000674-1784635200-1784638800@sintjacobskerk.nl
SUMMARY:Middagpauzedienst
DESCRIPTION:Een gebed om vrede in de wereld\, in onze stad\, in ons leven en in het leven van de mensen om ons heen.
URL:https://sintjacobskerk.nl/agenda/middagpauzedienst/2026-07-21/
END:VEVENT
BEGIN:VEVENT
DTSTART;TZID=Europe/Amsterdam:20260728T120000
DTEND;TZID=Europe/Amsterdam:20260728T130000
DTSTAMP:20260421T150059
CREATED:20260417T062442Z
LAST-MODIFIED:20260417T063518Z
UID:10000675-1785240000-1785243600@sintjacobskerk.nl
SUMMARY:Middagpauzedienst
DESCRIPTION:Een gebed om vrede in de wereld\, in onze stad\, in ons leven en in het leven van de mensen om ons heen.
URL:https://sintjacobskerk.nl/agenda/middagpauzedienst/2026-07-28/
END:VEVENT
BEGIN:VEVENT
DTSTART;TZID=Europe/Amsterdam:20260804T120000
DTEND;TZID=Europe/Amsterdam:20260804T130000
DTSTAMP:20260421T150059
CREATED:20260417T062442Z
LAST-MODIFIED:20260417T063518Z
UID:10000676-1785844800-1785848400@sintjacobskerk.nl
SUMMARY:Middagpauzedienst
DESCRIPTION:Een gebed om vrede in de wereld\, in onze stad\, in ons leven en in het leven van de mensen om ons heen.
URL:https://sintjacobskerk.nl/agenda/middagpauzedienst/2026-08-04/
END:VEVENT
BEGIN:VEVENT
DTSTART;TZID=Europe/Amsterdam:20260811T120000
DTEND;TZID=Europe/Amsterdam:20260811T130000
DTSTAMP:20260421T150059
CREATED:20260417T062442Z
LAST-MODIFIED:20260417T063518Z
UID:10000677-1786449600-1786453200@sintjacobskerk.nl
SUMMARY:Middagpauzedienst
DESCRIPTION:Een gebed om vrede in de wereld\, in onze stad\, in ons leven en in het leven van de mensen om ons heen.
URL:https://sintjacobskerk.nl/agenda/middagpauzedienst/2026-08-11/
END:VEVENT
BEGIN:VEVENT
DTSTART;TZID=Europe/Amsterdam:20260818T120000
DTEND;TZID=Europe/Amsterdam:20260818T130000
DTSTAMP:20260421T150059
CREATED:20260417T062442Z
LAST-MODIFIED:20260417T063518Z
UID:10000678-1787054400-1787058000@sintjacobskerk.nl
SUMMARY:Middagpauzedienst
DESCRIPTION:Een gebed om vrede in de wereld\, in onze stad\, in ons leven en in het leven van de mensen om ons heen.
URL:https://sintjacobskerk.nl/agenda/middagpauzedienst/2026-08-18/
END:VEVENT
BEGIN:VEVENT
DTSTART;TZID=Europe/Amsterdam:20260825T120000
DTEND;TZID=Europe/Amsterdam:20260825T130000
DTSTAMP:20260421T150059
CREATED:20260417T062442Z
LAST-MODIFIED:20260417T063518Z
UID:10000679-1787659200-1787662800@sintjacobskerk.nl
SUMMARY:Middagpauzedienst
DESCRIPTION:Een gebed om vrede in de wereld\, in onze stad\, in ons leven en in het leven van de mensen om ons heen.
URL:https://sintjacobskerk.nl/agenda/middagpauzedienst/2026-08-25/
END:VEVENT
BEGIN:VEVENT
DTSTART;TZID=Europe/Amsterdam:20260901T120000
DTEND;TZID=Europe/Amsterdam:20260901T130000
DTSTAMP:20260421T150059
CREATED:20260417T062442Z
LAST-MODIFIED:20260417T063518Z
UID:10000680-1788264000-1788267600@sintjacobskerk.nl
SUMMARY:Middagpauzedienst
DESCRIPTION:Een gebed om vrede in de wereld\, in onze stad\, in ons leven en in het leven van de mensen om ons heen.
URL:https://sintjacobskerk.nl/agenda/middagpauzedienst/2026-09-01/
END:VEVENT
END:VCALENDAR