BEGIN:VCALENDAR
VERSION:2.0
PRODID:-//Cultuurpodium Sint Jacobskerk - ECPv6.2.8.1//NONSGML v1.0//EN
CALSCALE:GREGORIAN
METHOD:PUBLISH
X-WR-CALNAME:Cultuurpodium Sint Jacobskerk
X-ORIGINAL-URL:https://sintjacobskerk.nl
X-WR-CALDESC:Evenementen voor Cultuurpodium Sint Jacobskerk
REFRESH-INTERVAL;VALUE=DURATION:PT1H
X-Robots-Tag:noindex
X-PUBLISHED-TTL:PT1H
BEGIN:VTIMEZONE
TZID:Europe/Amsterdam
BEGIN:DAYLIGHT
TZOFFSETFROM:+0100
TZOFFSETTO:+0200
TZNAME:CEST
DTSTART:20260329T010000
END:DAYLIGHT
BEGIN:STANDARD
TZOFFSETFROM:+0200
TZOFFSETTO:+0100
TZNAME:CET
DTSTART:20261025T010000
END:STANDARD
END:VTIMEZONE
BEGIN:VEVENT
DTSTART;TZID=Europe/Amsterdam:20260315T153000
DTEND;TZID=Europe/Amsterdam:20260315T153000
DTSTAMP:20260422T145035
CREATED:20251120T102027Z
LAST-MODIFIED:20260310T152514Z
UID:17743-1773588600-1773588600@sintjacobskerk.nl
SUMMARY:i.s.m.Stichting Kamermuziek Zeeland: Michelle Pritchard & Natasja Douma
DESCRIPTION:“Reflections of Vision” \nMichelle Pritchard\, altviool en Natasja Douma\, piano brengen een heel gevarieerd programma: \nGeorge Enescu — Konzertstück voor altviool en piano \nFranz Liszt — “Widmung” (naar Schumann) — solo piano \nJohannes Brahms — Sonate in f klein voor altviool en piano\, Op. 120 nr. 1 \nElena Kats-Chernin — Still Life voor altviool en piano \nAstor Piazzolla — Le Grand Tango (voor altviool en piano) \n \n \nPianiste Natasja Douma studeerde aan de conservatoria van Den Haag en Amsterdam en behaalde in 2000 haar masterdiploma. ZIJ is een veelgevraagd duopartner\, kamermusicus en begeleider\, die veelvuldig optreedt in Nederland en internationaal in Frankrijk\, Duitsland\, Hongarije\, Oostenrijk\, Zweden\, België en Luxemburg. Sinds 1998 werkt ze als coachpianist aan het Koninklijk Conservatorium in Den Haag\, waar ze vele jonge artiesten heeft begeleid en begeleidt op weg naar professioneel musicus. \nMichelle Pritchard studeerde viool en altviool aan het Sydney Conservatroium en de Universiteit van Tasmanië. Kamermuziek is haar passie en met verschillende kamermuziekensembles concerteert ze regelmatig in Australië en Europa. Zij voltooide haar Masterproject cum laude in 2022. Een belangrijk onderdeel van haar masters is de samenwerking met hedendaagse componisten\, dit resulteerde in nieuw repertoire voor de altviool. \nTickets à € 22\,50 zijn te koop via deze website en bij boekhandel ’t Spui  \nDe deuren worden geopend om 15.00 uur en het concert vangt aan om 15.30 uur. \n\n\n\n  \n 
URL:https://sintjacobskerk.nl/agenda/stichting-kamermuziek-zeeland/
LOCATION:Sint Jacobskerk\, Oude Markt 2\, Vlissingen\, 4381 HK
CATEGORIES:Zichtbaar op homepage
ATTACH;FMTTYPE=image/jpeg:https://sintjacobskerk.nl/wp-content/uploads/2025/11/DSC07869.jpg
ORGANIZER;CN="Stichting Kamermuziek Zeeland":MAILTO:bestuur@kamermuziekzeeland.nl
END:VEVENT
END:VCALENDAR