BEGIN:VCALENDAR
VERSION:2.0
PRODID:-//Cultuurpodium Sint Jacobskerk - ECPv6.2.8.1//NONSGML v1.0//EN
CALSCALE:GREGORIAN
METHOD:PUBLISH
X-WR-CALNAME:Cultuurpodium Sint Jacobskerk
X-ORIGINAL-URL:https://sintjacobskerk.nl
X-WR-CALDESC:Evenementen voor Cultuurpodium Sint Jacobskerk
REFRESH-INTERVAL;VALUE=DURATION:PT1H
X-Robots-Tag:noindex
X-PUBLISHED-TTL:PT1H
BEGIN:VTIMEZONE
TZID:Europe/Amsterdam
BEGIN:DAYLIGHT
TZOFFSETFROM:+0100
TZOFFSETTO:+0200
TZNAME:CEST
DTSTART:20240331T010000
END:DAYLIGHT
BEGIN:STANDARD
TZOFFSETFROM:+0200
TZOFFSETTO:+0100
TZNAME:CET
DTSTART:20241027T010000
END:STANDARD
END:VTIMEZONE
BEGIN:VEVENT
DTSTART;TZID=Europe/Amsterdam:20240302T193000
DTEND;TZID=Europe/Amsterdam:20240302T193000
DTSTAMP:20260422T160329
CREATED:20231016T090528Z
LAST-MODIFIED:20240220T084624Z
UID:8877-1709407800-1709407800@sintjacobskerk.nl
SUMMARY:Scratch Messiah
DESCRIPTION:Al sinds jaar en dag wordt er in Engeland en Nederland op verschillende plaatsen gescratcht!\nSinds 2000 heeft Zeeland zijn eigen Scratch Messiah en nu alweer voor tweeëntwintigste keer.\nWat is “scratchen”?\n“Beginning from scratch” betekent in het algemeen: helemaal aan het begin beginnen.\nWat muziek betreft: in één dag met een groep mensen een muziekstuk instuderen en uitvoeren.\n’s Morgens lijkt het nog “niets” en ’s avonds is het “heel wat”.\nMeer informatie vindt u op: www.scratchzeeland.nl
URL:https://sintjacobskerk.nl/agenda/scratch-messiah/
CATEGORIES:Zichtbaar op homepage
END:VEVENT
END:VCALENDAR