BEGIN:VCALENDAR
VERSION:2.0
PRODID:-//Cultuurpodium Sint Jacobskerk - ECPv6.2.8.1//NONSGML v1.0//EN
CALSCALE:GREGORIAN
METHOD:PUBLISH
X-WR-CALNAME:Cultuurpodium Sint Jacobskerk
X-ORIGINAL-URL:https://sintjacobskerk.nl
X-WR-CALDESC:Evenementen voor Cultuurpodium Sint Jacobskerk
REFRESH-INTERVAL;VALUE=DURATION:PT1H
X-Robots-Tag:noindex
X-PUBLISHED-TTL:PT1H
BEGIN:VTIMEZONE
TZID:Europe/Amsterdam
BEGIN:DAYLIGHT
TZOFFSETFROM:+0100
TZOFFSETTO:+0200
TZNAME:CEST
DTSTART:20250330T010000
END:DAYLIGHT
BEGIN:STANDARD
TZOFFSETFROM:+0200
TZOFFSETTO:+0100
TZNAME:CET
DTSTART:20251026T010000
END:STANDARD
END:VTIMEZONE
BEGIN:VEVENT
DTSTART;TZID=Europe/Amsterdam:20250717T200000
DTEND;TZID=Europe/Amsterdam:20250717T200000
DTSTAMP:20260421T145028
CREATED:20250531T203132Z
LAST-MODIFIED:20250625T194120Z
UID:15233-1752782400-1752782400@sintjacobskerk.nl
SUMMARY:Zomeravondconcerten 2025: Pianorecital Jacco Lamfers
DESCRIPTION:Bij dit concert in de Sint Jacobskerk hoort u zowel bestaand (Zeeuws) als nieuw werk van Jacco Lamfers\, afgewisseld met pianomuziek van onder anderen Arvo Pärt\, Philip Glass\, Douwe Eisenga en Ludovico Einaudi. Deze componisten hebben een voorliefde voor eenvoud\, herhaling en stilte. \nJacco Lamfers (1970) studeerde piano en compositie aan de conservatoria van Den Haag en Rotterdam\, en vervolgde zijn opleiding in Londen en Zwitserland. Hij werkte\njarenlang als pianist met zangers\, instrumentalisten\, koren en dansers\, gaf les\, trad op op radio en tv\, en speelde op podia in binnen- en buitenland. Van 2013 tot 2018 woonde Lamfers in Schotland\, waar hij verbonden was aan het Royal Conservatoire of Scotland in Glasgow. De ruige natuur van de Schotse Hooglanden bracht hem terug bij het componeren. Hier ontstond onder andere de pianocyclus Highland Meditations. \nNa zijn terugkeer in Nederland vestigde hij zich in Zeeland\, waar de weidsheid\, het water en het licht van het kustlandschap hem opnieuw muzikaal raakten. Dit leidde tot\nnieuwe pianowerken\, waaronder de cyclus Sea Variations for Piano\, mede tot stand gekomen met steun van de gemeente Middelburg. \nLamfers’ muziek richt zich op ruimte en verstilling – een uitnodiging aan de luisteraar om te luisteren naar wat muziek en natuur ons te zeggen hebben. \nTickets: € 20\,00\nKoop uw tickets via deze site of bij boekhandel  ’t Spui\, Oude Markt 5\, Vlissingen. \nhttps://sintjacobskerk.nl/wp-content/uploads/2025/05/Pianorecital-promo2.mp4\nDe zomeravondconcerten zijn mede mogelijk gemaakt door de  \n 
URL:https://sintjacobskerk.nl/agenda/optie-zomeravondconcerten-pianorecital-jacco-lamfers-2-2-2-2/
CATEGORIES:Zichtbaar op homepage
ATTACH;FMTTYPE=image/jpeg:https://sintjacobskerk.nl/wp-content/uploads/2025/01/JaccoLamfers-Vleugel.jpg
END:VEVENT
END:VCALENDAR