BEGIN:VCALENDAR
VERSION:2.0
PRODID:-//Cultuurpodium Sint Jacobskerk - ECPv6.2.8.1//NONSGML v1.0//EN
CALSCALE:GREGORIAN
METHOD:PUBLISH
X-WR-CALNAME:Cultuurpodium Sint Jacobskerk
X-ORIGINAL-URL:https://sintjacobskerk.nl
X-WR-CALDESC:Evenementen voor Cultuurpodium Sint Jacobskerk
REFRESH-INTERVAL;VALUE=DURATION:PT1H
X-Robots-Tag:noindex
X-PUBLISHED-TTL:PT1H
BEGIN:VTIMEZONE
TZID:Europe/Amsterdam
BEGIN:DAYLIGHT
TZOFFSETFROM:+0100
TZOFFSETTO:+0200
TZNAME:CEST
DTSTART:20250330T010000
END:DAYLIGHT
BEGIN:STANDARD
TZOFFSETFROM:+0200
TZOFFSETTO:+0100
TZNAME:CET
DTSTART:20251026T010000
END:STANDARD
END:VTIMEZONE
BEGIN:VEVENT
DTSTART;TZID=Europe/Amsterdam:20250920T200000
DTEND;TZID=Europe/Amsterdam:20250920T200000
DTSTAMP:20260421T163026
CREATED:20250130T095433Z
LAST-MODIFIED:20250701T070627Z
UID:13240-1758398400-1758398400@sintjacobskerk.nl
SUMMARY:Vredesweek-concert: Wereldpremière Le secret de la paix\, Douwe Eisenga
DESCRIPTION:  \nVocaal Ensemble Cantare Goes en strijkersensemble ConLegno van de Muziekschool o.l.v. Pim Overduin verzorgen op 20 september het openingsconcert van de Vredesweek 2025. De Vredesweek wordt georganiseerd door Vredeswerkgroep Walcheren onder het motto ‘Nietsdoen is geen optie’. \nVrede. De hele wereld snakt ernaar. Maar vrede lijkt verder weg dan ooit. En toch\, als we ons allemaal op onze eigen plek en eigen manier inzetten voor vrede\, dan heeft dat effect. Dat kan niet anders. Nietsdoen is geen optie. \nDe Zeeuwse componist Douwe Eisenga schreef het koorwerk Le secret de la paix op teksten van de Perzische dichter Omar Khayyam. Dit melodieus-minimalistische klankwerk zal op 20 september in de Jacobskerk in Vlissingen zijn wereldpremière beleven tijdens het openingsconcert van de Vredesweek. \nMaar er klinkt meer vredesmuziek: samen met Con Legno voert Cantare The Sunrise Mass van Ola Gjeilo uit. Een prachtig werk dat eindigt met het bekende The Ground. Ook Again van David Lang (op teksten van de Bijbelse Prediker) en The Fruit of Silence van Peteris Vasks (op een tekst van Moeder Theresa) staan op het programma. \nVerlangt u ook zo naar vrede? Laat u dan inspireren door mooie muziek en gesproken woord op 20 september in de Jacobskerk in Vlissingen. Het programma begint om 20 uur\, de kerk is open om 19 uur. Kaarten kosten €15 (€10 voor jongeren <18) en zijn te bestellen via deze website of aan de zaal. Van harte welkom! \nMeer informatie: 06-44980502\, Werkgroep PAX Vredesweek Walcheren\, rvkmiddelburg@zeelandnet.nl 
URL:https://sintjacobskerk.nl/agenda/optie-vredesweek-concert/
CATEGORIES:Zichtbaar op homepage
ATTACH;FMTTYPE=image/png:https://sintjacobskerk.nl/wp-content/uploads/2025/01/peaceful-UN-2025.png
END:VEVENT
END:VCALENDAR