BEGIN:VCALENDAR
VERSION:2.0
PRODID:-//Cultuurpodium Sint Jacobskerk - ECPv6.2.8.1//NONSGML v1.0//EN
CALSCALE:GREGORIAN
METHOD:PUBLISH
X-WR-CALNAME:Cultuurpodium Sint Jacobskerk
X-ORIGINAL-URL:https://sintjacobskerk.nl
X-WR-CALDESC:Evenementen voor Cultuurpodium Sint Jacobskerk
REFRESH-INTERVAL;VALUE=DURATION:PT1H
X-Robots-Tag:noindex
X-PUBLISHED-TTL:PT1H
BEGIN:VTIMEZONE
TZID:Europe/Amsterdam
BEGIN:DAYLIGHT
TZOFFSETFROM:+0100
TZOFFSETTO:+0200
TZNAME:CEST
DTSTART:20240331T010000
END:DAYLIGHT
BEGIN:STANDARD
TZOFFSETFROM:+0200
TZOFFSETTO:+0100
TZNAME:CET
DTSTART:20241027T010000
END:STANDARD
END:VTIMEZONE
BEGIN:VEVENT
DTSTART;TZID=Europe/Amsterdam:20240505T120000
DTEND;TZID=Europe/Amsterdam:20240505T133000
DTSTAMP:20260422T115706
CREATED:20240104T152634Z
LAST-MODIFIED:20240419T103609Z
UID:9694-1714910400-1714915800@sintjacobskerk.nl
SUMMARY:Van Randwijklezing / Bevrijdingsfestival 2024
DESCRIPTION:VAN RANDWIJK LEZING 2024\nOp zondag 5 mei 2024 wordt om 12.00u de Van Randwijk lezing uitgesproken in de Sint-Jacobskerk te Vlissingen. De gastspreker voor 2024 is Mevrouw Kathleen Ferrier. Mevrouw Ferrier is voormalig tweede kamerlid en deskundige op het gebied van ontwikkelingssamenwerking\, mensenrechten en diversiteit.\n \nGRATIS AANMELDEN\nWilt u de van Randwijk lezing gratis bijwonen dan kunt u via de rode  “koop tickets”- knop uzelf aanmelden. U kunt maximaal 1 entreebewijs per persoon aanvragen\, het entreeticket ontvangt u per e-mail. \nDe deuren van de kerk gaan om 11.15 uur open.
URL:https://sintjacobskerk.nl/agenda/optie-van-randwijklezing-bevrijdingsfestival-2024/
CATEGORIES:Zichtbaar op homepage
ATTACH;FMTTYPE=image/jpeg:https://sintjacobskerk.nl/wp-content/uploads/2024/04/KathleenFerrier.jpg
ORGANIZER;CN="Bevrijdingsfestival Zeeland":MAILTO:mac.verburg@gmail.com
END:VEVENT
END:VCALENDAR