BEGIN:VCALENDAR
VERSION:2.0
PRODID:-//Cultuurpodium Sint Jacobskerk - ECPv6.2.8.1//NONSGML v1.0//EN
CALSCALE:GREGORIAN
METHOD:PUBLISH
X-WR-CALNAME:Cultuurpodium Sint Jacobskerk
X-ORIGINAL-URL:https://sintjacobskerk.nl
X-WR-CALDESC:Evenementen voor Cultuurpodium Sint Jacobskerk
REFRESH-INTERVAL;VALUE=DURATION:PT1H
X-Robots-Tag:noindex
X-PUBLISHED-TTL:PT1H
BEGIN:VTIMEZONE
TZID:Europe/Amsterdam
BEGIN:DAYLIGHT
TZOFFSETFROM:+0100
TZOFFSETTO:+0200
TZNAME:CEST
DTSTART:20240331T010000
END:DAYLIGHT
BEGIN:STANDARD
TZOFFSETFROM:+0200
TZOFFSETTO:+0100
TZNAME:CET
DTSTART:20241027T010000
END:STANDARD
END:VTIMEZONE
BEGIN:VEVENT
DTSTART;TZID=Europe/Amsterdam:20240608T140000
DTEND;TZID=Europe/Amsterdam:20240608T160000
DTSTAMP:20260422T111856
CREATED:20240507T082335Z
LAST-MODIFIED:20240507T082335Z
UID:10638-1717855200-1717862400@sintjacobskerk.nl
SUMMARY:Optie->pianomuziek door leerlingen Jaco en Marcela Simons
DESCRIPTION:
URL:https://sintjacobskerk.nl/agenda/optie-pianomuziek-door-leerlingen-jaco-en-marcela-simons/
END:VEVENT
END:VCALENDAR