BEGIN:VCALENDAR
VERSION:2.0
PRODID:-//Cultuurpodium Sint Jacobskerk - ECPv6.2.8.1//NONSGML v1.0//EN
CALSCALE:GREGORIAN
METHOD:PUBLISH
X-WR-CALNAME:Cultuurpodium Sint Jacobskerk
X-ORIGINAL-URL:https://sintjacobskerk.nl
X-WR-CALDESC:Evenementen voor Cultuurpodium Sint Jacobskerk
REFRESH-INTERVAL;VALUE=DURATION:PT1H
X-Robots-Tag:noindex
X-PUBLISHED-TTL:PT1H
BEGIN:VTIMEZONE
TZID:Europe/Amsterdam
BEGIN:DAYLIGHT
TZOFFSETFROM:+0100
TZOFFSETTO:+0200
TZNAME:CEST
DTSTART:20250330T010000
END:DAYLIGHT
BEGIN:STANDARD
TZOFFSETFROM:+0200
TZOFFSETTO:+0100
TZNAME:CET
DTSTART:20251026T010000
END:STANDARD
END:VTIMEZONE
BEGIN:VEVENT
DTSTART;TZID=Europe/Amsterdam:20251219T140000
DTEND;TZID=Europe/Amsterdam:20251220T160000
DTSTAMP:20260421T201358
CREATED:20251208T130916Z
LAST-MODIFIED:20251208T130918Z
UID:18105-1766152800-1766246400@sintjacobskerk.nl
SUMMARY:Vlissingen Schittert  Kerstmarkt
DESCRIPTION:Twee dagen lang\, op 19 en 20 december vindt  u in en rond de Sint Jacobskerk een warme\, gezellige kerstmarkt met veel sfeervolle concerten van veelal Vlissingse musici. \nBeide dagen vindt u zo’n 20 kramen in de kerk met een zeer divers aanbod waaronder verschillende kunstenaars uit de regio. De markt is gratis te bezoeken en start op vrijdagmiddag om 14.00 uur en blijft die dag open tot 21.00 uur.\nOp zaterdag is de markt te bezoeken vanaf 11.00 uur. Zij sluit in de middag om 16.00 waarna de kerk in gereedheid wordt gebracht voor het ‘Schitterend Kerstconcert’ van het Vissings Violistenorkest\, de Sea Sound Singers en anderen. \nTijdens de markt heeft Cultuurpodium Sint Jacobskerk de volgende artiesten voor u geboekt: \n\nVrijdagmiddag 19 december van 14.30 – 16.30 uur: Ruben en Naomi de Keijzer met een keur uit verschillende covers\, ook de bekende christmassongs als ‘Happy xmas’ of ‘let it snow’ zullen niet ontbreken.  De karakteristieke akoestiek van de Sint Jacobskerk zal worden benut bij nummers als ‘Hallelujah’ of ‘Viva la Vida’. \n\nVrijdagavond 19 december van 18.15 – 19.30 uur: Trio Stardust: Lia Bostelaar\, Theo van Bokkem en Piet Verpoorte brengen bekende en minder bekende covers van nummers uit de jaren ’70 tot nu. Denk daarbij aan Americana en singer/songwriter repertoire. \n\nVrijdagavond 19 december van 19.30 – 20.30 uur: Ankie Kaljouw op panfluit en Lenie Stokman op de Steinway-vleugel vullen de kerk met hun inspirerende muzikale bijdrage\, bekende en minder bekende kerstmuziek staan op het programma maar ook een Roemeense zigeuner romance en wie weet een tango…. \n\nZaterdagmorgen 20 december van 11.15 tot 12.45 uur: Twee orkesten\, Prima Volta en BeLaDaNo\, in 2021 en respectievelijk 2023 opgericht als Nieuw Talentenorkest van de Muziek Vereniging Vlissingen spelen in harmoniebezetting van pop tot klassiek. \n\nZaterdagmiddag 20 december van 13.00 tot 15.00 uur: The Dickens Singers\,  een enthousiaste groep carolzingers\, waarvan de meesten ook actief meezingen bij het jaarlijkse Festival of Lessons and Carols op zondag 21 december in de Sint Jacobskerk om 16.30 uur
URL:https://sintjacobskerk.nl/agenda/optie-kerstmarkt-2-2/
CATEGORIES:Zichtbaar op homepage
ATTACH;FMTTYPE=image/jpeg:https://sintjacobskerk.nl/wp-content/uploads/2025/11/P1020465.jpg
ORGANIZER;CN="Cultuurpodium Sint Jacobskerk":MAILTO:verhuur@sintjacobskerk.nl
END:VEVENT
END:VCALENDAR