BEGIN:VCALENDAR
VERSION:2.0
PRODID:-//Cultuurpodium Sint Jacobskerk - ECPv6.2.8.1//NONSGML v1.0//EN
CALSCALE:GREGORIAN
METHOD:PUBLISH
X-WR-CALNAME:Cultuurpodium Sint Jacobskerk
X-ORIGINAL-URL:https://sintjacobskerk.nl
X-WR-CALDESC:Evenementen voor Cultuurpodium Sint Jacobskerk
REFRESH-INTERVAL;VALUE=DURATION:PT1H
X-Robots-Tag:noindex
X-PUBLISHED-TTL:PT1H
BEGIN:VTIMEZONE
TZID:Europe/Amsterdam
BEGIN:DAYLIGHT
TZOFFSETFROM:+0100
TZOFFSETTO:+0200
TZNAME:CEST
DTSTART:20250330T010000
END:DAYLIGHT
BEGIN:STANDARD
TZOFFSETFROM:+0200
TZOFFSETTO:+0100
TZNAME:CET
DTSTART:20251026T010000
END:STANDARD
END:VTIMEZONE
BEGIN:VEVENT
DTSTART;TZID=Europe/Amsterdam:20250301T200000
DTEND;TZID=Europe/Amsterdam:20250301T200000
DTSTAMP:20260421T170028
CREATED:20241208T162125Z
LAST-MODIFIED:20250116T100841Z
UID:12386-1740859200-1740859200@sintjacobskerk.nl
SUMMARY:Kamermuziek Zeeland: Lisa Jacobs & the String Soloists
DESCRIPTION:Lisa Jacobs & The String Soloists \nThe String Soloists is een dynamisch internationaal strijkensemble gevestigd in Amsterdam\, bestaande uit 12 strijkers die optreden onder leiding van artistiek leider Lisa Jacobs. Hun benadering van muziek maken zonder dirigent is wat de groep onderscheidt van de reguliere kamerorkesten. Het vereist intensieve betrokkenheid van alle muzikanten. \nThe String Soloists\, opgericht in 2015\, heeft opgetreden op alle grote podia in Nederland en uitgebreid in heel Europa. Hoogtepunten van dit seizoen waren onder meer een uitgebreide reeks concerten in het Concertgebouw in Amsterdam en concertreizen naar Italië\, Duitsland en Frankrijk. Volgend seizoen staan er naast hun activiteiten in Nederland ook concerten gepland in Kopenhagen (Tivoli Concert Hall)\, België en Duitsland.\nHet repertoire van The String Soloists omvat een verscheidenheid aan stijlen\, variërend van barok tot hedendaagse werken. Naast uitvoeringen van het mainstream repertoire\, richt het ensemble zich op het uitvoeren van onterecht verwaarloosde werken. \nDe samenstelling van het ensemble stelt hen in staat om zowel als ensemblelid als solist binnen de groep te spelen. Naast hun betrokkenheid bij de String Soloists zijn alle muzikanten individueel actieve leden van de internationale muziekscene\, zowel als kamermuzikanten als solisten. The String Soloists hebben meegewerkt aan verschillende internationaal geprezen cd-opnames voor het label Cobra Records en zijn vaste gasten op alle grote Nederlandse radio- en televisieprogramma’s met live concertregistraties. \nLeden: \nLisa Jacobs (artistiek leider viool)\, Emma Roijackers (concertmeester viool)\, Daniel Lee (viool)\, Nika Toskan (viool)\, Ivo Meinen (viool)\, Wan-Ru Cheng (viool)\, Katya Woloshyn\, (altviool)\, Maria Sofia Espiga (altviool)\, Aleksandra Kaspera (cello)\, Isabel Vaz (cello)\, Jordi Carrasco Hjelm (bas)\, Lucas Faucher (bas)\, Jan van Grootheest (klavecimbel). \nProgramma\nPärt – Piccolo Concerto for trumpet on motif BACH\nBach – Vioolconcert in E\, BWV 1042\nPärt – Fratres\n\n-pauze\n\nBach – Aria Goldberg -Variaties\nPärt – Spiegel im Spiegel\nBach – Vioolconcert in d\, BWV 1052r\n\n  \nTickets €22\,50 CJP/jeugd tot 25 €7\,50 te koop bij Boekhandel ’t Spui\, Vlissingen en\nBoekhandel De Drukkery\, Middelburg\nen te bestellen met de rode button ‘koop tickets’
URL:https://sintjacobskerk.nl/agenda/optie-kamermuziek-zeeland-concert-string-soloists/
CATEGORIES:Zichtbaar op homepage
ATTACH;FMTTYPE=image/jpeg:https://sintjacobskerk.nl/wp-content/uploads/2024/12/String-Soloists.jpg
ORGANIZER;CN="Stichting Kamermuziek Zeeland":MAILTO:bestuur@kamermuziekzeeland.nl
END:VEVENT
END:VCALENDAR