BEGIN:VCALENDAR
VERSION:2.0
PRODID:-//Cultuurpodium Sint Jacobskerk - ECPv6.2.8.1//NONSGML v1.0//EN
CALSCALE:GREGORIAN
METHOD:PUBLISH
X-WR-CALNAME:Cultuurpodium Sint Jacobskerk
X-ORIGINAL-URL:https://sintjacobskerk.nl
X-WR-CALDESC:Evenementen voor Cultuurpodium Sint Jacobskerk
REFRESH-INTERVAL;VALUE=DURATION:PT1H
X-Robots-Tag:noindex
X-PUBLISHED-TTL:PT1H
BEGIN:VTIMEZONE
TZID:Europe/Amsterdam
BEGIN:DAYLIGHT
TZOFFSETFROM:+0100
TZOFFSETTO:+0200
TZNAME:CEST
DTSTART:20240331T010000
END:DAYLIGHT
BEGIN:STANDARD
TZOFFSETFROM:+0200
TZOFFSETTO:+0100
TZNAME:CET
DTSTART:20241027T010000
END:STANDARD
END:VTIMEZONE
BEGIN:VEVENT
DTSTART;TZID=Europe/Amsterdam:20240319T190000
DTEND;TZID=Europe/Amsterdam:20240319T190000
DTSTAMP:20260421T235120
CREATED:20231114T142408Z
LAST-MODIFIED:20240228T185037Z
UID:9316-1710874800-1710874800@sintjacobskerk.nl
SUMMARY:Presentatie van het boekenweekgeschenk met de familie Chabot
DESCRIPTION:Dinsdagavond 19 maart komt de grootste schrijversfamilie van Nederland\, de familie Chabot voor een interview naar de Sint Jacobskerk. De familieleden schreven samen het boekenweekgeschenk van dit jaar: “Gezinsverpakking.” \nHet interview wordt gehouden door schrijver en presentator Cesar Majorana. Hij is onder andere bekend van het online programma Club HUB op BNNVARA. \nDeze avond in het kader van de boekenweek 2024\, waarop ook een voor Vlissingen unieke creatie zal worden onthuld\,  is georganiseerd door boekhandel ’t Spui in samenwerking met boekhandel de Drvkkerij in Middelburg.
URL:https://sintjacobskerk.nl/agenda/optie-boekhandel-t-spui/
CATEGORIES:Zichtbaar op homepage
END:VEVENT
END:VCALENDAR