BEGIN:VCALENDAR
VERSION:2.0
PRODID:-//Cultuurpodium Sint Jacobskerk - ECPv6.2.8.1//NONSGML v1.0//EN
CALSCALE:GREGORIAN
METHOD:PUBLISH
X-WR-CALNAME:Cultuurpodium Sint Jacobskerk
X-ORIGINAL-URL:https://sintjacobskerk.nl
X-WR-CALDESC:Evenementen voor Cultuurpodium Sint Jacobskerk
REFRESH-INTERVAL;VALUE=DURATION:PT1H
X-Robots-Tag:noindex
X-PUBLISHED-TTL:PT1H
BEGIN:VTIMEZONE
TZID:Europe/Amsterdam
BEGIN:DAYLIGHT
TZOFFSETFROM:+0100
TZOFFSETTO:+0200
TZNAME:CEST
DTSTART:20240331T010000
END:DAYLIGHT
BEGIN:STANDARD
TZOFFSETFROM:+0200
TZOFFSETTO:+0100
TZNAME:CET
DTSTART:20241027T010000
END:STANDARD
END:VTIMEZONE
BEGIN:VEVENT
DTSTART;TZID=Europe/Amsterdam:20240531T200000
DTEND;TZID=Europe/Amsterdam:20240531T200000
DTSTAMP:20260422T094123
CREATED:20231027T152200Z
LAST-MODIFIED:20240510T173731Z
UID:9093-1717185600-1717185600@sintjacobskerk.nl
SUMMARY:Vlissingen Maritiem: Concert Marinierskapel der Koninklijke Marine
DESCRIPTION:In het kader van het festival Vlissingen Maritiem van vrijdag 31 mei tot zondag 2 juni komt de Marinierskapel der Koninklijke Marine op vrijdagavond 31 mei naar de Sint Jacobserk. \nDe Marinierskapel der Koninklijke Marine is één van de 3 professionele harmonieorkesten van de Nederlandse krijgsmacht. Haar belangrijkste taak is om militaire ceremonies en ceremonies voor het Koninklijk Huis muzikaal te begeleiden. Dat gebeurt vaak in samenwerking met de Tamboers en Pijpers van het Korps Mariniers. \nIn het kader van het  Vlissingen Maritiem komt de Marinierskapel der Koninklijke Marine op vrijdagavond 31 mei naar Vlissingen voor een benefiet concert voor onderzoek naar MS. Jeroen en Irene uit Rockanje spelen beiden fulltime en met veel plezier in de Marinierskapel der Koninklijke Marine\, respectievelijk trompet en hoorn. Aangezien Irene MS heeft doneert de Marinierskapel een deel van de opbrengst van het concert voor onderzoek naar MS. \n 
URL:https://sintjacobskerk.nl/agenda/optie-3/
CATEGORIES:Zichtbaar op homepage
ATTACH;FMTTYPE=image/jpeg:https://sintjacobskerk.nl/wp-content/uploads/2023/10/Marinierskapel-in-concert-foto-Louis-Meulstee-1.jpg
ORGANIZER;CN="Vlissingen Maritiem":MAILTO:anja.dbvu@zeelandnet.nl
END:VEVENT
END:VCALENDAR