BEGIN:VCALENDAR
VERSION:2.0
PRODID:-//Cultuurpodium Sint Jacobskerk - ECPv6.2.8.1//NONSGML v1.0//EN
CALSCALE:GREGORIAN
METHOD:PUBLISH
X-WR-CALNAME:Cultuurpodium Sint Jacobskerk
X-ORIGINAL-URL:https://sintjacobskerk.nl
X-WR-CALDESC:Evenementen voor Cultuurpodium Sint Jacobskerk
REFRESH-INTERVAL;VALUE=DURATION:PT1H
X-Robots-Tag:noindex
X-PUBLISHED-TTL:PT1H
BEGIN:VTIMEZONE
TZID:Europe/Amsterdam
BEGIN:DAYLIGHT
TZOFFSETFROM:+0100
TZOFFSETTO:+0200
TZNAME:CEST
DTSTART:20240331T010000
END:DAYLIGHT
BEGIN:STANDARD
TZOFFSETFROM:+0200
TZOFFSETTO:+0100
TZNAME:CET
DTSTART:20241027T010000
END:STANDARD
END:VTIMEZONE
BEGIN:VEVENT
DTSTART;TZID=Europe/Amsterdam:20240310T153000
DTEND;TZID=Europe/Amsterdam:20240310T153000
DTSTAMP:20260422T025450
CREATED:20231027T121219Z
LAST-MODIFIED:20231116T111157Z
UID:9082-1710084600-1710084600@sintjacobskerk.nl
SUMMARY:Muziek Podium Zeeland:  4 pianisten brengen Dilerium
DESCRIPTION:De Oekraïense componist Maxim Shalygin noemt de cyclus Similar zijn levenswerk. Deel 4\nDelirium schreef hij in opdracht van het Muziekgebouw Amsterdam. Shalygin probeert in elk deel van deze cyclus de klankkleuren van identieke instrumenten uit. In de voorgaande delen Lacrimosa zeven violen\, Todos los fuegos el fuego acht saxofoons\, Severade negen cello’s en in Delirium vier piano’s.\nDe pianisten Tomoko Mukaiyama\, Laura Sandee\, Gerard Bouwhuis en Antonii Baryshevskyi betoveren in deze compositie met ongehoorde nuances van klank en emotie het publiek.\nDe piano heeft een heel precieze aanslag\, maar door ritmes voortdurend te laten verschuiven ontregelt Shalygin het gevoel van een duidelijke puls. Zo creëert hij een meeslepende muzikale flow die vrij in de ruimte lijkt te zweven. ‘Het is mijn idee om de luisteraar geleidelijk in een staat van gewichtloosheid te brengen’.\nElk deel van deze cyclus is geschreven voor virtuoze musici die de meest complexe en verfijnde kleuren van de partituur kunnen verklanken. Elk nieuw hoofdstuk verlegt de grenzen van bespeling van de gebruikte instrumenten. Tijdens het concert kan de luisteraar geleidelijk wennen aan de taal van een nieuwe klankwereld\, en wordt de meditatieve beleving aangewakkerd.\nDelirium illustreert een grote verwardheid. Een toestand waarin levendige ideeën en herinneringen ontstaan\, zodat er een verkeerde oriëntatie ontstaat van tijd en ruimte. In het muzikale labyrint van Delirium vervagen eveneens de waarden van ruimte. Als het stuk begint wordt de luisteraar ondergedompeld in een ruimte waarin klokken luiden\, de initiatie van de meditatieve beleving. Het klokgeluid wordt een brug tussen het drukke leven buiten de zaaldeuren en de intimiteit van de concertzaal. De vier pianisten spelen tonale en poly-tonale klanken in een speciale akkoordenstructuur. De afwisseling van hard en zacht zorgen voor spanning en een aparte dynamiek. Boeiend en verrassend.\nTickets: €20\,00/ €17\,50
URL:https://sintjacobskerk.nl/agenda/muziek-podium-zeeland-concert-met-4-vleugels/
CATEGORIES:Zichtbaar op homepage
END:VEVENT
END:VCALENDAR