BEGIN:VCALENDAR
VERSION:2.0
PRODID:-//Cultuurpodium Sint Jacobskerk - ECPv6.2.8.1//NONSGML v1.0//EN
CALSCALE:GREGORIAN
METHOD:PUBLISH
X-WR-CALNAME:Cultuurpodium Sint Jacobskerk
X-ORIGINAL-URL:https://sintjacobskerk.nl
X-WR-CALDESC:Evenementen voor Cultuurpodium Sint Jacobskerk
REFRESH-INTERVAL;VALUE=DURATION:PT1H
X-Robots-Tag:noindex
X-PUBLISHED-TTL:PT1H
BEGIN:VTIMEZONE
TZID:Europe/Amsterdam
BEGIN:DAYLIGHT
TZOFFSETFROM:+0100
TZOFFSETTO:+0200
TZNAME:CEST
DTSTART:20240331T010000
END:DAYLIGHT
BEGIN:STANDARD
TZOFFSETFROM:+0200
TZOFFSETTO:+0100
TZNAME:CET
DTSTART:20241027T010000
END:STANDARD
END:VTIMEZONE
BEGIN:VEVENT
DTSTART;TZID=Europe/Amsterdam:20240705T120000
DTEND;TZID=Europe/Amsterdam:20240705T130000
DTSTAMP:20260422T094603
CREATED:20240430T092313Z
LAST-MODIFIED:20240430T093125Z
UID:10571-1720180800-1720184400@sintjacobskerk.nl
SUMMARY:Middagpauzeconcert Vincent de Ridder
DESCRIPTION:In de maanden juli en augustus staan iedere vrijdagmiddag tussen 12.00 en 13.00 uur weer de middagpauzeorgelconcerten in de agenda. Deze concerten zijn gratis toegankelijk. Na afloop van het concert wordt er een vrijwillige bijdrage gevraagd voor de kosten die aan deze concerten zijn verbonden. Vrijdag 5 juli wordt het Flentroporgel bespeeld door Vincent de Ridder uit Rotteredam  \nHartelijk welkom!
URL:https://sintjacobskerk.nl/agenda/middagpauzeconcert-vincent-de-ridder/
CATEGORIES:Zichtbaar op homepage
ATTACH;FMTTYPE=image/jpeg:https://sintjacobskerk.nl/wp-content/uploads/2024/04/DN-15-22-10_-3367-HDR.jpg
ORGANIZER;CN="Cultuurpodium Sint Jacobskerk":MAILTO:verhuur@sintjacobskerk.nl
END:VEVENT
END:VCALENDAR