BEGIN:VCALENDAR
VERSION:2.0
PRODID:-//Cultuurpodium Sint Jacobskerk - ECPv6.2.8.1//NONSGML v1.0//EN
CALSCALE:GREGORIAN
METHOD:PUBLISH
X-WR-CALNAME:Cultuurpodium Sint Jacobskerk
X-ORIGINAL-URL:https://sintjacobskerk.nl
X-WR-CALDESC:Evenementen voor Cultuurpodium Sint Jacobskerk
REFRESH-INTERVAL;VALUE=DURATION:PT1H
X-Robots-Tag:noindex
X-PUBLISHED-TTL:PT1H
BEGIN:VTIMEZONE
TZID:Europe/Amsterdam
BEGIN:DAYLIGHT
TZOFFSETFROM:+0100
TZOFFSETTO:+0200
TZNAME:CEST
DTSTART:20260329T010000
END:DAYLIGHT
BEGIN:STANDARD
TZOFFSETFROM:+0200
TZOFFSETTO:+0100
TZNAME:CET
DTSTART:20261025T010000
END:STANDARD
END:VTIMEZONE
BEGIN:VEVENT
DTSTART;TZID=Europe/Amsterdam:20260731T120000
DTEND;TZID=Europe/Amsterdam:20260731T123000
DTSTAMP:20260421T180246
CREATED:20260302T101604Z
LAST-MODIFIED:20260318T174421Z
UID:19615-1785499200-1785501000@sintjacobskerk.nl
SUMMARY:Middagpauze-Orgelconcert: Marien Stouten (Brouwershaven)
DESCRIPTION:In de maanden juli en augustus kunt u iedere vrijdagmiddag vanaf 12.00 uur een orgelconcert op het Flentrop-orgel van de Sint Jacobskerk bijwonen. De toegang is gratis\, na afloop kunt u een vrijwillige gift geven ter bestrijding van de kosten voor deze concerten. \nStap ook binnen in het culturele hart van Vlissingen en geniet van dit inspirerende concert!
URL:https://sintjacobskerk.nl/agenda/middagpauze-orgelconcert-6/
ATTACH;FMTTYPE=image/jpeg:https://sintjacobskerk.nl/wp-content/uploads/2024/04/MM_185.jpg
ORGANIZER;CN="Cultuurpodium Sint Jacobskerk":MAILTO:verhuur@sintjacobskerk.nl
END:VEVENT
END:VCALENDAR