BEGIN:VCALENDAR
VERSION:2.0
PRODID:-//Cultuurpodium Sint Jacobskerk - ECPv6.2.8.1//NONSGML v1.0//EN
CALSCALE:GREGORIAN
METHOD:PUBLISH
X-WR-CALNAME:Cultuurpodium Sint Jacobskerk
X-ORIGINAL-URL:https://sintjacobskerk.nl
X-WR-CALDESC:Evenementen voor Cultuurpodium Sint Jacobskerk
REFRESH-INTERVAL;VALUE=DURATION:PT1H
X-Robots-Tag:noindex
X-PUBLISHED-TTL:PT1H
BEGIN:VTIMEZONE
TZID:Europe/Amsterdam
BEGIN:DAYLIGHT
TZOFFSETFROM:+0100
TZOFFSETTO:+0200
TZNAME:CEST
DTSTART:20240331T010000
END:DAYLIGHT
BEGIN:STANDARD
TZOFFSETFROM:+0200
TZOFFSETTO:+0100
TZNAME:CET
DTSTART:20241027T010000
END:STANDARD
BEGIN:DAYLIGHT
TZOFFSETFROM:+0100
TZOFFSETTO:+0200
TZNAME:CEST
DTSTART:20250330T010000
END:DAYLIGHT
BEGIN:STANDARD
TZOFFSETFROM:+0200
TZOFFSETTO:+0100
TZNAME:CET
DTSTART:20251026T010000
END:STANDARD
END:VTIMEZONE
BEGIN:VEVENT
DTSTART;TZID=Europe/Amsterdam:20250202T170000
DTEND;TZID=Europe/Amsterdam:20250202T170000
DTSTAMP:20260422T023955
CREATED:20240404T075640Z
LAST-MODIFIED:20240404T075820Z
UID:10000244-1738515600-1738515600@sintjacobskerk.nl
SUMMARY:Evensong
DESCRIPTION:
URL:https://sintjacobskerk.nl/agenda/evensong-14/2025-02-02/2/
END:VEVENT
BEGIN:VEVENT
DTSTART;TZID=Europe/Amsterdam:20250202T080000
DTEND;TZID=Europe/Amsterdam:20250202T170000
DTSTAMP:20260422T023955
CREATED:20240404T075640Z
LAST-MODIFIED:20240404T075820Z
UID:10000245-1738483200-1738515600@sintjacobskerk.nl
SUMMARY:Evensong
DESCRIPTION:
URL:https://sintjacobskerk.nl/agenda/evensong-14/2025-02-02/1/
END:VEVENT
BEGIN:VEVENT
DTSTART;TZID=Europe/Amsterdam:20250126T153000
DTEND;TZID=Europe/Amsterdam:20250126T153000
DTSTAMP:20260422T023955
CREATED:20241111T155919Z
LAST-MODIFIED:20241111T155920Z
UID:10000316-1737905400-1737905400@sintjacobskerk.nl
SUMMARY:MPZ: Frank van de Laar en Anastasia Feruleva
DESCRIPTION:‘Pareltjes’ van Mendelssohn tot en met Piazzolla \nHet seizoen 2025 begint met een recital waarin muzikale hoogtepunten uit de Romantiek worden vertolkt. Dromerige Franse impressionistische werkjes van Fauré en romantische composities van Schubert\, Chopin en Mendelssohn. Celliste Anastasia Feruleva en pianist Frans van Laar weten het publiek te verrassen en sluiten hun optreden van ‘Pareltjes’ af met Le Grand Tango van Piazzolla. Als hoofdbrokken worden de Arpeggione Sonate van Schubert en de Zwaan uit Carnaval des Animaux van Saint-Saëns geserveerd.\nAnastasia Feruleva staat bekend als een expressieve vertolkster\, die het publiek weet te boeien met haar artistieke vermogen en authenticiteit. Deze Russische cellisyte studeerde in Sint-Petersburg en trad al op jonge leeftijd op. In 2010 vestigde zij zich in Nederland en behaalde haar bachelor bij Larissa Groeneveld. Daarna specialiseerde zij zich in Lübeck bij Troels Svane. Zij bouwde haar carrière uit\, volgde masterclasses en trad op als soliste met symfonische orkesten. Zij is actief als kamermusicus en is ook een veelgevraagde gast op festivals. In 2018 bracht ze haar debuut-cd Ballets Russes uit met Frank van de Laar. Zij bespeelt een cello van Rombouts (1710).\nFrank van de Laar Studeerde bij de bekende pianoleraar Jan Wijn aan het Sweelinck Conservatorium Amsterdam. Hij studeerde af met de hoogst denkbare onderscheiding in 1989. Hij vervolgde zijn studie in Hannover en bij Naum Grubert in Amsterdam. Hij haalde de eerste prijs op het Postbank-Sweelinck concours en concerteerde in vele landen. Zijn repertoire omvat de gehele periode van Bach tot heden\, waarbij ook minder bekende oude- en nieuwe meesterwerken een interessante rol spelen. Hij is een actief kamermuziekmusicus en als hoofdvakleraar verbonden aan de conservatoria Amsterdam en Zwolle.
URL:https://sintjacobskerk.nl/agenda/frank-van-de-laar-en-anastasia-feruleva-2/
CATEGORIES:Zichtbaar op homepage
ATTACH;FMTTYPE=image/png:https://sintjacobskerk.nl/wp-content/uploads/2024/11/Anastasia-Feruleva.png
END:VEVENT
BEGIN:VEVENT
DTSTART;TZID=Europe/Amsterdam:20250113T100000
DTEND;TZID=Europe/Amsterdam:20250113T160000
DTSTAMP:20260422T023955
CREATED:20250105T182213Z
LAST-MODIFIED:20250105T182356Z
UID:10000380-1736762400-1736784000@sintjacobskerk.nl
SUMMARY:Herdenkingsdienst
DESCRIPTION:
URL:https://sintjacobskerk.nl/agenda/herdenkingsdienst-4/
END:VEVENT
BEGIN:VEVENT
DTSTART;TZID=Europe/Amsterdam:20250112T120000
DTEND;TZID=Europe/Amsterdam:20250112T150000
DTSTAMP:20260422T023955
CREATED:20241015T172119Z
LAST-MODIFIED:20241015T172120Z
UID:10000333-1736683200-1736694000@sintjacobskerk.nl
SUMMARY:kliederkerk
DESCRIPTION:
URL:https://sintjacobskerk.nl/agenda/kliederkerk-2/
END:VEVENT
BEGIN:VEVENT
DTSTART;TZID=Europe/Amsterdam:20250111T193000
DTEND;TZID=Europe/Amsterdam:20250111T193000
DTSTAMP:20260422T023955
CREATED:20231028T081710Z
LAST-MODIFIED:20241231T131747Z
UID:10000172-1736623800-1736623800@sintjacobskerk.nl
SUMMARY:Kon. Harmonie Ons Genoegen: Nieuwjaarsconcert Funtastic
DESCRIPTION:Funtastic: dit is het thema van het Nieuwjaarsconcert van Koninklijke Harmonie Ons Genoegen (KHOG) in Cultuurpodium Sint Jacobskerk te Vlissingen. Dat wordt gehouden op zaterdag 11 januari. Ieder jaar gaat KHOG op zoek naar een gast waarmee ze een avondvullend programma kunnen geven. Deze keer is dat De Omniband. Drie muzikale jongens die met mooie muziek en veel grappen het publiek zullen vermaken. \nHet Harmonieorkest en De Omniband zullen een aantal van hun eigen nummers laten horen. Daarnaast zal een aantal muziekstukken gezamenlijk gespeeld worden. Op deze avond gaat u zeker horen Caribbean Hideaway\, Summertime en Music. Met fantastische muziek en humor wordt het zeker een plezierige avond! Dit jaar is gekozen voor vrolijke\, maar ook gedragen muziek  uit Amerika. \nOver de Omniband\nDe Omniband is een driekoppig muziektheatercollectief bestaande uit Jochem van Hoogdalem\, Sander Borst en Douwe Nauta. De drie jongens hebben elkaar ontmoet in het Ricciotti Ensemble\, een broedplaats voor muzikanten die alles nèt een beetje anders willen en vinden dat de wereld wel wat gezelliger mag. Geïnspireerd door Mini & Maxi\, the Ashton Brothers\, Släpstick\, Victor Borge en nog vele anderen brengt De Omniband een knap staaltje muzikaliteit en gezelligheid: dat wil je niet missen.
URL:https://sintjacobskerk.nl/agenda/optie-kon-harmonie-ons-genoegen-nieuwjaarsconcert/
CATEGORIES:Zichtbaar op homepage
ATTACH;FMTTYPE=image/jpeg:https://sintjacobskerk.nl/wp-content/uploads/2023/10/Funtastic.jpg
END:VEVENT
BEGIN:VEVENT
DTSTART;TZID=Europe/Amsterdam:20250110T200000
DTEND;TZID=Europe/Amsterdam:20250110T200000
DTSTAMP:20260422T023955
CREATED:20231028T080308Z
LAST-MODIFIED:20241031T085350Z
UID:10000166-1736539200-1736539200@sintjacobskerk.nl
SUMMARY:Zeeuws Orkest & Muziekduo Maartje en Kine: Nieuwjaarsconcert 2025
DESCRIPTION:De nieuwjaarsconcerten van het Zeeuw Orkest staan dit keer in het teken van samenwerking met het komische Muziekduo Maartje en Kine. Zij weten hun publiek te overrompelen met gepassioneerde virtuositeit\, instrumentale acrobatiek\, verleidelijke charmes en onuitputtelijk speelplezier. \nMaartje & Kine begonnen als duo in 2012 en zijn inmiddels een begrip binnen de cabaretwereld met optredens bij Oerol\, Lowlands\, DWDD\, Podium Witteman\, Concert at Sea\, Uitmarkt\, Zwarte Cross en Top 2000 a go-go. Je kan ze ook kennen van hun dagelijkse odes bij Opium op Oerol.
URL:https://sintjacobskerk.nl/agenda/optie-zeeuws-orkest-nieuwjaarsconcert/
CATEGORIES:Zichtbaar op homepage
ATTACH;FMTTYPE=image/jpeg:https://sintjacobskerk.nl/wp-content/uploads/2023/10/Maartje-en-Kine.jpg
END:VEVENT
BEGIN:VEVENT
DTSTART;VALUE=DATE:20241226
DTEND;VALUE=DATE:20241227
DTSTAMP:20260422T023955
CREATED:20240822T200421Z
LAST-MODIFIED:20240822T200422Z
UID:10000300-1735171200-1735257599@sintjacobskerk.nl
SUMMARY:Tweede Kerstdag
DESCRIPTION:
URL:https://sintjacobskerk.nl/agenda/tweede-kerstdag/
END:VEVENT
BEGIN:VEVENT
DTSTART;VALUE=DATE:20241225
DTEND;VALUE=DATE:20241226
DTSTAMP:20260422T023955
CREATED:20240822T200342Z
LAST-MODIFIED:20240822T200342Z
UID:10000299-1735084800-1735171199@sintjacobskerk.nl
SUMMARY:Eerste Kerstdag
DESCRIPTION:
URL:https://sintjacobskerk.nl/agenda/eerste-kerstdag/
END:VEVENT
BEGIN:VEVENT
DTSTART;TZID=Europe/Amsterdam:20241224T230000
DTEND;TZID=Europe/Amsterdam:20241224T230000
DTSTAMP:20260422T023955
CREATED:20240822T200221Z
LAST-MODIFIED:20240822T200221Z
UID:10000298-1735081200-1735081200@sintjacobskerk.nl
SUMMARY:Kerstnachtdienst
DESCRIPTION:
URL:https://sintjacobskerk.nl/agenda/kerstnachtdienst-2-2/
CATEGORIES:Zichtbaar op homepage
END:VEVENT
BEGIN:VEVENT
DTSTART;TZID=Europe/Amsterdam:20241222T163000
DTEND;TZID=Europe/Amsterdam:20241222T163000
DTSTAMP:20260422T023955
CREATED:20230824T115358Z
LAST-MODIFIED:20241002T120839Z
UID:10000020-1734885000-1734885000@sintjacobskerk.nl
SUMMARY:Evensong\, Nine lessons & Carols
DESCRIPTION:
URL:https://sintjacobskerk.nl/agenda/evensong-nine-lessons-carols-2/
LOCATION:Sint Jacobskerk\, Oude Markt 2\, Vlissingen\, 4381 HK
CATEGORIES:Zichtbaar op homepage
ORGANIZER;CN="Cultuurpodium Sint Jacobskerk":MAILTO:verhuur@sintjacobskerk.nl
END:VEVENT
BEGIN:VEVENT
DTSTART;TZID=Europe/Amsterdam:20241221T201500
DTEND;TZID=Europe/Amsterdam:20241221T201500
DTSTAMP:20260422T023955
CREATED:20250127T152343Z
LAST-MODIFIED:20250127T152344Z
UID:10000186-1734812100-1734812100@sintjacobskerk.nl
SUMMARY:Anúna - A Mystical Christmas    UITVERKOCHT
DESCRIPTION:ANÚNA – A Mystical Christmas\nThe original choir of Riverdance  UITVERKOCHT\n \nAnúna doet bij menig muziekliefhebber het hart sneller kloppen. Het internationaal befaamde koor betovert zijn gehoor met engelengezang en chants van ongeëvenaarde klasse. Het is  inmiddels een traditie dat Anúna in december ons land aandoet met een tournee.\nDe zangers en zangeressen onder leiding van componist\, arrangeur en tenor Michael McGlynn\, koesteren hun directe contact met het publiek. Regelmatig bewegen zij zich al zingend gracieus door de gangpaden. Zo wordt de toehoorder letterlijk omringd door een klankentapijt van loepzuivere engelenzang\, ritmische songs en meditatieve liederen. De zeldzaam mooie meerstemmigheid verraadt een grote geoefendheid en discipline.\nAnúna put de inspiratie voor zijn rijkgeschakeerde repertoire zowel uit religieuze bronnen als uit oude wereldse folkverhalen. Het kerstprogramma bevat bekende kerstliederen. \nAnúna creëert door de combinatie van adembenemend mooie a capellazang\, prachtige kostuums en flakkerend kaarslicht een sfeer die je gegarandeerd in hemelse sferen brengt. \nVideo: O Holy Night
URL:https://sintjacobskerk.nl/agenda/optie-kerstconcert-anuna-2-2/
CATEGORIES:Zichtbaar op homepage
ATTACH;FMTTYPE=image/jpeg:https://sintjacobskerk.nl/wp-content/uploads/2024/02/Anuna2024Square.jpg
ORGANIZER;CN="Peter Boone Music Productions":MAILTO:peter@peterboonemusicproductions.nl
END:VEVENT
BEGIN:VEVENT
DTSTART;TZID=Europe/Amsterdam:20241219T200000
DTEND;TZID=Europe/Amsterdam:20241219T200000
DTSTAMP:20260422T023955
CREATED:20240916T191458Z
LAST-MODIFIED:20240916T191458Z
UID:10000161-1734638400-1734638400@sintjacobskerk.nl
SUMMARY:Grootkoor Zeeland Kerstconcert met Henk Poort
DESCRIPTION:Ook dit jaar zal het Grootkoor Zeeland onder leiding van Nan van Groeningen weer  hun jaarlijkse Kerstconcert geven. \nHet repertoire bestaat uit bekende koorwerken\, met als solist Henk Poort. De Nederlandse opera- en musicalzanger Henk Poort verwierf bekendheid door zijn rollen in LesMisérables\, The Phantom of the Opera en Anatevka. Vorig jaar maakte Henk Poort – samen met Floor Jansen – furore in het programma ‘Beste Zangers’. Hun versie van het duet uit The Phantom maakte een diepe indruk. Henk Poort heeft een stem met een ongelofelijke power en hoogte om koud van te worden. Wat een stem en wat een uitstraling! Laat u betoveren door de magie van kerst en geniet samen met uw familie en vrienden van Grootkoor Zeeland. \nDe begeleiding is in handen van  Andy Booth\, piano en  Martin Martin Mans\, orgel \n 
URL:https://sintjacobskerk.nl/agenda/optie-grootkoor-zeeland-kerstconcert-2-2-2/
CATEGORIES:Zichtbaar op homepage
ATTACH;FMTTYPE=image/jpeg:https://sintjacobskerk.nl/wp-content/uploads/2024/07/Henk-Poort-Grootkoor-Zeeland.jpg
END:VEVENT
BEGIN:VEVENT
DTSTART;TZID=Europe/Amsterdam:20241218T193000
DTEND;TZID=Europe/Amsterdam:20241218T200000
DTSTAMP:20260422T023955
CREATED:20240930T075507Z
LAST-MODIFIED:20240930T075922Z
UID:10000322-1734550200-1734552000@sintjacobskerk.nl
SUMMARY:Protestantse Gemeente: Adventsvesper
DESCRIPTION:
URL:https://sintjacobskerk.nl/agenda/protestandse-gemeente-adventsvesper/
END:VEVENT
BEGIN:VEVENT
DTSTART;TZID=Europe/Amsterdam:20241218T143000
DTEND;TZID=Europe/Amsterdam:20241218T173000
DTSTAMP:20260422T023955
CREATED:20230824T115453Z
LAST-MODIFIED:20231114T171259Z
UID:10000049-1734532200-1734543000@sintjacobskerk.nl
SUMMARY:Kerstmiddag Diaconie
DESCRIPTION:
URL:https://sintjacobskerk.nl/agenda/kerstmiddag-daiconie/
LOCATION:Sint Jacobskerk\, Oude Markt 2\, Vlissingen\, 4381 HK
CATEGORIES:Zichtbaar op homepage
END:VEVENT
BEGIN:VEVENT
DTSTART;TZID=Europe/Amsterdam:20241217T200000
DTEND;TZID=Europe/Amsterdam:20241217T200000
DTSTAMP:20260422T023955
CREATED:20240207T150225Z
LAST-MODIFIED:20240610T092546Z
UID:10000219-1734465600-1734465600@sintjacobskerk.nl
SUMMARY:MuziekPodiumZeeland: Kerstconcert The Choir of Clare College * Traditionals and Christmas Carols
DESCRIPTION:Vorig jaar verzorgde het St. Johns College uit Cambridge een memorabel concert in kerstsfeer in de St. Jacobskerk. Ook dit jaar heeft Muziek Podium Zeeland (MPZ) weer een Engels koor gevonden dat tijdens hun tournee in Europa Vlissingen zal aandoen met een bijzondere uitvoering van een Ceremony of Christmas Carols met traditionele kerstgezangen. \nDe toehoorder kan rekenen op een uitvoering\, waarbij de kwaliteit is gegarandeerd. \nDit jaar heeft MPZ het koor van Clare College Choir uit Cambridge uitgenodigd. \nSinds de oprichting van een gemengd koor in 1972 heeft het koor van Clare College een internationale reputatie opgebouwd. Naast zijn primaire functie om drie keer per week diensten te leiden in de kapel van het College\, besteedt het koor tijd aan opnames\, optredens en uitzendingen. Voormalige directeuren waren John Rutter en Timothy Brown. In 2010 nam Graham Ross de leiding over. Hij wordt geprezen om zijn consequent opwindende en uitstekende uitvoeringen. Het koor trad o.a. op met het Orchestra of the Age of the Enlightenment\, London Philharmonic Orchestra en Britten Sinfonia en gaf vele recitals in Europa en Noord- en Midden-Amerika\, Australië\, Japan\, China\, Rusland en het Midden-Oosten en bouwde een mondiale bekendheid op. \nDe meer dan veertig opnames kregen lovende kritieken waarin de woorden onberispelijk en uitzonderlijk regelmatig voorkwamen. \n  \nHet koor werkte mee aan de uitvoering van het oratorium Jephtha van Händel o.l.v. René Jacobs. Ook traden de vocalisten op met andere grote orkesten in koorwerken van formaat. Het koor voert het hele jaar door een breed scala aan repertoire uit en voert ook hedendaagse muziek uit van Tavener\, Rutter\, Dove\, Philips Raskatov en anderen. \nConclusie: Mis deze bijzondere ervaring niet \nTickets: €27\,50 / € 25\,00 / Studenten €5\,-
URL:https://sintjacobskerk.nl/agenda/muziekpodiumzeeland-the-choir-of-clare-college/
CATEGORIES:Zichtbaar op homepage
ATTACH;FMTTYPE=image/jpeg:https://sintjacobskerk.nl/wp-content/uploads/2024/06/Choir-of-Claire-College.jpg
END:VEVENT
BEGIN:VEVENT
DTSTART;TZID=Europe/Amsterdam:20241214T193000
DTEND;TZID=Europe/Amsterdam:20241214T193000
DTSTAMP:20260422T023955
CREATED:20231028T075758Z
LAST-MODIFIED:20240513T092035Z
UID:10000163-1734204600-1734204600@sintjacobskerk.nl
SUMMARY:Zeeuws Concertkoor: King Arthur\, een semi-opera van Henry Purcell
DESCRIPTION:Een productie van het Zeeuws Concertkoor in samenwerking met Fontys Academy of the Arts en het Souvenir Jeugdkoor.\nMedewerking wordt verder verleend door Balletschool Middelburg en Barokorkest Florilegium Musicum.\nDirigent: Pim Overduin;  regie: Joke Ruppert
URL:https://sintjacobskerk.nl/agenda/optie-zeeuws-concertkoor/
CATEGORIES:Zichtbaar op homepage
ATTACH;FMTTYPE=image/png:https://sintjacobskerk.nl/wp-content/uploads/2023/10/240504-KA-affiche-klein.png
END:VEVENT
BEGIN:VEVENT
DTSTART;VALUE=DATE:20241213
DTEND;VALUE=DATE:20241214
DTSTAMP:20260422T023955
CREATED:20231028T080018Z
LAST-MODIFIED:20241208T161554Z
UID:10000165-1734048000-1734134399@sintjacobskerk.nl
SUMMARY:Geen verhuur mogelijk: podiumopbouw en repetities voor14 dec.
DESCRIPTION:
URL:https://sintjacobskerk.nl/agenda/geen-verhuur-mogelijk-13/
END:VEVENT
BEGIN:VEVENT
DTSTART;TZID=Europe/Amsterdam:20241212T080000
DTEND;TZID=Europe/Amsterdam:20241212T170000
DTSTAMP:20260422T023955
CREATED:20240612T103609Z
LAST-MODIFIED:20240612T103609Z
UID:10000274-1733990400-1734022800@sintjacobskerk.nl
SUMMARY:Optie: Concertkoor Zeeland-> opbouw 14 december
DESCRIPTION:
URL:https://sintjacobskerk.nl/agenda/optie-concertkoor-zeeland-opbouw-14-december/
END:VEVENT
BEGIN:VEVENT
DTSTART;TZID=Europe/Amsterdam:20241211T193000
DTEND;TZID=Europe/Amsterdam:20241211T200000
DTSTAMP:20260422T023955
CREATED:20240930T075410Z
LAST-MODIFIED:20240930T075410Z
UID:10000321-1733945400-1733947200@sintjacobskerk.nl
SUMMARY:Protestantse Gemeente: Adventsvesper
DESCRIPTION:
URL:https://sintjacobskerk.nl/agenda/protestantse-gemeente-adventsvesper-2/
END:VEVENT
BEGIN:VEVENT
DTSTART;TZID=Europe/Amsterdam:20241208T153000
DTEND;TZID=Europe/Amsterdam:20241208T153000
DTSTAMP:20260422T023955
CREATED:20240312T210558Z
LAST-MODIFIED:20240610T091233Z
UID:10000239-1733671800-1733671800@sintjacobskerk.nl
SUMMARY:MPZ -> Nadezda Filippova * Echo Chambers -  Werken van Waller\, Lann en Debussy
DESCRIPTION:Het tonale bereik van de piano bestrijkt dat van een orkest. Natuurlijk kun je een piano niet vergelijken met een orkest\, omdat in een orkest de klankkleuren van de verschillende instrumenten verschillen. Maar de piano kan wel veel. Dit prachtige snaar- en toetsinstrument kan in zijn eentje hele klankwerelden openen. \nEn dat is nu precies wat pianiste Nadezda Filippova wil tonen in haar solorecital Echo Chambers. \nOnder het motto: ‘Als muziek een deel van kunst is\, en kunst een deel van het leven\, waarom zouden we ons in concerten dan beperken tot muziek?’ lanceerde zij in 2018 in Amsterdam de reeks Soirée de Nadezda waarin ze als pianiste/programmeur de verscheidenheid\, de variatie en de verschillende kunsten een podium geeft\, met klassieke muziek als centraal punt. \nJuan Felipe Waller heeft voor Nadezda het stuk Echo Chambers gecomponeerd. Het is ook de titel van haar nieuwe album dat in maart 2024 is uitgebracht. \nDe titel verwijst in akoestische zin naar een ruimte die geluid weerspiegelt of verstrekt\, waardoor een echo- of holle klank ontstaat. Ook heeft het betrekking op een omgeving waarin een persoon informatie of opvattingen ontvangt die hun eigen overtuigingen bevestigen. \nDit album weerspiegelt de persoonlijke zoektocht van de pianiste naar haar identiteit. Zij onderzoekt naar de diepere psychologische betekenis die muziek voor mensen kan hebben. \nZij speelt in Vlissingen impressionistische pianowerken zoals Arabesques\, L’Isle Joyeuse en Six épigraphes antiques van Claude Debussy\, maar ook Echo Chambers van Juan Felipe Waller en Entranced by the beckoning light van Vanessa Lann. \nTickets: €17\,50 / €15\,- / Studenten €5\,-
URL:https://sintjacobskerk.nl/agenda/mpz-nadezda-filippova/
CATEGORIES:Zichtbaar op homepage
ATTACH;FMTTYPE=image/jpeg:https://sintjacobskerk.nl/wp-content/uploads/2024/06/Nadezda-Filipova.jpg
END:VEVENT
BEGIN:VEVENT
DTSTART;TZID=Europe/Amsterdam:20241207T100000
DTEND;TZID=Europe/Amsterdam:20241207T130000
DTSTAMP:20260422T023955
CREATED:20241001T131644Z
LAST-MODIFIED:20241001T131732Z
UID:10000326-1733565600-1733576400@sintjacobskerk.nl
SUMMARY:Genootschap Sint Jacob (rondleiding)
DESCRIPTION:
URL:https://sintjacobskerk.nl/agenda/genootschap-sint-jacob-rondleiding/
END:VEVENT
BEGIN:VEVENT
DTSTART;TZID=Europe/Amsterdam:20241204T193000
DTEND;TZID=Europe/Amsterdam:20241204T200000
DTSTAMP:20260422T023955
CREATED:20240930T075229Z
LAST-MODIFIED:20240930T075817Z
UID:10000320-1733340600-1733342400@sintjacobskerk.nl
SUMMARY:Protestantse Gemeente: Adventsvesper
DESCRIPTION:
URL:https://sintjacobskerk.nl/agenda/protstenatse-gemeente-adventsvesper/
END:VEVENT
BEGIN:VEVENT
DTSTART;TZID=Europe/Amsterdam:20241127T193000
DTEND;TZID=Europe/Amsterdam:20241127T200000
DTSTAMP:20260422T023955
CREATED:20240930T075137Z
LAST-MODIFIED:20240930T075311Z
UID:10000319-1732735800-1732737600@sintjacobskerk.nl
SUMMARY:Protestantse Gemeente: Adventsvesper
DESCRIPTION:
URL:https://sintjacobskerk.nl/agenda/protestantse-gemeente-adventsvesper/
END:VEVENT
BEGIN:VEVENT
DTSTART;TZID=Europe/Amsterdam:20241127T080000
DTEND;TZID=Europe/Amsterdam:20241127T170000
DTSTAMP:20260422T023955
CREATED:20241120T152506Z
LAST-MODIFIED:20241120T152507Z
UID:10000356-1732694400-1732726800@sintjacobskerk.nl
SUMMARY:Herdenkingsdienst
DESCRIPTION:
URL:https://sintjacobskerk.nl/agenda/herdenkingsdienst-3/
END:VEVENT
BEGIN:VEVENT
DTSTART;TZID=Europe/Amsterdam:20241125T080000
DTEND;TZID=Europe/Amsterdam:20241125T170000
DTSTAMP:20260422T023955
CREATED:20241119T180811Z
LAST-MODIFIED:20241119T180812Z
UID:10000355-1732521600-1732554000@sintjacobskerk.nl
SUMMARY:Herdenkingsdienst
DESCRIPTION:
URL:https://sintjacobskerk.nl/agenda/herdenkingsdienst-2/
END:VEVENT
BEGIN:VEVENT
DTSTART;TZID=Europe/Amsterdam:20241123T110000
DTEND;TZID=Europe/Amsterdam:20241123T163000
DTSTAMP:20260422T023955
CREATED:20240912T131943Z
LAST-MODIFIED:20240930T074923Z
UID:10000306-1732359600-1732379400@sintjacobskerk.nl
SUMMARY:Een dag om te herinneren ....
DESCRIPTION:Bijeenkomst van de Protestantse Gemeente in samenwerking met verschillende uitvaartondernemingen ter nagedachtenis aan overledenen in het afgelopen kerkelijk jaar
URL:https://sintjacobskerk.nl/agenda/brand-een-kaars-voor-2/
END:VEVENT
BEGIN:VEVENT
DTSTART;TZID=Europe/Amsterdam:20241122T200000
DTEND;TZID=Europe/Amsterdam:20241122T200000
DTSTAMP:20260422T023955
CREATED:20240227T183408Z
LAST-MODIFIED:20240610T093903Z
UID:10000229-1732305600-1732305600@sintjacobskerk.nl
SUMMARY:MuziekPodiumZeeland: Peter Beets New Jazz Orchestra * The Blues goes to Spain  - Cálido\, elegante\, excitante y apasionante!
DESCRIPTION:Na een succesvol programma met Franse muziek hebben Peter Beets en zijn New Jazz Orchestra hun tanden gezet in de mooiste Spaanse muziekstukken. Bij de namen De Falla\, Albeniz\, Turina en Mompou\, denk je niet direct aan jazz\, eerder aan klassieke muziek. Peter Beets heeft echter bewezen een muzikale verbinder te zijn\, die het gevoelige van klassieke muziek als geen ander kan verenigen met het swingende uit de jazzwereld. De muziek ondergaat een ingrijpende behandeling zonder afbreuk te doen aan de unieke identiteit. Voor de luisteraar is er houvast aan de herkenbaarheid én hij wordt ook meegezogen door de swingende uitspattingen\, avontuurlijke improvisaties en soms ook verstilde emoties. \nDe ondertitel van het programma The blues goes to Spain geeft meteen alle emoties en karaktertrekken van dit optreden aan: warm (cálido)\, elegant (elegante)\, spannend (excitante) en opwindend (y apasionante) \nHet New Jazz Orchestra is een achttienkoppige bigband die samen met sterpianist Peter Beets furore maken. Beets laat met zijn uitbundige spel het orkest stralen en tilt de jonge musici naar het hoogste niveau. \nDe musici van het New Jazz Orchestra zijn: Libbe Oosterman/dirigent\, Jasper van Damme/altsax\, Sam Newbould/altsax\, Patrieck Bonnet/tenorsax\, Joao Driessen/tenorsax\, Floriaan Wempe/tenorsax\, Jessie Breve/baritonsax\, Maarten Combrink/trombone\, Oliver Emmitt/trombone\, Peter Keijsers/trombone\, Bart van Gorp/bastrombone\, Alvaro Jimenez/trompet\, Bram van de Glind/trompet\, Gidon Nunes Vaz/trompet\, Suzan Veneman/trompet\, Florian Sperzel/trompet\, Steve Zwanink/contrabas\, Tim Hennekes/drums \nMis dit adembenemend concert met spectaculaire ritmes\, pakkende melodieën\, ontroering\, uitbundigheid en avontuur niet. Het is voor de luisteraar een spannende\, opwindende en swingende reis met Spaanse klassieke muziek en met als startpunt\, de Blues. \nTickets: €25\,- / € 22\,50 / Studenten €5\,-
URL:https://sintjacobskerk.nl/agenda/muziekpodiumzeeland-peter-beets-new-jazz-orchestra/
CATEGORIES:Zichtbaar op homepage
ATTACH;FMTTYPE=image/jpeg:https://sintjacobskerk.nl/wp-content/uploads/2024/06/Peter-Beets.jpg
END:VEVENT
BEGIN:VEVENT
DTSTART;TZID=Europe/Amsterdam:20241112T080000
DTEND;TZID=Europe/Amsterdam:20241112T170000
DTSTAMP:20260422T023955
CREATED:20241106T082334Z
LAST-MODIFIED:20241106T082534Z
UID:10000348-1731398400-1731430800@sintjacobskerk.nl
SUMMARY:Herdenkingsdienst
DESCRIPTION:
URL:https://sintjacobskerk.nl/agenda/uitvaartdienst-2/
END:VEVENT
BEGIN:VEVENT
DTSTART;TZID=Europe/Amsterdam:20241111T080000
DTEND;TZID=Europe/Amsterdam:20241111T170000
DTSTAMP:20260422T023955
CREATED:20241105T090707Z
LAST-MODIFIED:20241105T090707Z
UID:10000347-1731312000-1731344400@sintjacobskerk.nl
SUMMARY:Herdenkingsdienst
DESCRIPTION:
URL:https://sintjacobskerk.nl/agenda/herdenkingsdienst/
END:VEVENT
END:VCALENDAR