BEGIN:VCALENDAR
VERSION:2.0
PRODID:-//Cultuurpodium Sint Jacobskerk - ECPv6.2.8.1//NONSGML v1.0//EN
CALSCALE:GREGORIAN
METHOD:PUBLISH
X-ORIGINAL-URL:https://sintjacobskerk.nl
X-WR-CALDESC:Evenementen voor Cultuurpodium Sint Jacobskerk
REFRESH-INTERVAL;VALUE=DURATION:PT1H
X-Robots-Tag:noindex
X-PUBLISHED-TTL:PT1H
BEGIN:VTIMEZONE
TZID:Europe/Amsterdam
BEGIN:DAYLIGHT
TZOFFSETFROM:+0100
TZOFFSETTO:+0200
TZNAME:CEST
DTSTART:20260329T010000
END:DAYLIGHT
BEGIN:STANDARD
TZOFFSETFROM:+0200
TZOFFSETTO:+0100
TZNAME:CET
DTSTART:20261025T010000
END:STANDARD
END:VTIMEZONE
BEGIN:VEVENT
DTSTART;TZID=Europe/Amsterdam:20260901T120000
DTEND;TZID=Europe/Amsterdam:20260901T130000
DTSTAMP:20260422T025011
CREATED:20260417T062442Z
LAST-MODIFIED:20260417T063518Z
UID:10000680-1788264000-1788267600@sintjacobskerk.nl
SUMMARY:Middagpauzedienst
DESCRIPTION:Een gebed om vrede in de wereld\, in onze stad\, in ons leven en in het leven van de mensen om ons heen.
URL:https://sintjacobskerk.nl/agenda/middagpauzedienst/2026-09-01/
END:VEVENT
BEGIN:VEVENT
DTSTART;TZID=Europe/Amsterdam:20260905T100000
DTEND;TZID=Europe/Amsterdam:20260905T120000
DTSTAMP:20260422T025011
CREATED:20251110T093212Z
LAST-MODIFIED:20251110T093213Z
UID:10000528-1788602400-1788609600@sintjacobskerk.nl
SUMMARY:Repetitie Evensingers
DESCRIPTION:
URL:https://sintjacobskerk.nl/agenda/repetitie-evensingers/2026-09-05/
END:VEVENT
BEGIN:VEVENT
DTSTART;TZID=Europe/Amsterdam:20260906T170000
DTEND;TZID=Europe/Amsterdam:20260906T170000
DTSTAMP:20260422T025011
CREATED:20251110T092426Z
LAST-MODIFIED:20251110T092427Z
UID:10000518-1788714000-1788714000@sintjacobskerk.nl
SUMMARY:Evensong
DESCRIPTION:
URL:https://sintjacobskerk.nl/agenda/evensong-15/2026-09-06/
END:VEVENT
BEGIN:VEVENT
DTSTART;TZID=Europe/Amsterdam:20260910T200000
DTEND;TZID=Europe/Amsterdam:20260910T200000
DTSTAMP:20260422T025011
CREATED:20251110T181942Z
LAST-MODIFIED:20260331T155739Z
UID:10000535-1789070400-1789070400@sintjacobskerk.nl
SUMMARY:Zomeravondconcerten 2026: Kaaskop
DESCRIPTION:“Deze muziek heeft ruimte nodig” – Kaaskop in de Sint Jacobskerk te Vlissingen \nWanneer Kaaskop op donderdag 10 september 2026 optreedt in de Sint Jacobskerk in Vlissingen\, komt alles samen wat dit trio kenmerkt: aandacht\, ruimte\, herkenning en muzikale vrijheid. Het monumentale kerkgebouw vormt een natuurlijk klanklandschap voor het programma waarmee Lucas van Merwijk\, Ed Verhoeff en Boudewijn Lucas de Nederlandse muziekcultuur opnieuw belichten. \nWaarom Nederlandse muziek als uitgangspunt? \nVan Merwijk: “Omdat we daarin zijn opgegroeid. Er zitten melodieën tussen die iedereen kent\, maar die zelden echt worden beluisterd. Wij willen die muziek niet vastzetten\, maar juist openen.”\nLucas: “Als je de kern bewaart en de rest loslaat\, ontstaat er vrijheid. Dan kan een lied opnieuw gaan ademen.” \nVan Zeeland tot China — en weer terug \nHet programma van Kaaskop reisde het afgelopen seizoen ver. Tijdens een prachtige concerttournee\, met als hoogtepunt een drie weken durende tournee door China\, speelde het trio voor publiek dat de Nederlandse liederen niet kende. \nVerhoeff: “Dat was fascinerend. Mensen herkenden de melodieën niet\, maar reageerden wel direct op de emotie. Dat zegt veel over de kracht van deze muziek.”\nVan Merwijk: “Die ervaring heeft ons spel verdiept. We zijn nog meer gaan vertrouwen op ruimte\, timing en stilte.” \nDe kracht van de Sint Jacobskerk\, wat maakt deze locatie zo geschikt voor Kaaskop? \nVan Merwijk: “Een kerk dwingt je tot luisteren. Je kunt hier niets verbergen. Elke nuance telt.”\nLucas: “De klank draagt vanzelf. Dat past bij ons programma\, dat balanceert tussen lyrisch\, verstild en speels.” \nDe Zeeuwse context — de openheid\, het licht\, de nabijheid van zee — versterkt die ervaring. De muziek krijgt een contemplatief karakter\, zonder zwaar te worden. \nWat mag het publiek verwachten? \nHet concert beweegt zich tussen intimiteit en vrijheid. Bekende melodieën duiken op\, verdwijnen weer\, krijgen een andere kleur. Soms swingend\, soms verstild\, altijd met aandacht gespeeld.\nVerhoeff: “Het is geen nostalgie. Het is herontdekking.”\nVan Merwijk: “En vooral: muziek waar je rustig voor mag gaan zitten.” \nEen uitnodiging aan Vlissingen \nHet optreden in de Sint Jacobskerk belooft een bijzondere avond te worden: toegankelijk voor een breed publiek\, maar met diepgang voor de luisteraar die zich wil laten meenemen. \nOp 10 september 2026 laat Kaaskop horen hoe Nederlands muzikaal erfgoed kan klinken wanneer het ruimte krijgt — tussen eeuwenoude muren\, gedragen door stilte\, klank en aandacht. \n \nTickets: € 22\,50   Early Bird: € 20\,00 te bestellen via deze webite
URL:https://sintjacobskerk.nl/agenda/optie-lucas-van-merwijk-kaaskop/
CATEGORIES:Zichtbaar op homepage
ATTACH;FMTTYPE=image/jpeg:https://sintjacobskerk.nl/wp-content/uploads/2026/01/Kaaskop-Main-Publicity-Photo-Posed-horizontal-Photo_-Peter-van-Breukelen.jpg
ORGANIZER;CN="Cultuurpodium Sint Jacobskerk":MAILTO:verhuur@sintjacobskerk.nl
END:VEVENT
BEGIN:VEVENT
DTSTART;VALUE=DATE:20260912
DTEND;VALUE=DATE:20260913
DTSTAMP:20260422T025011
CREATED:20251202T134516Z
LAST-MODIFIED:20251202T134517Z
UID:10000566-1789171200-1789257599@sintjacobskerk.nl
SUMMARY:Open Monumentendag
DESCRIPTION:
URL:https://sintjacobskerk.nl/agenda/open-monumentendag-5/
END:VEVENT
BEGIN:VEVENT
DTSTART;TZID=Europe/Amsterdam:20260913T153000
DTEND;TZID=Europe/Amsterdam:20260913T153000
DTSTAMP:20260422T025011
CREATED:20250612T150810Z
LAST-MODIFIED:20260416T145100Z
UID:10000461-1789313400-1789313400@sintjacobskerk.nl
SUMMARY:i.s.m. Kamermuziek Zeeland: het Viride Kwartet
DESCRIPTION:Direct vanaf de oprichting in 2017 heeft het Viride Kwartet zich gevestigd als een strijkkwartet dat bekend staat om hun aanstekelijke energie op het podium. De vier leden ontmoetten elkaar als tieners op de School voor Jong Talent in Den Haag\, waaruit een hechte vriendschap ontstond die de basis vormde voor hun ensemble. \nHet Viride Kwartet vertolkt niet alleen het internationaal repertoire\, maar koestert ook een voorliefde voor Nederlandse klassieke muziek. Zo onderscheidt het kwartet zich door de unieke mix van bekend repertoire en minder bekende composities\, zoals de muziek van o.a. Willem Pijper en Oscar van Hemel. Daarmee dragen ze bij aan het behoud en de verspreiding van de rijke muzikale tradities van Nederland. \nDe afgelopen jaren heeft het kwartet verschillende prijzen gewonnen\, onder andere bij het Kersjes Fonds en het Prinses Christina Concours. Ook is het Viride Kwartet een graag geziene gast op grote podia en festivals door heel Nederland\, evenals op nationale televisie en radio. \n \nProgramma \nH. Haydn (1732-1809): Strijkkwartet op. 20 no. 2 in C-groot  \nG. Ligeti (1923-2006): Strijkkwartet no. 1 (Métamorphoses nocturnes)  \nF. Schubert (1797-1828): Strijkkwartet no. 14 in D-klein\, D. 810 (Der Tod und das Mädchen)  \nTickets  à € 22\,50 zijn te bestellen via deze website
URL:https://sintjacobskerk.nl/agenda/optie-kamermuziek-zeeland-5/
LOCATION:Sint Jacobskerk\, Oude Markt 2\, Vlissingen\, 4381 HK
CATEGORIES:Zichtbaar op homepage
ATTACH;FMTTYPE=image/jpeg:https://sintjacobskerk.nl/wp-content/uploads/2025/06/2023-03-12_Schier_Viride-Kwartet_©Juri-Hiensch_1200-copy-1.jpg
END:VEVENT
BEGIN:VEVENT
DTSTART;TZID=Europe/Amsterdam:20260916T200000
DTEND;TZID=Europe/Amsterdam:20260916T200000
DTSTAMP:20260422T025011
CREATED:20260302T182236Z
LAST-MODIFIED:20260302T182236Z
UID:10000610-1789588800-1789588800@sintjacobskerk.nl
SUMMARY:FilmConcert
DESCRIPTION:FilmConcert georganiseerd door Stichting Klassiek Muziek Vlissingen ism. FbtS 2026
URL:https://sintjacobskerk.nl/agenda/filmconcert/
LOCATION:Sint Jacobskerk\, Oude Markt 2\, Vlissingen\, 4381 HK
END:VEVENT
BEGIN:VEVENT
DTSTART;TZID=Europe/Amsterdam:20260924T130000
DTEND;TZID=Europe/Amsterdam:20260924T230000
DTSTAMP:20260422T025011
CREATED:20251129T175129Z
LAST-MODIFIED:20260203T175653Z
UID:10000564-1790254800-1790290800@sintjacobskerk.nl
SUMMARY:Voor Anker in Vlissingen
DESCRIPTION:
URL:https://sintjacobskerk.nl/agenda/voor-anker-in-vlissingen/
END:VEVENT
BEGIN:VEVENT
DTSTART;TZID=Europe/Amsterdam:20260927T110000
DTEND;TZID=Europe/Amsterdam:20260927T143000
DTSTAMP:20260422T025011
CREATED:20251110T181443Z
LAST-MODIFIED:20251110T181443Z
UID:10000534-1790506800-1790519400@sintjacobskerk.nl
SUMMARY:Kliederkerk
DESCRIPTION:
URL:https://sintjacobskerk.nl/agenda/kliederkerk-6/2026-09-27/
END:VEVENT
BEGIN:VEVENT
DTSTART;TZID=Europe/Amsterdam:20261003T100000
DTEND;TZID=Europe/Amsterdam:20261003T120000
DTSTAMP:20260422T025011
CREATED:20251110T093212Z
LAST-MODIFIED:20251110T093213Z
UID:10000529-1791021600-1791028800@sintjacobskerk.nl
SUMMARY:Repetitie Evensingers
DESCRIPTION:
URL:https://sintjacobskerk.nl/agenda/repetitie-evensingers/2026-10-03/
END:VEVENT
BEGIN:VEVENT
DTSTART;TZID=Europe/Amsterdam:20261004T170000
DTEND;TZID=Europe/Amsterdam:20261004T170000
DTSTAMP:20260422T025011
CREATED:20251110T092426Z
LAST-MODIFIED:20251110T092427Z
UID:10000519-1791133200-1791133200@sintjacobskerk.nl
SUMMARY:Evensong
DESCRIPTION:
URL:https://sintjacobskerk.nl/agenda/evensong-15/2026-10-04/
END:VEVENT
BEGIN:VEVENT
DTSTART;TZID=Europe/Amsterdam:20261009T193000
DTEND;TZID=Europe/Amsterdam:20261009T193000
DTSTAMP:20260422T025011
CREATED:20260213T114407Z
LAST-MODIFIED:20260401T081222Z
UID:10000602-1791574200-1791574200@sintjacobskerk.nl
SUMMARY:KoorCultuurLokaal Dubbelconcert: de SeaSoundSingers en het Vriendenkoor Freedom Free
DESCRIPTION:
URL:https://sintjacobskerk.nl/agenda/koorcultuurlokaal-dubbelconcert/
END:VEVENT
BEGIN:VEVENT
DTSTART;VALUE=DATE:20261010
DTEND;VALUE=DATE:20261011
DTSTAMP:20260422T025011
CREATED:20260127T151945Z
LAST-MODIFIED:20260204T104945Z
UID:10000587-1791590400-1791676799@sintjacobskerk.nl
SUMMARY:MTV Unplugged
DESCRIPTION:
URL:https://sintjacobskerk.nl/agenda/mtv-unplugged/
END:VEVENT
BEGIN:VEVENT
DTSTART;TZID=Europe/Amsterdam:20261011T130000
DTEND;TZID=Europe/Amsterdam:20261011T193000
DTSTAMP:20260422T025011
CREATED:20251002T122847Z
LAST-MODIFIED:20260203T180805Z
UID:10000500-1791723600-1791747000@sintjacobskerk.nl
SUMMARY:Cosmicsound
DESCRIPTION:
URL:https://sintjacobskerk.nl/agenda/optie-cosmicsound-2/
CATEGORIES:Zichtbaar op homepage
END:VEVENT
BEGIN:VEVENT
DTSTART;TZID=Europe/Amsterdam:20261018T153000
DTEND;TZID=Europe/Amsterdam:20261018T153000
DTSTAMP:20260422T025011
CREATED:20250612T150905Z
LAST-MODIFIED:20260416T145543Z
UID:10000462-1792337400-1792337400@sintjacobskerk.nl
SUMMARY:i.s.m. Kamermuziek Zeeland: Amstel Quartet
DESCRIPTION:THE MOST COLOURFUL SAXOPHONE QUARTET IN THE WORLD\nAmstel Quartet is een saxofoonkwartet uit Amsterdam met een eigenzinnige programmeringsaanpak en een groepsgeluid dat in de loop van de 25 jaar van het\nensemble is verfijnd. Hun veelgeprezen optredens en opnames\, geprezen om hun expressiviteit in een breed scala aan muziekstijlen\, benadrukken zowel de veelzijdigheid van de saxofoon als het unieke vermogen van dit ensemble om met het publiek te communiceren in diverse muzikale talen. \nTickets à € 22\,50 ijn te bestellen via deze website
URL:https://sintjacobskerk.nl/agenda/optie-kamermuziek-zeeland-6/
ATTACH;FMTTYPE=image/jpeg:https://sintjacobskerk.nl/wp-content/uploads/2026/03/Amstel-Quartet-©-Foppe-Schut-_lowres_S238546-1024x683-1.jpg
END:VEVENT
BEGIN:VEVENT
DTSTART;TZID=Europe/Amsterdam:20261031T100000
DTEND;TZID=Europe/Amsterdam:20261031T120000
DTSTAMP:20260422T025011
CREATED:20251110T093212Z
LAST-MODIFIED:20251110T093213Z
UID:10000530-1793440800-1793448000@sintjacobskerk.nl
SUMMARY:Repetitie Evensingers
DESCRIPTION:
URL:https://sintjacobskerk.nl/agenda/repetitie-evensingers/2026-10-31/
END:VEVENT
BEGIN:VEVENT
DTSTART;TZID=Europe/Amsterdam:20261101T170000
DTEND;TZID=Europe/Amsterdam:20261101T170000
DTSTAMP:20260422T025011
CREATED:20251110T092426Z
LAST-MODIFIED:20251110T092427Z
UID:10000520-1793552400-1793552400@sintjacobskerk.nl
SUMMARY:Evensong
DESCRIPTION:
URL:https://sintjacobskerk.nl/agenda/evensong-15/2026-11-01/
END:VEVENT
BEGIN:VEVENT
DTSTART;TZID=Europe/Amsterdam:20261106T080000
DTEND;TZID=Europe/Amsterdam:20261107T230000
DTSTAMP:20260422T025011
CREATED:20260117T110110Z
LAST-MODIFIED:20260319T150120Z
UID:10000638-1793952000-1794092400@sintjacobskerk.nl
SUMMARY:Workshop en lezing over Maurits Escher
DESCRIPTION:Escher & Bach is ontstaan in 2023\, het jaar waarin het 125e geboortejaar van Maurits Escher werd gevierd. De beroemde graficus Escher had een grote liefde voor muziek\, in het bijzonder de (orgel)muziek van Johann Sebastian Bach. Escher & Bach is een multidisciplinaire voorstelling waarin het leven en werk van Escher en Bach op bijzondere wijze bij elkaar komen in muziek\, lichtkunst en theater. Orgelwerken van Bach\, uitgevoerd door organist Geerten van de Wetering\, worden afgewisseld met theatrale bijdragen waarin acteur Aus Greidanus bruggen slaat tussen de muziek van Bach en het leven en werk van Escher. Lichtkunstenaar Jeroen Alexander Meijer vertoont lichtkunstwerken bij de muziek van Bach geïnspireerd op het werk van Escher\, waarin het publiek wordt meegenomen op een reis door herhaling\, perspectief en schaduw\, belangrijke elementen in het werk van Escher. Deze imposante muziektheatervoorstelling komt nu naar Vlissingen. Een bijzondere avond in de indrukwekkende ruimte van de Jacobskerk! \nCredits \nOrgel Geerten van de Wetering\nActeur Aus Greidanus\nLichtkunst Jeroen Alexander Meijer\nSopraan Elma Dekker\nConcept Geerten van de Wetering / Podium21 \nTickets zijn binnenkort verkrijgbaar via deze site.
URL:https://sintjacobskerk.nl/agenda/escher-en-bach/
ATTACH;FMTTYPE=image/png:https://sintjacobskerk.nl/wp-content/uploads/2026/01/Esher-en-Bach.png
END:VEVENT
BEGIN:VEVENT
DTSTART;TZID=Europe/Amsterdam:20261107T200000
DTEND;TZID=Europe/Amsterdam:20261107T200000
DTSTAMP:20260422T025011
CREATED:20260318T113906Z
LAST-MODIFIED:20260416T145941Z
UID:10000581-1794081600-1794081600@sintjacobskerk.nl
SUMMARY:Escher en Bach
DESCRIPTION:Escher & Bach is ontstaan in 2023\, het jaar waarin het 125e geboortejaar van Maurits Escher werd gevierd. De beroemde graficus Escher had een grote liefde voor muziek\, in het bijzonder de (orgel)muziek van Johann Sebastian Bach. Escher & Bach is een multidisciplinaire voorstelling waarin het leven en werk van Escher en Bach op bijzondere wijze bij elkaar komen in muziek\, lichtkunst en theater. Orgelwerken van Bach\, uitgevoerd door organist Geerten van de Wetering\, worden afgewisseld met theatrale bijdragen waarin acteur Aus Greidanus bruggen slaat tussen de muziek van Bach en het leven en werk van Escher. Lichtkunstenaar Jeroen Alexander Meijer vertoont lichtkunstwerken bij de muziek van Bach geïnspireerd op het werk van Escher\, waarin het publiek wordt meegenomen op een reis door herhaling\, perspectief en schaduw\, belangrijke elementen in het werk van Escher. Deze imposante muziektheatervoorstelling komt nu naar Vlissingen. Een bijzondere avond in de indrukwekkende ruimte van de Jacobskerk! \nCredits \nOrgel Geerten van de Wetering\nActeur Aus Greidanus\nLichtkunst Jeroen Alexander Meijer\nSopraan Elma Dekker\nConcept Geerten van de Wetering / Podium21 \nTickets à € 25\,00 zijn  verkrijgbaar via deze site. Early Bird tot 10 oktober € 22\,50
URL:https://sintjacobskerk.nl/agenda/escher-en-bach-2/
CATEGORIES:Zichtbaar op homepage
ATTACH;FMTTYPE=image/jpeg:https://sintjacobskerk.nl/wp-content/uploads/2026/03/Escher-Bach.jpg
ORGANIZER;CN="Cultuurpodium Sint Jacobskerk":MAILTO:verhuur@sintjacobskerk.nl
END:VEVENT
BEGIN:VEVENT
DTSTART;VALUE=DATE:20261113
DTEND;VALUE=DATE:20261114
DTSTAMP:20260422T025011
CREATED:20250702T170505Z
LAST-MODIFIED:20250702T170509Z
UID:10000473-1794528000-1794614399@sintjacobskerk.nl
SUMMARY:Opbouw en repetitie Zws Concertkoor
DESCRIPTION:
URL:https://sintjacobskerk.nl/agenda/opbouw-en-repetitie-zws-concertkoor/
END:VEVENT
BEGIN:VEVENT
DTSTART;VALUE=DATE:20261114
DTEND;VALUE=DATE:20261115
DTSTAMP:20260422T025011
CREATED:20250702T170344Z
LAST-MODIFIED:20250702T170732Z
UID:10000472-1794614400-1794700799@sintjacobskerk.nl
SUMMARY:Optie: Zeeuws Concertkoor Carmina Burana
DESCRIPTION:
URL:https://sintjacobskerk.nl/agenda/optie-zeeuws-concertkoor-carmina-burana/
END:VEVENT
BEGIN:VEVENT
DTSTART;TZID=Europe/Amsterdam:20261121T080000
DTEND;TZID=Europe/Amsterdam:20261121T230000
DTSTAMP:20260422T025011
CREATED:20250921T081709Z
LAST-MODIFIED:20260404T090619Z
UID:10000487-1795248000-1795302000@sintjacobskerk.nl
SUMMARY:Scheldeloodsenkoor
DESCRIPTION:
URL:https://sintjacobskerk.nl/agenda/scheldeloodsenkoor/
END:VEVENT
BEGIN:VEVENT
DTSTART;TZID=Europe/Amsterdam:20261122T160000
DTEND;TZID=Europe/Amsterdam:20261122T160000
DTSTAMP:20260422T025011
CREATED:20260202T135714Z
LAST-MODIFIED:20260212T180454Z
UID:10000592-1795363200-1795363200@sintjacobskerk.nl
SUMMARY:Flanders Boys Choir met De Missa in Tempore Belli van Haydn
DESCRIPTION:
URL:https://sintjacobskerk.nl/agenda/flanders-boys-choir-met-de-missa-in-tempore-belli-van-haydn/
END:VEVENT
BEGIN:VEVENT
DTSTART;VALUE=DATE:20261128
DTEND;VALUE=DATE:20261129
DTSTAMP:20260422T025011
CREATED:20260127T152214Z
LAST-MODIFIED:20260127T152214Z
UID:10000588-1795824000-1795910399@sintjacobskerk.nl
SUMMARY:Guitar Legends
DESCRIPTION:
URL:https://sintjacobskerk.nl/agenda/guitar-legends/
END:VEVENT
BEGIN:VEVENT
DTSTART;TZID=Europe/Amsterdam:20261129T153000
DTEND;TZID=Europe/Amsterdam:20261129T180000
DTSTAMP:20260422T025011
CREATED:20260312T100802Z
LAST-MODIFIED:20260416T155149Z
UID:10000635-1795966200-1795975200@sintjacobskerk.nl
SUMMARY:i.s.m. Stichting Kamermuziek Zeeland: Het Amstel Saxophone kwartet
DESCRIPTION:Amstel Anniversary: Greatest Hits \n‘Amstel Anniversary’ is een staalkaart van de avontuurlijke geest van Amstel Quartet en biedt een rijke dwarsdoorsnede van hun repertoire: van minimalistische meesterwerken tot eigenzinnige barokbewerkingen en een snufje niet te missen saxofoonkwartetrepertoire. Bovendien klinken werken die speciaal voor Amstel Quartet zijn geschreven en inmiddels een vaste plek hebben veroverd in het internationale repertoire voor saxofoonkwartet. Een muzikale trip down memory lane en een viering van 30 jaar grensverleggend spel door Amstel Quartet! \nMet muziek van: Joseph Haydn\, Michael Nyman\, Jan Pieterszoon Sweelinck\, Arvo Pärt\, J.S. Bach\, W. A. Mozart\, Leonard Bernstein\, Michael Torke\, Samuel Barber\, Guillermo Lago & Jean Rivier. \nTickets à € 22\,50 kunnen worden besteld via deze website
URL:https://sintjacobskerk.nl/agenda/i-s-m-stichting-kamermuziek-zeeland-het-amstel-saxophone-kwartet/
LOCATION:Sint Jacobskerk\, Oude Markt 2\, Vlissingen\, 4381 HK
CATEGORIES:Zichtbaar op homepage
ATTACH;FMTTYPE=image/jpeg:https://sintjacobskerk.nl/wp-content/uploads/2026/03/Amstel-Quartet-©-Foppe-Schut-_lowres_S238546-1024x683-1.jpg
END:VEVENT
BEGIN:VEVENT
DTSTART;TZID=Europe/Amsterdam:20261206T130000
DTEND;TZID=Europe/Amsterdam:20261206T230000
DTSTAMP:20260422T025011
CREATED:20251118T164835Z
LAST-MODIFIED:20260331T101153Z
UID:10000539-1796562000-1796598000@sintjacobskerk.nl
SUMMARY:Slavisch Koor Sretenieje met Don Kozakkenkoor Serge Jaroff
DESCRIPTION:
URL:https://sintjacobskerk.nl/agenda/slavisch-koor-sretenieje/
END:VEVENT
BEGIN:VEVENT
DTSTART;TZID=Europe/Amsterdam:20261210T080000
DTEND;TZID=Europe/Amsterdam:20261210T170000
DTSTAMP:20260422T025011
CREATED:20260413T091137Z
LAST-MODIFIED:20260416T114418Z
UID:10000644-1796889600-1796922000@sintjacobskerk.nl
SUMMARY:Vlissingen Wonderstad: Swinging Affair Bigband
DESCRIPTION:
URL:https://sintjacobskerk.nl/agenda/virque-avis-event/
END:VEVENT
BEGIN:VEVENT
DTSTART;VALUE=DATE:20261211
DTEND;VALUE=DATE:20261213
DTSTAMP:20260422T025011
CREATED:20260316T111000Z
LAST-MODIFIED:20260316T111000Z
UID:10000637-1796947200-1797119999@sintjacobskerk.nl
SUMMARY:Kerstmarkt Vlissingen Schittert
DESCRIPTION:
URL:https://sintjacobskerk.nl/agenda/kerstmarkt-vlissingen-schittert/
END:VEVENT
BEGIN:VEVENT
DTSTART;TZID=Europe/Amsterdam:20261211T180000
DTEND;TZID=Europe/Amsterdam:20261211T210000
DTSTAMP:20260422T025011
CREATED:20260415T153339Z
LAST-MODIFIED:20260416T114616Z
UID:10000646-1797012000-1797022800@sintjacobskerk.nl
SUMMARY:Vlissingen Wonderstad :  Christmas City Trail
DESCRIPTION:
URL:https://sintjacobskerk.nl/agenda/christmas-city-trail/
END:VEVENT
BEGIN:VEVENT
DTSTART;TZID=Europe/Amsterdam:20261212T080000
DTEND;TZID=Europe/Amsterdam:20261212T170000
DTSTAMP:20260422T025011
CREATED:20260415T153606Z
LAST-MODIFIED:20260416T114507Z
UID:10000647-1797062400-1797094800@sintjacobskerk.nl
SUMMARY:Vlissingen Wonderstad: Jingle Bells Sing Along
DESCRIPTION:
URL:https://sintjacobskerk.nl/agenda/virque-avis-events/
END:VEVENT
END:VCALENDAR