BEGIN:VCALENDAR
VERSION:2.0
PRODID:-//Cultuurpodium Sint Jacobskerk - ECPv6.2.8.1//NONSGML v1.0//EN
CALSCALE:GREGORIAN
METHOD:PUBLISH
X-WR-CALNAME:Cultuurpodium Sint Jacobskerk
X-ORIGINAL-URL:https://sintjacobskerk.nl
X-WR-CALDESC:Evenementen voor Cultuurpodium Sint Jacobskerk
REFRESH-INTERVAL;VALUE=DURATION:PT1H
X-Robots-Tag:noindex
X-PUBLISHED-TTL:PT1H
BEGIN:VTIMEZONE
TZID:Europe/Amsterdam
BEGIN:DAYLIGHT
TZOFFSETFROM:+0100
TZOFFSETTO:+0200
TZNAME:CEST
DTSTART:20250330T010000
END:DAYLIGHT
BEGIN:STANDARD
TZOFFSETFROM:+0200
TZOFFSETTO:+0100
TZNAME:CET
DTSTART:20251026T010000
END:STANDARD
BEGIN:DAYLIGHT
TZOFFSETFROM:+0100
TZOFFSETTO:+0200
TZNAME:CEST
DTSTART:20260329T010000
END:DAYLIGHT
BEGIN:STANDARD
TZOFFSETFROM:+0200
TZOFFSETTO:+0100
TZNAME:CET
DTSTART:20261025T010000
END:STANDARD
END:VTIMEZONE
BEGIN:VEVENT
DTSTART;TZID=Europe/Amsterdam:20260307T193000
DTEND;TZID=Europe/Amsterdam:20260307T193000
DTSTAMP:20260422T014453
CREATED:20240805T072841Z
LAST-MODIFIED:20260228T134758Z
UID:10000293-1772911800-1772911800@sintjacobskerk.nl
SUMMARY:Scratch Messiah 2026
DESCRIPTION:Bij “de Scratch” draait het om de Messiah van G.F. Handel. Een belevenis dit jaar georganiseerd voor de 25-ste keer ! Velen weten het dus al\, maar we zeggen het voort: Het is een feestelijk\, inspirerend en samenbindend evenement. Een dag als zangers en musici flink repeteren en dan ook nog een indrukwekkende uitvoering verzorgen. En dat alles onder leiding van Jules van Hessen\, dirigent en inspirator. Deze luisterrijke jubileum-editie wordt natuurlijk een groot feest. Het wordt ook de laatste\, dus mis het niet. Kom luisteren naar het concert !  Van harte uitgenodigd namens alle deelnemers en neem gerust familie\, vrienden\, vriendinnen en kennissen mee.  \nSolisten: Sarah Mol (sopraan)\, Carina Vinke (Alt-mezzo)\, Leon van Liere (tenor) en Martijn Sanders (bariton) \nTickets: € 17\,50\nKaartverkoop via de ticketbutton en bij boekhandel ’t Spui.  \nDe deuren gaan open om 18.45 uur en het concert gaat van start om 19.30 uur. \n 
URL:https://sintjacobskerk.nl/agenda/scratch-messiah-2026/
CATEGORIES:Zichtbaar op homepage
ATTACH;FMTTYPE=image/jpeg:https://sintjacobskerk.nl/wp-content/uploads/2023/10/Scratch-Messiah.jpg
END:VEVENT
BEGIN:VEVENT
DTSTART;TZID=Europe/Amsterdam:20260306T080000
DTEND;TZID=Europe/Amsterdam:20260306T120000
DTSTAMP:20260422T014453
CREATED:20240805T073059Z
LAST-MODIFIED:20240805T073059Z
UID:10000294-1772784000-1772798400@sintjacobskerk.nl
SUMMARY:Geen verhuur mogelijk
DESCRIPTION:opbouw Scratch Messiah
URL:https://sintjacobskerk.nl/agenda/geen-verhuur-mogelijk-12/
END:VEVENT
BEGIN:VEVENT
DTSTART;VALUE=DATE:20260304
DTEND;VALUE=DATE:20260305
DTSTAMP:20260422T014453
CREATED:20260225T155334Z
LAST-MODIFIED:20260225T155335Z
UID:10000609-1772582400-1772668799@sintjacobskerk.nl
SUMMARY:Herdenkingsdienst
DESCRIPTION:
URL:https://sintjacobskerk.nl/agenda/herdenkingsdienst-13/
END:VEVENT
BEGIN:VEVENT
DTSTART;TZID=Europe/Amsterdam:20260303T090000
DTEND;TZID=Europe/Amsterdam:20260303T170000
DTSTAMP:20260422T014453
CREATED:20260224T164131Z
LAST-MODIFIED:20260224T164131Z
UID:10000607-1772528400-1772557200@sintjacobskerk.nl
SUMMARY:Herdenkingsdienst
DESCRIPTION:
URL:https://sintjacobskerk.nl/agenda/herdenkingsdienst-12/
END:VEVENT
BEGIN:VEVENT
DTSTART;TZID=Europe/Amsterdam:20260301T170000
DTEND;TZID=Europe/Amsterdam:20260301T170000
DTSTAMP:20260422T014453
CREATED:20251110T092426Z
LAST-MODIFIED:20251110T092427Z
UID:10000513-1772384400-1772384400@sintjacobskerk.nl
SUMMARY:Evensong
DESCRIPTION:
URL:https://sintjacobskerk.nl/agenda/evensong-15/2026-03-01/
END:VEVENT
BEGIN:VEVENT
DTSTART;TZID=Europe/Amsterdam:20260228T100000
DTEND;TZID=Europe/Amsterdam:20260228T120000
DTSTAMP:20260422T014453
CREATED:20251110T093212Z
LAST-MODIFIED:20251110T093213Z
UID:10000523-1772272800-1772280000@sintjacobskerk.nl
SUMMARY:Repetitie Evensingers
DESCRIPTION:
URL:https://sintjacobskerk.nl/agenda/repetitie-evensingers/2026-02-28/
END:VEVENT
BEGIN:VEVENT
DTSTART;VALUE=DATE:20260225
DTEND;VALUE=DATE:20260226
DTSTAMP:20260422T014453
CREATED:20260219T164033Z
LAST-MODIFIED:20260222T174603Z
UID:10000605-1771977600-1772063999@sintjacobskerk.nl
SUMMARY:Herdenkingsdienst
DESCRIPTION:
URL:https://sintjacobskerk.nl/agenda/herdenkingsdienst-11/
END:VEVENT
BEGIN:VEVENT
DTSTART;TZID=Europe/Amsterdam:20260221T200000
DTEND;TZID=Europe/Amsterdam:20260221T200000
DTSTAMP:20260422T014453
CREATED:20250626T102852Z
LAST-MODIFIED:20260217T154341Z
UID:10000466-1771704000-1771704000@sintjacobskerk.nl
SUMMARY:Meesters en Gezellen: Hongaarse Koormuziek ‘Magyar etüdök’ o.l.v. Zoltán Pad
DESCRIPTION:Twintig jonge zangers samen met vier Hongaarse kamerkoorzangers \nIn 2026 presenteren wij “Magyar Etüdök”\, onder leiding van Zoltán Pad\, dirigent van het Hongaars Radiokoor. Deze editie verkent de rijkdom van de Hongaarse koormuziek met werken van grootmeesters zoals Béla Bartók\, Zoltán Kodály\, György Ligeti\, en László Lajtha. Met als titel “Magyar Etüdök” (Hongaarse Etudes)\, naar het gelijknamige werk van Ligeti\, verkent het programma de muzikale erfenis die Hongarije tot een bakermat van koormuziek en muziekonderwijs heeft gemaakt. \nOp het programma staan koorwerken van Liszt\, Zombola\, Kodaly\, Bartók e.a. \nHet jaarlijks succesvol in de Sint Jacobskerk terugkerende “Meesters&Gezellen” wordt opgezet door Stichting Tettix\, de stichting heeft tot doel om jonge zangers\, als aanvulling op hun opleiding tot solist\, de gelegenheid te bieden op maximaal niveau hun talenten op het gebied van ensemblewerk te ontwikkelen. Meer informatie over de Stichting Tettix vindt u hier \nTickets: € 22\,50\nDe deuren van de kerk gaan open om 19.30 uur
URL:https://sintjacobskerk.nl/agenda/meesters-en-gezellen/
CATEGORIES:Zichtbaar op homepage
ATTACH;FMTTYPE=image/jpeg:https://sintjacobskerk.nl/wp-content/uploads/2025/06/Meesters-en-gezellen-26.jpg
END:VEVENT
BEGIN:VEVENT
DTSTART;VALUE=DATE:20260209
DTEND;VALUE=DATE:20260210
DTSTAMP:20260422T014453
CREATED:20260204T143038Z
LAST-MODIFIED:20260204T144636Z
UID:10000598-1770595200-1770681599@sintjacobskerk.nl
SUMMARY:herdenkingsdienst
DESCRIPTION:
URL:https://sintjacobskerk.nl/agenda/herdenkingsdienst-10/
END:VEVENT
BEGIN:VEVENT
DTSTART;TZID=Europe/Amsterdam:20260207T193000
DTEND;TZID=Europe/Amsterdam:20260207T193000
DTSTAMP:20260422T014453
CREATED:20250920T094700Z
LAST-MODIFIED:20260129T124342Z
UID:10000483-1770492600-1770492600@sintjacobskerk.nl
SUMMARY:KoorCultuurLokaal: Shantykoor 't VeerseScheepstuig
DESCRIPTION:Aanvankelijk stond voor deze avond het eerste dubbelconcert van twee Zeeuwse koren op de agenda: Shantykoor ’t VeerseScheepstuig en Ensemble Lezzom.\nHelaas heeft ensemble Lezzom in verband met onvoorziene omstandigheden moeten besluiten dit concert te annuleren. Gelukkig heeft ’t Veerse Scheepstuig aangeboden het volledige concert voor haar rekening te willen nemen.  ’t VeerseScheepstuig is een enthousiast veertigkoppig gezelschap dat inmiddels kan putten uit een repertoire van meer dan honderd shanty’s en andere liederen over de zee(-vaart). Al eerder waren zij te horen en te zien in de Sint Jacobskerk en weten wij dat zij borg staan voor een gezellig en inspirerend concert. \nTickets:  € 12\,50 \nDe deur is geopend om 19.00 uur en het concert vangt aan om 19.30 uur.
URL:https://sintjacobskerk.nl/agenda/koorcultuurlokaal/
CATEGORIES:Zichtbaar op homepage
ATTACH;FMTTYPE=image/jpeg:https://sintjacobskerk.nl/wp-content/uploads/2026/01/Veers-Scheepstuig.jpg
ORGANIZER;CN="Cultuurpodium Sint Jacobskerk":MAILTO:verhuur@sintjacobskerk.nl
END:VEVENT
BEGIN:VEVENT
DTSTART;TZID=Europe/Amsterdam:20260206T180000
DTEND;TZID=Europe/Amsterdam:20260206T180000
DTSTAMP:20260422T014453
CREATED:20251215T102538Z
LAST-MODIFIED:20251215T102946Z
UID:10000577-1770400800-1770400800@sintjacobskerk.nl
SUMMARY:Thank Vlissingen It's Friday
DESCRIPTION:Bedankt Vlissingen Het is vrijdag met La Fuente | St. Jacobskerk [UITVERKOCHT]\nDaar gaan we! De eerste editie van de leukste vrijdagborrel van Zeeland in Vlissingen! \nWe geven op vrijdag 6 februari 2026 acte de presentie in de Sint Jacobskerk. Lekker dansen\, borrelen en netwerken in de mooiste locatie van de stad. \n𝐋𝐈𝐍𝐄-𝐔𝐏:\n– La Fuente\n– Pawelo\n– Funkstar\n– H4ZEL\n– Nick Edwins\n– Patty
URL:https://sintjacobskerk.nl/agenda/thank-vlissingen-its-friday/
CATEGORIES:Zichtbaar op homepage
ATTACH;FMTTYPE=image/jpeg:https://sintjacobskerk.nl/wp-content/uploads/2025/12/TVIF-MAINFLYER-1080-1.jpg
END:VEVENT
BEGIN:VEVENT
DTSTART;TZID=Europe/Amsterdam:20260205T080000
DTEND;TZID=Europe/Amsterdam:20260207T120000
DTSTAMP:20260422T014453
CREATED:20250711T133738Z
LAST-MODIFIED:20250923T155419Z
UID:10000477-1770278400-1770465600@sintjacobskerk.nl
SUMMARY:Optie: Bruisend Zeeland
DESCRIPTION:
URL:https://sintjacobskerk.nl/agenda/optie-bruisend-zeeland/
END:VEVENT
BEGIN:VEVENT
DTSTART;TZID=Europe/Amsterdam:20260202T080000
DTEND;TZID=Europe/Amsterdam:20260202T170000
DTSTAMP:20260422T014453
CREATED:20260126T100044Z
LAST-MODIFIED:20260126T100153Z
UID:10000582-1770019200-1770051600@sintjacobskerk.nl
SUMMARY:Uitvaart
DESCRIPTION:
URL:https://sintjacobskerk.nl/agenda/uitvaart-9/
END:VEVENT
BEGIN:VEVENT
DTSTART;TZID=Europe/Amsterdam:20260201T170000
DTEND;TZID=Europe/Amsterdam:20260201T170000
DTSTAMP:20260422T014453
CREATED:20251110T092426Z
LAST-MODIFIED:20251110T092427Z
UID:10000512-1769965200-1769965200@sintjacobskerk.nl
SUMMARY:Evensong
DESCRIPTION:
URL:https://sintjacobskerk.nl/agenda/evensong-15/2026-02-01/
END:VEVENT
BEGIN:VEVENT
DTSTART;TZID=Europe/Amsterdam:20260201T110000
DTEND;TZID=Europe/Amsterdam:20260201T143000
DTSTAMP:20260422T014453
CREATED:20251110T181443Z
LAST-MODIFIED:20251110T181443Z
UID:10000532-1769943600-1769956200@sintjacobskerk.nl
SUMMARY:Kliederkerk
DESCRIPTION:
URL:https://sintjacobskerk.nl/agenda/kliederkerk-6/2026-02-01/
END:VEVENT
BEGIN:VEVENT
DTSTART;TZID=Europe/Amsterdam:20260131T200000
DTEND;TZID=Europe/Amsterdam:20260131T200000
DTSTAMP:20260422T014453
CREATED:20240301T111117Z
LAST-MODIFIED:20260124T140607Z
UID:10000506-1769889600-1769889600@sintjacobskerk.nl
SUMMARY:Jubileumconcert Te Deum Laudamus: Hohe Messe van J.S. Bach
DESCRIPTION:In 2026 bestaat het koor COV “Te Deum Laudamus”  25 jaar. Hier hopen we op 31 januari 2026 bij stil te staan op ons jubileumconcert in de Sint-Jacobskerk in Vlissingen. \nBach componeert de Hohe Messe aan het einde van zijn leven\, het is zijn allerlaatste werk. De verantwoording die hij als Thomaskantor had voor alle kerkmuziek in Leipzig\, draagt hij niet meer. Nu kan hij zijn geniale talenten\, zijn inspiratie\, al zijn kennis en kunde\, samenbrengen in een unieke compositie\, als uitvoerend kunstenaar. \nDe blijvende waarde van de tijdloze Bijbelse tekst is het uitgangspunt.  Samen met een een aantal andere werken uit die periode vormt het de muzikale erfenis van deze bijzonder componist. \nDeur open: 19.15 uur \nAanvang concert: 20.00 uur
URL:https://sintjacobskerk.nl/agenda/optie-jubileumconcert-te-deum-laudamus-hohe-messe-van-j-s-bach/
CATEGORIES:Zichtbaar op homepage
ATTACH;FMTTYPE=image/jpeg:https://sintjacobskerk.nl/wp-content/uploads/2025/10/A4-Hohe-Messe-concert-flyer-a4.jpg
END:VEVENT
BEGIN:VEVENT
DTSTART;TZID=Europe/Amsterdam:20260131T100000
DTEND;TZID=Europe/Amsterdam:20260131T120000
DTSTAMP:20260422T014453
CREATED:20251110T093212Z
LAST-MODIFIED:20251110T093213Z
UID:10000522-1769853600-1769860800@sintjacobskerk.nl
SUMMARY:Repetitie Evensingers
DESCRIPTION:
URL:https://sintjacobskerk.nl/agenda/repetitie-evensingers/2026-01-31/
END:VEVENT
BEGIN:VEVENT
DTSTART;TZID=Europe/Amsterdam:20260130T080000
DTEND;TZID=Europe/Amsterdam:20260130T170000
DTSTAMP:20260422T014453
CREATED:20240301T111415Z
LAST-MODIFIED:20240301T111455Z
UID:10000234-1769760000-1769792400@sintjacobskerk.nl
SUMMARY:Optie-> opbouw en repetitie concert 31 januari
DESCRIPTION:
URL:https://sintjacobskerk.nl/agenda/optie-opbouw-en-repetitie-concert-31-januari/
END:VEVENT
BEGIN:VEVENT
DTSTART;TZID=Europe/Amsterdam:20260128T130000
DTEND;TZID=Europe/Amsterdam:20260128T230000
DTSTAMP:20260422T014453
CREATED:20250319T113502Z
LAST-MODIFIED:20250327T164128Z
UID:10000434-1769605200-1769641200@sintjacobskerk.nl
SUMMARY:Repetitie Hohe Messe Te Deum Laudamus
DESCRIPTION:
URL:https://sintjacobskerk.nl/agenda/repetitie-hohe-messe-te-deum-laudamus/
END:VEVENT
BEGIN:VEVENT
DTSTART;TZID=Europe/Amsterdam:20260127T080000
DTEND;TZID=Europe/Amsterdam:20260127T170000
DTSTAMP:20260422T014453
CREATED:20260127T152417Z
LAST-MODIFIED:20260127T152417Z
UID:10000589-1769500800-1769533200@sintjacobskerk.nl
SUMMARY:Pearl Jozefzoon Gospel-kerstconcert
DESCRIPTION:
URL:https://sintjacobskerk.nl/agenda/pearl-jozefzoon-gospel-kerstconcert/
END:VEVENT
BEGIN:VEVENT
DTSTART;TZID=Europe/Amsterdam:20260123T200000
DTEND;TZID=Europe/Amsterdam:20260123T200000
DTSTAMP:20260422T014453
CREATED:20251203T180452Z
LAST-MODIFIED:20251222T091724Z
UID:10000569-1769198400-1769198400@sintjacobskerk.nl
SUMMARY:MosaTrio
DESCRIPTION:“Het Mosa Trio speelt bijzonder meeslepend\, fantasierijk en levendig. Hun musiceren is retorisch aangrijpend\, stilistisch gevarieerd en minutieus vormgegeven. Hun communiceren is verfijnd\, bijzonder gevoelig en vol leven.” \nDit is een zeer treffende beschrijving van het Mosa Trio door Mark Steinberg (Brentano String Quartet). Door de bijna onuitputtelijke energie die de leden van het jonge Nederlands-Belgische pianotrio steken in het doorgronden van hun repertoire\, bevatten hun vertolkingen een grote expressie\, veel innerlijke diepgang en een homogene interpretatie. Dit laat het trio\, Alexandra van Beveren (viool) Paul Stavridis (cello) en Bram de Vree (piano)\, horen in een breed repertoire dat reikt van vroeg klassiek tot hedendaags klassiek. \nDoor de spannende programmakeuze is een concert van het Mosa Trio altijd een belevenis. Het trio programmeert graag verschillende contrasterende stijlen binnen een concert waardoor het publiek enerzijds altijd iets hoort waar het van houdt en anderzijds ook vaak in aanraking komt met iets wat nieuw voor ze is. Ook de inlevende manier waarop het trio de muzikale werken toelicht\, draagt bij aan het scheppen van een verhaal. Zeker bij hedendaags klassiek werk levert dit voor het publiek vaak nieuwe inzichten op. \nHet Mosa Trio heeft in veel grote zalen van de Lage Landen gespeeld\, waaronder het Concertgebouw Amsterdam\, Muziekgebouw Eindhoven en BOZAR (Brussel). Daarnaast heeft het wereldwijd concerten gegeven in Italië\, Frankrijk\, het Verenigd Koninkrijk\, Oostenrijk\, Luxemburg\, Australië en China. Meer informatie over het ensemble vindt u hier. \nHet programma in de Sint Jacobskerk omvat: \n\nL.van Beethoven (1770-1827)- “Gassenhauer” trio in Bes\, Op. 11\nRoel van Oosten (1958- )- Pianotrio nr 1\nPauze\nSchumann (1810-1856) – Pianotrio nr 2 in F\, Op. 80\n\nTickets: € 22\,50 zijn te verkrijgen via deze website \n 
URL:https://sintjacobskerk.nl/agenda/kamermuziek-zeeland-mosatrio/
CATEGORIES:Zichtbaar op homepage
ATTACH;FMTTYPE=image/jpeg:https://sintjacobskerk.nl/wp-content/uploads/2025/12/Mosa-Trio.jpg
ORGANIZER;CN="Stichting Kamermuziek Zeeland":MAILTO:bestuur@kamermuziekzeeland.nl
END:VEVENT
BEGIN:VEVENT
DTSTART;TZID=Europe/Amsterdam:20260116T200000
DTEND;TZID=Europe/Amsterdam:20260116T200000
DTSTAMP:20260422T014453
CREATED:20240405T082915Z
LAST-MODIFIED:20251027T103356Z
UID:10000256-1768593600-1768593600@sintjacobskerk.nl
SUMMARY:Nieuwjaarsconcert Zeeuws Orkest met Philippe Elan
DESCRIPTION:Misschien was u er bij. Nieuwjaar 2012. De chansonnier Philippe Elan was de smaakmaker van de avond met zijn ontroerend mooie Franse Chansons van o.a. Aznavour\, Piaf\, en Brel. Afgelopen zomer was hij in de Sint Jacobskerk bij één van de zomeravondconcerten en ook toen een enthousiaste zaal en een inspirerend concert. Een goede reden om hem weer terug te vragen. \nEen nieuwjaarsconcert is altijd een feest\, laat u verrassen met het overige programma.
URL:https://sintjacobskerk.nl/agenda/optie-nieuwjaarsconcert-zeeuws-orkest/
CATEGORIES:Zichtbaar op homepage
ATTACH;FMTTYPE=image/png:https://sintjacobskerk.nl/wp-content/uploads/2024/12/P.Elan-Concertgebouw.png
END:VEVENT
BEGIN:VEVENT
DTSTART;TZID=Europe/Amsterdam:20260110T193000
DTEND;TZID=Europe/Amsterdam:20260110T193000
DTSTAMP:20260422T014453
CREATED:20251110T194715Z
LAST-MODIFIED:20251229T140930Z
UID:10000235-1768073400-1768073400@sintjacobskerk.nl
SUMMARY:Kon. Harmonie Ons Genoegen:  Nieuwjaarsconcert met Nigel Brown
DESCRIPTION:  Musical Mov(i)es\nIeder jaar geeft het Harmonieorkest op de tweede zaterdag in het nieuwe jaar een concert en gaan ze op zoek naar een gast waarmee een avondvullend programma wordt gegeven. Deze keer is de gast zanger Nigel Brown: Nigel was o.a. kandidaat in The Voice of Holland en had een rol in meerdere musicals\, waaronder The Lion King en Alladin. Tevens was hij de Nederlandse stem van “Mufasa”(2024) in de gelijknamige (bioscoop)film. \nHet Harmonieorkest Ons Genoegen staat onder leiding van dirigent Sander van Dorst. Het repertoire is iedere keer weer zeer divers. Dit jaar is gekozen voor film en musical. \nHet Harmonieorkest en zanger Nigel zal een aantal van hun eigen nummers laten horen. Daarnaast zal een aantal muziekstukken gezamenlijk uitgevoerd worden.\nOp het programma staat muziek uit onder andere: West Side Story\, Tarzan\, The Lion King\, An American in Paris. En van de bekende componisten Ennio Morricone en John Williams. Het concert heeft als toepasselijke titel “Musical Mov(i)es”. Het wordt een avond met veelal herkenbare muziek waarbij u kunt wegdromen of juist niet stil kunt blijven zitten. \nHet Nieuwjaarsconcert van het Harmonieorkest is:\nWaar:  Cultuurpodium Sint Jacobskerk Vlissingen\nWanneer:  zaterdag 10 januari 2026\nAanvang:  19.30 uur\, kerk open 18.45 uur \nToegangsprijs € 17\,00\nVoorverkoop € 15\,00 \nKijk voor meer informatie over de kaartverkoop op www.khog.nl
URL:https://sintjacobskerk.nl/agenda/optie-khog-2/
CATEGORIES:Zichtbaar op homepage
ATTACH;FMTTYPE=image/webp:https://sintjacobskerk.nl/wp-content/uploads/2025/10/Nigel-Brown_764x634.jpg.webp
END:VEVENT
BEGIN:VEVENT
DTSTART;TZID=Europe/Amsterdam:20260103T200000
DTEND;TZID=Europe/Amsterdam:20260103T200000
DTSTAMP:20260422T014453
CREATED:20251023T152204Z
LAST-MODIFIED:20251229T140809Z
UID:10000508-1767470400-1767470400@sintjacobskerk.nl
SUMMARY:CantateKaravaan: Nieuwjaarsconcert met Marga van Praag
DESCRIPTION:Begin 2026 feestelijk met een warm\, muzikaal verhaal! \nWe luiden het nieuwe jaar in met een sprankelend Nieuwjaarsconcert vol barokmuziek en verhalen.Marga van Praag neemt je mee met korte verhalende intermezzo’s over Kerst\, Nieuwjaar en muzikale tradities\, verweven met meesterwerken van Bach en Telemann. \n🎶 Op het programma\n• Bach – Unser Mund sei voll Lachens (BWV 110)\n• Telemann – Tönet de Freude\, belebte Trompeten!\n• Bach – Weihnachtsoratorium deel 3 (BWV 248/3) \nUitvoerenden\nDārta Liepiņa – sopraan\nErjan van der Velde – countertenor\nAlejandro Barrientos-Rupérez – tenor\nLars Klamer – bas\nKoor & orkest van de CANTATEKⱯRAVAAN\no.l.v. Rutger Valentijn Mauritz \nDe deuren zijn geopend om 19.30 uur\, het concert vangt aan om 20.00 uur. \nTickets € 18\,50\, jongeren tot 18 jaar € 12\,50 \n 
URL:https://sintjacobskerk.nl/agenda/optie-cantatekaravaan-nieuwjaarsconcert/
CATEGORIES:Zichtbaar op homepage
ATTACH;FMTTYPE=image/jpeg:https://sintjacobskerk.nl/wp-content/uploads/2025/12/26-1-3.jpg
ORGANIZER;CN="CantateKaravaan":MAILTO:Info@mariamagdalenacantorij.nl
END:VEVENT
BEGIN:VEVENT
DTSTART;TZID=Europe/Amsterdam:20251224T193000
DTEND;TZID=Europe/Amsterdam:20251224T233000
DTSTAMP:20260422T014453
CREATED:20241029T141153Z
LAST-MODIFIED:20241029T141153Z
UID:10000345-1766604600-1766619000@sintjacobskerk.nl
SUMMARY:Tocht van Licht en Kerstnachtdienst
DESCRIPTION:
URL:https://sintjacobskerk.nl/agenda/tocht-van-licht-en-kerstnachtdienst/
END:VEVENT
BEGIN:VEVENT
DTSTART;TZID=Europe/Amsterdam:20251221T163000
DTEND;TZID=Europe/Amsterdam:20251221T163000
DTSTAMP:20260422T014453
CREATED:20241029T140719Z
LAST-MODIFIED:20251201T175059Z
UID:10000340-1766334600-1766334600@sintjacobskerk.nl
SUMMARY:Nine Lessons and Carols
DESCRIPTION:Traditiegetrouw vindt op de laatste zondag voor Kerstmis  het Festival of Nine Lessons and Carols plaats in de Sint Jacobskerk in Vlissingen. Aanvang 16.30 uur. \nDe Evensingers o.l.v. Ineke Wijkhuijs-van den Driest zullen 9 Carols zingen\, waarvan een deel ook samenzang is\, en 9 sprekers zullen elk een bijbeltekst voorlezen uit Genesis\, Jesaja en het Nieuwe Testament. Het is een feestelijke opmaat naar het Kerstfeest\, dat zijn oorsprong vindt in de 19e eeuw\, toen de Bisschop van Truro in een poging om arbeiders die op kerstavond hun loon ontvingen uit de Pub te houden. Door direct na sluitingstijd van de fabriek een dienst met carols op bekende volkswijsjes te plannen\, lokte hij hen naar de kerk. Het was een gelukkige vondst\, die weldra over heel Engeland navolging had en begin 20e eeuw ook het Europese vasteland bereikte. Je kunt je nu geen Kerst meer voorstellen zonder de Lessons & Carols. Je kan zelf een Festival of Nine Lessons and Carols bezoeken in veel kerken in Nederland en dus ook in de Sint jAcobskerk. \n\nEr zijn 9 sprekers uit diverse genootschappen (Leger des Heils\, Apostolisch Genootschap\, RK Kerk\, PKN) en de organist die de koor- en samenzang begeleidt is Gerard Boot. Er wordt geen entree geheven\, maar er is wel een collecte voor Artsen Zonder Grenzen.
URL:https://sintjacobskerk.nl/agenda/nine-lessons-and-carols/
CATEGORIES:Zichtbaar op homepage
ATTACH;FMTTYPE=image/png:https://sintjacobskerk.nl/wp-content/uploads/2025/12/9-lessons-and-carols.png
END:VEVENT
BEGIN:VEVENT
DTSTART;TZID=Europe/Amsterdam:20251220T193000
DTEND;TZID=Europe/Amsterdam:20251220T193000
DTSTAMP:20260422T014453
CREATED:20251103T113812Z
LAST-MODIFIED:20251201T084450Z
UID:10000511-1766259000-1766259000@sintjacobskerk.nl
SUMMARY:Schitterend Kerstconcert
DESCRIPTION:Als onderdeel van Vlissingen Schittert geeft het Violistenorkest Vlissingen een “Schitterend Kerstconcert” op zaterdag 20 december\,  aanvang 19:30.  Het orkest is aanwezig met maar liefst 25 violisten\, 2 altviolisten\, 3 cellisten een harpiste\, cajon-speler\, bassist en gitarist. De  ‘SeaSoundSingers’ versterken het programma bij een aantal kerstliederen. In het repertoire zijn naast echte klassiekers (Jingle Bells\, Stille Nacht) ook popliedjes en zelfs mooie stukken van Lindsey Stirling opgenomen. Naast vioolsolo’s zult u ook zeker andere solisten horen o.l.v. zangcoach Rosalie Vermeulen. \nHet eerste deel van het concert zal heel kindvriendelijk zijn. Bij een aantal liedjes zullen kinderen meezingen en natuurlijk is het ook mogelijk om in de zaal mee te zingen.  Om 20:15 is er een pauze\, daarna gaat het concert verder tot 21:30 met een heel gevarieerd programma. De nadruk ligt op het zoveel mogelijk samenwerken met andere muzikanten en zelfs met schitterende balletdansers. Kortom een heerlijke schitterende avond om mee te beleven! \nKaarten zijn verkrijgbaar via deze site: € 7\,50 / jongeren tot 18 jaar € 2\,50\nDe opbrengst van de tickets komt ten goede aan jongeren-muziekeducatie via de stichting StringTogether en aan het onderhoud van het oudste monument van de stad\, de Sint Jacobskerk. \nDit concert is mede mogelijk gemaakt door de \, de NSPD regiodeal van de en het 
URL:https://sintjacobskerk.nl/agenda/schitterend-kerstconcert/
CATEGORIES:Zichtbaar op homepage
ATTACH;FMTTYPE=image/jpeg:https://sintjacobskerk.nl/wp-content/uploads/2025/11/schitterend-kerstconcert-2.jpg
END:VEVENT
BEGIN:VEVENT
DTSTART;TZID=Europe/Amsterdam:20251219T140000
DTEND;TZID=Europe/Amsterdam:20251220T160000
DTSTAMP:20260422T014453
CREATED:20251208T130916Z
LAST-MODIFIED:20251208T130918Z
UID:10000441-1766152800-1766246400@sintjacobskerk.nl
SUMMARY:Vlissingen Schittert  Kerstmarkt
DESCRIPTION:Twee dagen lang\, op 19 en 20 december vindt  u in en rond de Sint Jacobskerk een warme\, gezellige kerstmarkt met veel sfeervolle concerten van veelal Vlissingse musici. \nBeide dagen vindt u zo’n 20 kramen in de kerk met een zeer divers aanbod waaronder verschillende kunstenaars uit de regio. De markt is gratis te bezoeken en start op vrijdagmiddag om 14.00 uur en blijft die dag open tot 21.00 uur.\nOp zaterdag is de markt te bezoeken vanaf 11.00 uur. Zij sluit in de middag om 16.00 waarna de kerk in gereedheid wordt gebracht voor het ‘Schitterend Kerstconcert’ van het Vissings Violistenorkest\, de Sea Sound Singers en anderen. \nTijdens de markt heeft Cultuurpodium Sint Jacobskerk de volgende artiesten voor u geboekt: \n\nVrijdagmiddag 19 december van 14.30 – 16.30 uur: Ruben en Naomi de Keijzer met een keur uit verschillende covers\, ook de bekende christmassongs als ‘Happy xmas’ of ‘let it snow’ zullen niet ontbreken.  De karakteristieke akoestiek van de Sint Jacobskerk zal worden benut bij nummers als ‘Hallelujah’ of ‘Viva la Vida’. \n\nVrijdagavond 19 december van 18.15 – 19.30 uur: Trio Stardust: Lia Bostelaar\, Theo van Bokkem en Piet Verpoorte brengen bekende en minder bekende covers van nummers uit de jaren ’70 tot nu. Denk daarbij aan Americana en singer/songwriter repertoire. \n\nVrijdagavond 19 december van 19.30 – 20.30 uur: Ankie Kaljouw op panfluit en Lenie Stokman op de Steinway-vleugel vullen de kerk met hun inspirerende muzikale bijdrage\, bekende en minder bekende kerstmuziek staan op het programma maar ook een Roemeense zigeuner romance en wie weet een tango…. \n\nZaterdagmorgen 20 december van 11.15 tot 12.45 uur: Twee orkesten\, Prima Volta en BeLaDaNo\, in 2021 en respectievelijk 2023 opgericht als Nieuw Talentenorkest van de Muziek Vereniging Vlissingen spelen in harmoniebezetting van pop tot klassiek. \n\nZaterdagmiddag 20 december van 13.00 tot 15.00 uur: The Dickens Singers\,  een enthousiaste groep carolzingers\, waarvan de meesten ook actief meezingen bij het jaarlijkse Festival of Lessons and Carols op zondag 21 december in de Sint Jacobskerk om 16.30 uur
URL:https://sintjacobskerk.nl/agenda/optie-kerstmarkt-2-2/
CATEGORIES:Zichtbaar op homepage
ATTACH;FMTTYPE=image/jpeg:https://sintjacobskerk.nl/wp-content/uploads/2025/11/P1020465.jpg
ORGANIZER;CN="Cultuurpodium Sint Jacobskerk":MAILTO:verhuur@sintjacobskerk.nl
END:VEVENT
BEGIN:VEVENT
DTSTART;TZID=Europe/Amsterdam:20251217T080000
DTEND;TZID=Europe/Amsterdam:20251217T170000
DTSTAMP:20260422T014453
CREATED:20241029T140833Z
LAST-MODIFIED:20241029T140833Z
UID:10000341-1765958400-1765990800@sintjacobskerk.nl
SUMMARY:Adventsvesper
DESCRIPTION:
URL:https://sintjacobskerk.nl/agenda/adventsvesper/
END:VEVENT
BEGIN:VEVENT
DTSTART;VALUE=DATE:20251217
DTEND;VALUE=DATE:20251218
DTSTAMP:20260422T014453
CREATED:20241029T093622Z
LAST-MODIFIED:20241029T093622Z
UID:10000339-1765929600-1766015999@sintjacobskerk.nl
SUMMARY:Kerstviering Diakonie Protestantse Gemeente Vlissingen
DESCRIPTION:
URL:https://sintjacobskerk.nl/agenda/kerstviering-diakonie-protestantse-gemeente-vlissingen/
END:VEVENT
END:VCALENDAR