BEGIN:VCALENDAR
VERSION:2.0
PRODID:-//Cultuurpodium Sint Jacobskerk - ECPv6.2.8.1//NONSGML v1.0//EN
CALSCALE:GREGORIAN
METHOD:PUBLISH
X-WR-CALNAME:Cultuurpodium Sint Jacobskerk
X-ORIGINAL-URL:https://sintjacobskerk.nl
X-WR-CALDESC:Evenementen voor Cultuurpodium Sint Jacobskerk
REFRESH-INTERVAL;VALUE=DURATION:PT1H
X-Robots-Tag:noindex
X-PUBLISHED-TTL:PT1H
BEGIN:VTIMEZONE
TZID:Europe/Amsterdam
BEGIN:DAYLIGHT
TZOFFSETFROM:+0100
TZOFFSETTO:+0200
TZNAME:CEST
DTSTART:20250330T010000
END:DAYLIGHT
BEGIN:STANDARD
TZOFFSETFROM:+0200
TZOFFSETTO:+0100
TZNAME:CET
DTSTART:20251026T010000
END:STANDARD
END:VTIMEZONE
BEGIN:VEVENT
DTSTART;TZID=Europe/Amsterdam:20251217T080000
DTEND;TZID=Europe/Amsterdam:20251217T170000
DTSTAMP:20260422T032107
CREATED:20241029T140833Z
LAST-MODIFIED:20241029T140833Z
UID:10000341-1765958400-1765990800@sintjacobskerk.nl
SUMMARY:Adventsvesper
DESCRIPTION:
URL:https://sintjacobskerk.nl/agenda/adventsvesper/
END:VEVENT
BEGIN:VEVENT
DTSTART;VALUE=DATE:20251217
DTEND;VALUE=DATE:20251218
DTSTAMP:20260422T032107
CREATED:20241029T093622Z
LAST-MODIFIED:20241029T093622Z
UID:10000339-1765929600-1766015999@sintjacobskerk.nl
SUMMARY:Kerstviering Diakonie Protestantse Gemeente Vlissingen
DESCRIPTION:
URL:https://sintjacobskerk.nl/agenda/kerstviering-diakonie-protestantse-gemeente-vlissingen/
END:VEVENT
BEGIN:VEVENT
DTSTART;TZID=Europe/Amsterdam:20251216T200000
DTEND;TZID=Europe/Amsterdam:20251216T200000
DTSTAMP:20260422T032107
CREATED:20241029T093356Z
LAST-MODIFIED:20251105T170813Z
UID:10000338-1765915200-1765915200@sintjacobskerk.nl
SUMMARY:MuziekPodiumZeeland: Trinity College Choir uit Cambridge
DESCRIPTION:Muziek voor de Advent en Kerstmis \nHet wereldberoemde Koor van Trinity College Cambridge treedt op in Vlissingen. Het koor wordt gerekend tot het vijfde beste koor ter wereld. Het ensemble bestaat uit ongeveer dertig zangers en twee organisten\, allen studenten aan de Universiteit van Cambridge. \nDe rijke koortraditie van Trinity gaat terug tot de veertiende eeuw\, toen voormalige koorzangers van de Chapel Royal gingen studeren aan King’s Hall\, later onderdeel van Trinity College. In de jaren 1980 bracht Richard Marlow een grote vernieuwing door vrouwenstemmen toe te laten. Onder leiding van Stephen Layton (muzikaal leider van 2006 tot 2023) was het koor pionier op het gebied van livestreaming van kerkdiensten. Sinds januari 2024 leidt Steven Grahl het koor. Hij zet de indrukwekkende muzikale erfenis voort. \nTijdens de universiteitsperiode staat het zingen van de liturgie in de collegekapel centraal. Het repertoire is breed en omvat muziek uit zowel de katholieke als protestantse tradities. Buiten de universiteitstermijnen treedt het koor regelmatig op in prestigieuze concerten en festivals. Zo werkte het samen met onder meer het Orchestra of the Age of Enlightenment\, de City of London Sinfonia\, Britten Sinfonia en het Academy of Ancient Music. Hoogtepunten zijn onder andere uitvoeringen van de Hohe Messe van Bach\, Het Gloria van Poulenc\, de Nelsonmis van Haydn en het Dettigen Te Deum van Händel. \nHet koor geniet internationale faam en verwezenlijkte vele opnames (de website heeft een groot archief met meer dan 7.500 live gezongen composities). Het koor maakt tournees door \nEuropa\, de VS\, Canada\, Zuidelijk Afrika\, Japan\, Taiwan\, Hongkong\, Peru en Australië. Mis dit optreden in Vlissingen dus niet. \nOp het programma: A sequence of music for Advent and Christmas werken van Michael Praetorius\, Herbert Howells and James MacMillan \nTickets: €27\,50 / €25\,- / Studenten €5\,-
URL:https://sintjacobskerk.nl/agenda/mpz-trinity-college-choir-uit-cambridge/
LOCATION:Sint Jacobskerk\, Oude Markt 2\, Vlissingen\, 4381 HK
CATEGORIES:Zichtbaar op homepage
ATTACH;FMTTYPE=image/jpeg:https://sintjacobskerk.nl/wp-content/uploads/2024/09/The_Choir_of_Trinity_College_Cambridge_.jpg
END:VEVENT
BEGIN:VEVENT
DTSTART;TZID=Europe/Amsterdam:20251213T190000
DTEND;TZID=Europe/Amsterdam:20251213T190000
DTSTAMP:20260422T032107
CREATED:20241120T153210Z
LAST-MODIFIED:20251031T112248Z
UID:10000358-1765652400-1765652400@sintjacobskerk.nl
SUMMARY:Zeeuws Concertkoor & Zeeuws Jeugdorkest
DESCRIPTION:Uitgevoerd wordt het Magnificat in B van F. Durante\, een prachtig stuk uit de barok en het welbekende Gloria van A. Vivaldi. \nNa de pauze een Noorse vertelling over Rafelkap\, een heel bijzonder meisje\, afgewisseld met koorliederen en muziek van de Noorse componist Ole Olsen. \nAan dit concert werken mee: de uit Middelburg afkomstige mezzosopraan Hanna de Bruin en de Tsjechische sopraan Markéta Palová\, het strijkersensemble Con Legno\, het Zeeuws Jeugdorkest onder leiding van Bart van Gorp\, het Kinderkoor Zeeland onder leiding van Meike Warmoeskerken\, Jos Vogel\, orgel en Marcel Koopman\, verteller. Pim Overduin heeft de algehele leiding over dit concert.\nEen voorstelling voor jong en oud\, voor opa’s en oma’s die er met hun kleinkinderen heen kunnen gaan\, kortom een concert voor het hele gezin.
URL:https://sintjacobskerk.nl/agenda/zeeuws-concertkoor-zeeuws-jeugdorkest/
CATEGORIES:Zichtbaar op homepage
ATTACH;FMTTYPE=image/png:https://sintjacobskerk.nl/wp-content/uploads/2025/10/kerstconcert-Zws-Concertkoor.png
END:VEVENT
BEGIN:VEVENT
DTSTART;TZID=Europe/Amsterdam:20251212T190000
DTEND;TZID=Europe/Amsterdam:20251212T190000
DTSTAMP:20260422T032107
CREATED:20250925T105921Z
LAST-MODIFIED:20251106T102657Z
UID:10000496-1765566000-1765566000@sintjacobskerk.nl
SUMMARY:Christmas City Trail Vlissingen
DESCRIPTION:Tijdens de X-mas City Trail Vlissingen lopen honderden deelnemers een bijzondere route van circa vijf kilometer langs iconische locaties\, waar licht\, muziek en kleine verrassingen zorgen voor een onvergetelijke avond in winterse sfeer. De start en finish zijn in de Sint Jacobskerk. \nDeelnemers ontdekken Vlissingen op een unieke manier: van de Steenen Beer en het Dok van Perry tot Bellamypark en de Boulevard De Ruyter. Onderweg zijn er korte optredens\, koren\, lichtacts en sfeervolle ontmoetingsmomenten. De route voert deels door gebouwen heen\, zodat deelnemers letterlijk de stad kunnen beleven. “De X-mas City Trail combineert bewegen\, beleven en verbinden. \nDe opbrengst van de X-mas City Trail komt ten goede aan Stichting De Blauwe Vlinder\, een lokale non-profitorganisatie die zich inzet voor het organiseren en bevorderen van zorg- en belevingsactiviteiten voor ouderen en mensen met dementie in Vlissingen en omgeving. De stichting creëert betekenisvolle momenten van contact\, muziek\, beweging en ontspanning — kleine geluksmomenten die een groot verschil maken in het leven van ouderen. \nU kunt zich hier  inschrijven. \n 
URL:https://sintjacobskerk.nl/agenda/optie-virque-avis-events/
CATEGORIES:Zichtbaar op homepage
ATTACH;FMTTYPE=image/png:https://sintjacobskerk.nl/wp-content/uploads/2025/09/X-mas-city-trail.png
END:VEVENT
BEGIN:VEVENT
DTSTART;TZID=Europe/Amsterdam:20251212T080000
DTEND;TZID=Europe/Amsterdam:20251212T170000
DTSTAMP:20260422T032107
CREATED:20241122T133908Z
LAST-MODIFIED:20241122T133908Z
UID:10000359-1765526400-1765558800@sintjacobskerk.nl
SUMMARY:opbouw concert 13 december
DESCRIPTION:
URL:https://sintjacobskerk.nl/agenda/opbouw-concert-13-december/
END:VEVENT
BEGIN:VEVENT
DTSTART;TZID=Europe/Amsterdam:20251211T080000
DTEND;TZID=Europe/Amsterdam:20251211T170000
DTSTAMP:20260422T032107
CREATED:20250923T074201Z
LAST-MODIFIED:20250923T074202Z
UID:10000492-1765440000-1765472400@sintjacobskerk.nl
SUMMARY:Huwelijk
DESCRIPTION:
URL:https://sintjacobskerk.nl/agenda/huwelijk-5/
END:VEVENT
BEGIN:VEVENT
DTSTART;TZID=Europe/Amsterdam:20251210T193000
DTEND;TZID=Europe/Amsterdam:20251210T193000
DTSTAMP:20260422T032107
CREATED:20241029T140925Z
LAST-MODIFIED:20241029T140925Z
UID:10000342-1765395000-1765395000@sintjacobskerk.nl
SUMMARY:Adentsvesper
DESCRIPTION:
URL:https://sintjacobskerk.nl/agenda/adentsvesper/
END:VEVENT
BEGIN:VEVENT
DTSTART;TZID=Europe/Amsterdam:20251207T153000
DTEND;TZID=Europe/Amsterdam:20251207T153000
DTSTAMP:20260422T032107
CREATED:20250527T160902Z
LAST-MODIFIED:20251126T180741Z
UID:10000451-1765121400-1765121400@sintjacobskerk.nl
SUMMARY:Trio 258 met Meesterwerken van Schubert en Dvořák
DESCRIPTION:Trio 258 (Eduardo Paredes Crespo (viool)\, Leonard Besseling (cello) en Lestari Scholtes (piano)) heeft een flinke staat van dienst opgebouwd sinds ze elkaar in 2015 voor het eerst ontmoetten in een repetitieruimte aan de Keizersgracht 258 in Amsterdam. Ze waren bijvoorbeeld eerder te bewonderen in het Concertgebouw\, TivoliVredenburg en Opéra National de Bordeaux. In Vlissingen brengen ze meesterwerken van Schubert en Dvořák. \n\nSchubert: Pianotrio nr. 1 in Bes (1797-1828)\n1. Allegro Moderato\n2. Andante un poco mosso\n3. Scherzo. Allegro\n4. Rondo. Allegro vivace\nPAUZE\n\nA. Dvořák: Pianotrio no. 3 in F mineur (1841-1904)\n1.Allegro ma non troppo\n2.Allgretto grazioso\n3.Poco adagio\n4.Finale – allegro con brio\n\n\nTickets: € 20\,00 te bestellen via deze site of bij boekhandel ’t Spui
URL:https://sintjacobskerk.nl/agenda/optie-kamermuziek-zeeland-trio-258/
CATEGORIES:Zichtbaar op homepage
ATTACH;FMTTYPE=image/jpeg:https://sintjacobskerk.nl/wp-content/uploads/2025/05/Trio-258.jpg
END:VEVENT
BEGIN:VEVENT
DTSTART;TZID=Europe/Amsterdam:20251203T193000
DTEND;TZID=Europe/Amsterdam:20251203T193000
DTSTAMP:20260422T032107
CREATED:20241029T141010Z
LAST-MODIFIED:20241029T141010Z
UID:10000343-1764790200-1764790200@sintjacobskerk.nl
SUMMARY:Adventsvesper
DESCRIPTION:
URL:https://sintjacobskerk.nl/agenda/adventsvesper-5/
END:VEVENT
BEGIN:VEVENT
DTSTART;TZID=Europe/Amsterdam:20251203T100000
DTEND;TZID=Europe/Amsterdam:20251203T160000
DTSTAMP:20260422T032107
CREATED:20251126T163422Z
LAST-MODIFIED:20251126T163422Z
UID:10000549-1764756000-1764777600@sintjacobskerk.nl
SUMMARY:Uitvaartdienst
DESCRIPTION:
URL:https://sintjacobskerk.nl/agenda/uitvaartdienst-4/
END:VEVENT
BEGIN:VEVENT
DTSTART;TZID=Europe/Amsterdam:20251130T153000
DTEND;TZID=Europe/Amsterdam:20251130T153000
DTSTAMP:20260422T032107
CREATED:20240927T093350Z
LAST-MODIFIED:20251107T094508Z
UID:10000318-1764516600-1764516600@sintjacobskerk.nl
SUMMARY:MuziekPodiumZeeland: The Hague String Trio GEANNULEERD
DESCRIPTION:CONCERT GEANNULEERD \nNa jaren studie en optredens in vele landen ontmoetten Justyna Briefjes/viool\, Julia Dinerstein/cello en Miriam Kirby/altviool elkaar in Den Haag. Ze deelden een gezamenlijke liefde voor de kamermuziek en besloten in 2006 het The Hague String Trio op te richten. Zij vormden al snel een hecht ensemble en verkenden het uitgebreide strijktriorepertoire. Zij werkten samen met andere musici onder wie hoboïste Pauline Oostenrijk en pianist Daniël Kramer\, met wie zij vele concerten door heel Europa hebben verzorgd. Zij vertolkten composities van bekende en minder bekende componisten. Sinds 2021/2022 werken zij samen met pianiste Ksenia Kouzmenko. \nIn 2019 is de cd After the Darkness uitgebracht\, met werken van Joodse componisten wier levens verwoest zijn in de Tweede Wereldoorlog door vervolging\, moord of verbanning. Deze cd kreeg vele prijzen. Het meest recente album\, Celebrating Women! is een verzameling van nooit eerder opgenomen strijktrio’s van vrouwelijke componisten uit de tweede helft van de 19de en eerste helft van de 20ste eeuw. Ook deze opname kreeg veel lof. \nJustyna Briefjes en Miriam Kirby zijn beiden lid van het Residentie Orkest in Den Haag en Julia Dinerstein is altviooldocente aan verschillende Nederlandse conservatoria. In Vlissingen brengen zij het programma The Roaring Twenties met muziek uit de twintiger jaren van de vorige eeuw. Berlijn\, Wenen\, Parijs waren broedplaatsen van experimentele vormen in de kunst\, muziek en theater. Eisler en Gershwin dompelden zich onder in de jazzmuziek\, Kreisler reisde als laatste violist in de traditie van Paganini de wereld over en speelde zijn eigen muziek. De Hongaar Frid componeerde zijn strijktrio in de bloei van zijn leven\, hij was een virtuoos pianist die in heel Europa optrad. Inmiddels had in Nederland Röntgen een grote naam opgebouwd. Hij richtte met anderen het Amsterdams Conservatorium en het Concertgebouw op en liet meer dan 600 composities na. Hun werken worden gespeeld in Vlissingen\, met als kers op de taart de prachtige suite voor strijktrio van Emmy Frensel Wegener\, die slechts tien jaar actief was als componiste\, maar die meer bekendheid verdiend. \n Tickets: €20\,- / €17\,50 / Studenten €5\,-
URL:https://sintjacobskerk.nl/agenda/the-hague-string-trio/
LOCATION:Sint Jacobskerk\, Oude Markt 2\, Vlissingen\, 4381 HK
CATEGORIES:Zichtbaar op homepage
ATTACH;FMTTYPE=image/jpeg:https://sintjacobskerk.nl/wp-content/uploads/2024/09/the-Hague-String-Trio-1.jpg
END:VEVENT
BEGIN:VEVENT
DTSTART;TZID=Europe/Amsterdam:20251126T193000
DTEND;TZID=Europe/Amsterdam:20251126T193000
DTSTAMP:20260422T032107
CREATED:20241029T141052Z
LAST-MODIFIED:20241029T141053Z
UID:10000344-1764185400-1764185400@sintjacobskerk.nl
SUMMARY:adventsvesper
DESCRIPTION:
URL:https://sintjacobskerk.nl/agenda/adventsvesper-7/
END:VEVENT
BEGIN:VEVENT
DTSTART;TZID=Europe/Amsterdam:20251125T080000
DTEND;TZID=Europe/Amsterdam:20251125T170000
DTSTAMP:20260422T032107
CREATED:20251118T164334Z
LAST-MODIFIED:20251118T164334Z
UID:10000538-1764057600-1764090000@sintjacobskerk.nl
SUMMARY:Uitvaart
DESCRIPTION:
URL:https://sintjacobskerk.nl/agenda/uitvaart-8/
END:VEVENT
BEGIN:VEVENT
DTSTART;TZID=Europe/Amsterdam:20251119T130000
DTEND;TZID=Europe/Amsterdam:20251119T130000
DTSTAMP:20260422T032107
CREATED:20251114T120203Z
LAST-MODIFIED:20251114T120204Z
UID:10000536-1763557200-1763557200@sintjacobskerk.nl
SUMMARY:Uitvaartdienst
DESCRIPTION:
URL:https://sintjacobskerk.nl/agenda/uitvaartdienst-3/
END:VEVENT
BEGIN:VEVENT
DTSTART;TZID=Europe/Amsterdam:20251115T200000
DTEND;TZID=Europe/Amsterdam:20251115T200000
DTSTAMP:20260422T032107
CREATED:20250415T084335Z
LAST-MODIFIED:20250925T120749Z
UID:10000445-1763236800-1763236800@sintjacobskerk.nl
SUMMARY:Kamerkoor Luscinia: Ein Deutsches Requiem op. 45\, Johannes Brahms\, wordt verplaatst naar 2026
DESCRIPTION:Kamerkoor Luscinia is al meer dan 20 jaar actief in Zeeland\, met name op Schouwen-Duiveland en in Zuid Beveland.  Opgericht door beroepsmusicus Wim Boer staat het nu onder leiding van Christian Blaha. Op 15 november om 20:00 voeren zij het Deutsches Requiem uit van Johannes Brahms samen met de pianisten Rien Balkenende en Natalia Pavlova\, quatre-mains op de piano.
URL:https://sintjacobskerk.nl/agenda/optie-kamerkoor-luscinia/
ATTACH;FMTTYPE=image/jpeg:https://sintjacobskerk.nl/wp-content/uploads/2025/04/Luscinia-Kamerkoor.jpg
END:VEVENT
BEGIN:VEVENT
DTSTART;TZID=Europe/Amsterdam:20251107T180000
DTEND;TZID=Europe/Amsterdam:20251107T230000
DTSTAMP:20260422T032107
CREATED:20251029T113111Z
LAST-MODIFIED:20251029T113239Z
UID:10000509-1762538400-1762556400@sintjacobskerk.nl
SUMMARY:orgelrepetities
DESCRIPTION:
URL:https://sintjacobskerk.nl/agenda/orgelrepetities/
END:VEVENT
BEGIN:VEVENT
DTSTART;TZID=Europe/Amsterdam:20251102T170000
DTEND;TZID=Europe/Amsterdam:20251102T170000
DTSTAMP:20260422T032107
CREATED:20240404T075640Z
LAST-MODIFIED:20240404T075820Z
UID:10000254-1762102800-1762102800@sintjacobskerk.nl
SUMMARY:Evensong
DESCRIPTION:
URL:https://sintjacobskerk.nl/agenda/evensong-14/2025-11-02/
END:VEVENT
BEGIN:VEVENT
DTSTART;TZID=Europe/Amsterdam:20251031T203000
DTEND;TZID=Europe/Amsterdam:20251031T203000
DTSTAMP:20260422T032107
CREATED:20241030T110506Z
LAST-MODIFIED:20251029T113519Z
UID:10000346-1761942600-1761942600@sintjacobskerk.nl
SUMMARY:Tribute to MTV unplugged
DESCRIPTION:The Unplugged Experience ‘Tribute to MTV unplugged’ \nWeer terug  in de Sint-Jacobskerk in Vlissingen. \nThe Unplugged Experience komt weer terug in de Sint -Jacobskerk te Vlissingen. Na een succesvolle show met The Dutch Queen Unplugged  komt The Unplugged Experience op 31 oktober terug met het concept MTV Unplugged.  Net als vorig jaar komen we met 17 gepassioneerde muzikanten  en een uitgebreid repertoire  in de geest van de videoclipzender MTV  een semi akoestische ode aan de legendarische MTV Unplugged sessies. \nErvaar en (her)beleef de melancholiek en muzikale hoogtepunten van topbands en artiesten uit voornamelijk de jaren negentig tijdens dit eerbetoon aan MTV Unplugged. Zoals in de welbekende tv-show klinken vanaf het ‘tapijt’ de klanken van o.a. Pearl Jam\, Nirvana\, Eric Clapton\, Sinead O’connor\, Kiss en Mariah Carey. De twee uur durende show is een unieke ervaring in de sfeervolle en adembenemende setting van de Sint -Jacobskerk. \n 
URL:https://sintjacobskerk.nl/agenda/optie-rock-events-mtv-unplugged/
CATEGORIES:Zichtbaar op homepage
ATTACH;FMTTYPE=image/jpeg:https://sintjacobskerk.nl/wp-content/uploads/2025/06/MTV-Unplugged-VLISSINGEN-31-OKT-jpeg.jpg
END:VEVENT
BEGIN:VEVENT
DTSTART;TZID=Europe/Amsterdam:20251026T153000
DTEND;TZID=Europe/Amsterdam:20251026T153000
DTSTAMP:20260422T032107
CREATED:20241114T154913Z
LAST-MODIFIED:20251020T115701Z
UID:10000353-1761492600-1761492600@sintjacobskerk.nl
SUMMARY:MuziekPodiumZeeland: Niek Baar\, Ben Kim en Ella van Poucke/pianotrio
DESCRIPTION:Chopin\, Schumann\, Arensky en Dvorak \nIn 2016 speelden Ben Kim/piano\, Niek Baar/viool en Ella\, en van Poucke/cello voor het eerst samen\, en sindsdien werken zij als trio aan een veelzijdig repertoire. Elk seizoen verzorgen zij meerdere concerten\, zowel in Nederland als in het buitenland. Hun samenwerking kenmerkt zich door een bijzondere muzikale chemie\, waarbij elke muzikant zijn eigen unieke kleur toevoegt aan het geheel. Daarnaast proberen ze altijd zeer gevarieerde programma’s te brengen\, waarbij ze niet alleen als trio optreden\, maar zich ook graag in duo- en solovorm aan het publiek presenteren. \nBen Kim is een Amerikaanse pianist die in September 2006 in München een internationale prijs won. Hij studeerde in Amerika en in Italië o.a. bij Martha Argerich. Hij verzorgde optredens in de Verenigde Staten en in Japan\, maar ook in het Concertgebouw in Amsterdam\, Musikverein in Wenen en het Gewandhaus in Leipzig. \nNiek Baar is een Nederlandse violist. Hij won in 2018 het Nationaal Vioolconcours Oskar Back.  Eerder won hij andere concoursen. Hij heeft gestudeerd aan het Koninklijk Conservatorium in Den Haag en specialiseerde zich aan de Hochschule für Musik in Berlijn\, en bij Christoph Poppen in München. Baar vormt een duo met pianist Benjamin Kim. \nElla van Poucke is een van de toonaangevende cellisten van haar generatie. Zij wordt geprezen om haar muzikale integriteit\, feilloze instrumentale vaardigheden\, interpretatie en intensiteit. Zij treedt regelmatig op in Europa\, Azië en de Verenigde Staten als soliste en in kamermuziekverband. In Zeeland verzorgde zij al enkele spraakmakende optredens. \nHet afwisselende programma maakt het optreden van deze veelzijdige musici dynamisch en spannend. Zij brengen voor het publiek de muziek op een aparte manier tijdens elk recital tot leven. In Vlissingen nemen de musici de toehoorders mee op een muzikale reis door Europa. Er worden bekende en minder bekende composities vertolkt van Frederic Chopin\, Robert Schumann en Anton Arensky. Het concert wordt besloten met het virtuoze en beroemde Dumky Trio van Antonin Dvorak. \nHet concert vangt aan om 15.30 uur\, inloop vanaf 14:45 uur. \nTickets: €25\,- / €22\,50 / Studenten €5\,-
URL:https://sintjacobskerk.nl/agenda/niek-baar-ben-kim-en-harriette-krijgh/
LOCATION:Sint Jacobskerk\, Oude Markt 2\, Vlissingen\, 4381 HK
CATEGORIES:Zichtbaar op homepage
ATTACH;FMTTYPE=image/jpeg:https://sintjacobskerk.nl/wp-content/uploads/2024/11/Kim-Baar-en-Poucke.jpg
END:VEVENT
BEGIN:VEVENT
DTSTART;TZID=Europe/Amsterdam:20251025T080000
DTEND;TZID=Europe/Amsterdam:20251025T170000
DTSTAMP:20260422T032107
CREATED:20250924T160912Z
LAST-MODIFIED:20250924T160912Z
UID:10000494-1761379200-1761411600@sintjacobskerk.nl
SUMMARY:Optie: herdenking bevrijding Vlissingen (bij slecht weer)
DESCRIPTION:
URL:https://sintjacobskerk.nl/agenda/optie-herdenking-bevrijding-vlissingen-bij-slecht-weer/
END:VEVENT
BEGIN:VEVENT
DTSTART;TZID=Europe/Amsterdam:20251018T200000
DTEND;TZID=Europe/Amsterdam:20251018T200000
DTSTAMP:20260422T032107
CREATED:20250527T160625Z
LAST-MODIFIED:20250921T151628Z
UID:10000479-1760817600-1760817600@sintjacobskerk.nl
SUMMARY:Platner Trio met de Goldberg Variaties
DESCRIPTION:“Een grote liefde voor muziek en passie en voor het spelen van kamermuziek in het bijzonder.”  \nDit is wat Eefje Habraken\, Anne Huser en Daniel Petrovitsch met elkaar delen. Ze hebben elkaar leren kennen in het Rotterdams Philharmonisch Orkest. Nadat ze in diverse ensembles hebben samengespeeld\, besloten ze in 2022 samen het Platner trio op te richten. De naam Platner verwijst naar de Italiaanse bouwer van de cello van Daniel: Michael Platner. Het spelen van kamermuziek is\, naast hun liefde voor het symfonisch repertoire\, een nog directere manier om met elkaar én het publiek te communiceren. \nGoldberg-variaties\, BWV 988 (arr. D. Sitkovetsky) \n“Goldberg” Het verhaal gaat dat Johann Sebastian Bach zijn Goldberg variaties schreef in opdracht van vriend én graaf Hermann Carl von Kaiserling. Graaf Von Kaiserling was regelmatig ziek en lag vaak ’s nachts wakker van de pijn. Om zijn slapeloosheid iets te verzachten\, vroeg hij Bach muziek te componeren die hem zou opvrolijken tijdens deze nachten. Bach componeerde een aria met 30 prachtige variaties. Ten tijde van de afronding van deze compositie had graaf Von Kaiserling een jonge clavecinist in dienst: Johann Gottlieb Goldberg. ’s Nachts speelde de jonge clavecinist de variaties urenlang in het aangrenzende vertrek naast de slaapkamer van de graaf. Aan hem dankt deze briljante compositie zijn naam. Johann Sebastian Bach (1685-1750) Goldberg-variaties\, BWV 988 (1741) in een bewerking voor strijktrio door Dmitri Sitkovetsky \nTickets: € 20\,00
URL:https://sintjacobskerk.nl/agenda/optie-kamermuziek-zeeland-platner-trio/
CATEGORIES:Zichtbaar op homepage
ATTACH;FMTTYPE=image/jpeg:https://sintjacobskerk.nl/wp-content/uploads/2025/05/Platner-Trio.jpg
END:VEVENT
BEGIN:VEVENT
DTSTART;TZID=Europe/Amsterdam:20251017T200000
DTEND;TZID=Europe/Amsterdam:20251017T200000
DTSTAMP:20260422T032107
CREATED:20250527T172712Z
LAST-MODIFIED:20250921T105010Z
UID:10000453-1760731200-1760731200@sintjacobskerk.nl
SUMMARY:Cultuur Lokaal: Velvet Music Project Geannuleerd
DESCRIPTION:Helaas is dit concert om gezondheidsredenen geannuleerd
URL:https://sintjacobskerk.nl/agenda/optie-velvet-music-project/
CATEGORIES:Zichtbaar op homepage
ATTACH;FMTTYPE=image/jpeg:https://sintjacobskerk.nl/wp-content/uploads/2025/07/Velvet-Music-Project-foto-1.jpeg
ORGANIZER;CN="Cultuurpodium Sint Jacobskerk":MAILTO:verhuur@sintjacobskerk.nl
END:VEVENT
BEGIN:VEVENT
DTSTART;TZID=Europe/Amsterdam:20251015T080000
DTEND;TZID=Europe/Amsterdam:20251015T170000
DTSTAMP:20260422T032107
CREATED:20251009T162725Z
LAST-MODIFIED:20251009T162725Z
UID:10000507-1760515200-1760547600@sintjacobskerk.nl
SUMMARY:Herdenkingsdienst
DESCRIPTION:
URL:https://sintjacobskerk.nl/agenda/herdenkingsdienst-9/
END:VEVENT
BEGIN:VEVENT
DTSTART;TZID=Europe/Amsterdam:20251013T080000
DTEND;TZID=Europe/Amsterdam:20251013T170000
DTSTAMP:20260422T032107
CREATED:20251006T164827Z
LAST-MODIFIED:20251006T164827Z
UID:10000504-1760342400-1760374800@sintjacobskerk.nl
SUMMARY:Herdenkingsdienst
DESCRIPTION:
URL:https://sintjacobskerk.nl/agenda/herdenkingsdienst-8/
END:VEVENT
BEGIN:VEVENT
DTSTART;TZID=Europe/Amsterdam:20251012T153000
DTEND;TZID=Europe/Amsterdam:20251012T153000
DTSTAMP:20260422T032107
CREATED:20241019T081520Z
LAST-MODIFIED:20250923T180836Z
UID:10000337-1760283000-1760283000@sintjacobskerk.nl
SUMMARY:MuziekPodiumZeeland: Graindelavoix
DESCRIPTION:Van Binchois tot Josquin \nBjörn Schmelzer richtte Graindelavoix op in 1999. Dit koor is een buitenbeentje in het Vlaamse oude muzieklandschap. De groep houdt zich niet aan de ongeschreven esthetische ‘etiquette’ maar gaat op zoek naar alternatieve mogelijkheden waarbij expressie en intensiteit extra aandacht krijgen. De programma’s zijn steeds aantrekkelijk. In Vlissingen presenteert Graindelavoix een duidelijk beeld van een prachtige genealogie van drie generaties onafgebroken Frans-Vlaamse polyfonie uit de 15de en vroeg 16de eeuw met een rode draad: Johannes Ockeghem was een leerling van de Bourgondische componist en zanger Gilles Binchois. Ockeghem zelf was dan weer de leermeester van Josquin Desprez en Loyset Compère\, en had een grote invloed op Jacob Obrecht. Obrecht is geboren in Gent\, werkte in Antwerpen en Brugge\, en is bezweken aan de pest in 1505 in Ferrara Italië\, toen hij Josquin\, die op tijd wist te ontsnappen aan de dodelijke ziekte\, verving. \nEnkele hoogtepunten uit dit programma zijn: het indrukwekkend en aangrijpend Agnus Dei van Binchois. De klaagzang voor Binchois die Ockeghem schreef. De polyfonie komt goed uit in andere werken van Ockeghem zoals in zijn Alma Redemptoris Mater waarin de luisteraar als het ware bij de hand wordt genomen op een denkbeeldige reis door een mystieke ruimte: van hemelse hoogten tot de diepste lagen van de menselijke ziel. \nJosquin hanteert een techniek waarin de herhaling de variatie versterkt. \nAbsoluut spectaculair is het Salve Regina van Jacob Obrecht\, ingewikkeld van compositie en heel virtuoos.\nGraindelavoix bestaat deze keer uit: Andrew Hallock/alt\, Albert Riera/tenor\, Marius Peterson/tenor\, Arnout Malfliet/bas en Björn Schmelzer. \nTickets: €25\,- / €22\,50 / Studenten €5\,-
URL:https://sintjacobskerk.nl/agenda/optie-muziekpodiumzeeland-graindelavoix-2/
CATEGORIES:Zichtbaar op homepage
ATTACH;FMTTYPE=image/jpeg:https://sintjacobskerk.nl/wp-content/uploads/2024/09/graindelavoix.jpg
END:VEVENT
BEGIN:VEVENT
DTSTART;VALUE=DATE:20251011
DTEND;VALUE=DATE:20251012
DTSTAMP:20260422T032107
CREATED:20251004T124254Z
LAST-MODIFIED:20251004T124254Z
UID:10000503-1760140800-1760227199@sintjacobskerk.nl
SUMMARY:Herdenkingsdienst
DESCRIPTION:
URL:https://sintjacobskerk.nl/agenda/herdenkingsdienst-7/
END:VEVENT
BEGIN:VEVENT
DTSTART;TZID=Europe/Amsterdam:20251006T120000
DTEND;TZID=Europe/Amsterdam:20251006T120000
DTSTAMP:20260422T032107
CREATED:20250408T112652Z
LAST-MODIFIED:20250416T103235Z
UID:10000439-1759752000-1759752000@sintjacobskerk.nl
SUMMARY:Congres vereniging Zeeuwse Gemeenten
DESCRIPTION:Start van het jaarcongres van de VZG organiseren in de Sint Jacobskerk
URL:https://sintjacobskerk.nl/agenda/congres-vereniging-van-zeeuwse-gemeenten/
LOCATION:Sint Jacobskerk\, Oude Markt 2\, Vlissingen\, 4381 HK
END:VEVENT
BEGIN:VEVENT
DTSTART;TZID=Europe/Amsterdam:20251005T170000
DTEND;TZID=Europe/Amsterdam:20251005T170000
DTSTAMP:20260422T032107
CREATED:20240404T075640Z
LAST-MODIFIED:20240404T075820Z
UID:10000253-1759683600-1759683600@sintjacobskerk.nl
SUMMARY:Evensong
DESCRIPTION:
URL:https://sintjacobskerk.nl/agenda/evensong-14/2025-10-05/
END:VEVENT
BEGIN:VEVENT
DTSTART;TZID=Europe/Amsterdam:20251005T120000
DTEND;TZID=Europe/Amsterdam:20251005T160000
DTSTAMP:20260422T032107
CREATED:20241120T152803Z
LAST-MODIFIED:20241120T152803Z
UID:10000357-1759665600-1759680000@sintjacobskerk.nl
SUMMARY:Kliederkerk
DESCRIPTION:
URL:https://sintjacobskerk.nl/agenda/kliederkerk-7/
END:VEVENT
END:VCALENDAR