BEGIN:VCALENDAR
VERSION:2.0
PRODID:-//Cultuurpodium Sint Jacobskerk - ECPv6.2.8.1//NONSGML v1.0//EN
CALSCALE:GREGORIAN
METHOD:PUBLISH
X-WR-CALNAME:Cultuurpodium Sint Jacobskerk
X-ORIGINAL-URL:https://sintjacobskerk.nl
X-WR-CALDESC:Evenementen voor Cultuurpodium Sint Jacobskerk
REFRESH-INTERVAL;VALUE=DURATION:PT1H
X-Robots-Tag:noindex
X-PUBLISHED-TTL:PT1H
BEGIN:VTIMEZONE
TZID:Europe/Amsterdam
BEGIN:DAYLIGHT
TZOFFSETFROM:+0100
TZOFFSETTO:+0200
TZNAME:CEST
DTSTART:20230326T010000
END:DAYLIGHT
BEGIN:STANDARD
TZOFFSETFROM:+0200
TZOFFSETTO:+0100
TZNAME:CET
DTSTART:20231029T010000
END:STANDARD
END:VTIMEZONE
BEGIN:VEVENT
DTSTART;VALUE=DATE:20231208
DTEND;VALUE=DATE:20231209
DTSTAMP:20260423T035300
CREATED:20231027T100301Z
LAST-MODIFIED:20231027T100614Z
UID:10000138-1701993600-1702079999@sintjacobskerk.nl
SUMMARY:Geen verhuur mogelijk
DESCRIPTION:
URL:https://sintjacobskerk.nl/agenda/geen-verhuur-mogelijk-3/
END:VEVENT
BEGIN:VEVENT
DTSTART;TZID=Europe/Amsterdam:20231206T193000
DTEND;TZID=Europe/Amsterdam:20231206T193000
DTSTAMP:20260423T035300
CREATED:20231020T071219Z
LAST-MODIFIED:20231110T170128Z
UID:10000129-1701891000-1701891000@sintjacobskerk.nl
SUMMARY:AdventsVesper
DESCRIPTION:
URL:https://sintjacobskerk.nl/agenda/adventsvesper-3/
ATTACH;FMTTYPE=image/png:https://sintjacobskerk.nl/wp-content/uploads/2023/08/Logo-PKN-full-colour-groot.png
END:VEVENT
BEGIN:VEVENT
DTSTART;TZID=Europe/Amsterdam:20231129T193000
DTEND;TZID=Europe/Amsterdam:20231129T220000
DTSTAMP:20260423T035300
CREATED:20231113T100713Z
LAST-MODIFIED:20231113T100714Z
UID:10000190-1701286200-1701295200@sintjacobskerk.nl
SUMMARY:Gemeentevergadering PGV
DESCRIPTION:
URL:https://sintjacobskerk.nl/agenda/gemeentevergadering-pgv/
END:VEVENT
BEGIN:VEVENT
DTSTART;TZID=Europe/Amsterdam:20231129T190000
DTEND;TZID=Europe/Amsterdam:20231129T193000
DTSTAMP:20260423T035300
CREATED:20231019T114345Z
LAST-MODIFIED:20231113T100924Z
UID:10000128-1701284400-1701286200@sintjacobskerk.nl
SUMMARY:AdventsVesper
DESCRIPTION:
URL:https://sintjacobskerk.nl/agenda/adventsvesper-2/
ATTACH;FMTTYPE=image/png:https://sintjacobskerk.nl/wp-content/uploads/2023/08/Logo-PKN-full-colour-groot.png
END:VEVENT
BEGIN:VEVENT
DTSTART;TZID=Europe/Amsterdam:20231129T133000
DTEND;TZID=Europe/Amsterdam:20231129T170000
DTSTAMP:20260423T035300
CREATED:20231113T100619Z
LAST-MODIFIED:20231114T172827Z
UID:10000189-1701264600-1701277200@sintjacobskerk.nl
SUMMARY:Geen verhuur mogelijk
DESCRIPTION:
URL:https://sintjacobskerk.nl/agenda/geen-verhuur-mogelijk-2/
END:VEVENT
BEGIN:VEVENT
DTSTART;TZID=Europe/Amsterdam:20231125T200000
DTEND;TZID=Europe/Amsterdam:20231125T200000
DTSTAMP:20260423T035300
CREATED:20230824T112455Z
LAST-MODIFIED:20231109T082040Z
UID:10000024-1700942400-1700942400@sintjacobskerk.nl
SUMMARY:MPZ: Een nacht met Sjahrazade - Club Classique met Abdelkader Benali
DESCRIPTION:Een concert vol Oosterse tapijten en waterpijpen. Abdelkader Benali vertelt verhalen uit duizend-en-een-nacht\, omlijst door de mooiste oriëntaalse en klassieke muziek. Van Rimski-Korsakovs Sheherazade via de volksdansen van Bartók tot de moderne Turkse componist Fazil Say. Voorstellingen van Club Classique zitten vol spannende combinaties\, onverwachte twists en ontroerende verhalen. Violiste Myrthe Helder en cellist Leonard Besseling zijn de twee hersenhelften die het brein vormen van Club Classique.
URL:https://sintjacobskerk.nl/agenda/muziek-en-literatuur-club-classique-met-abdelkader-benali/
CATEGORIES:Zichtbaar op homepage
ATTACH;FMTTYPE=image/jpeg:https://sintjacobskerk.nl/wp-content/uploads/2023/08/1-Sjahrazade-Neeltje-de-Vries-min-2-1.jpg
END:VEVENT
BEGIN:VEVENT
DTSTART;TZID=Europe/Amsterdam:20231112T153000
DTEND;TZID=Europe/Amsterdam:20231112T153000
DTSTAMP:20260423T035300
CREATED:20230824T112325Z
LAST-MODIFIED:20231013T123740Z
UID:10000023-1699803000-1699803000@sintjacobskerk.nl
SUMMARY:MPZ: Combattimento met Daniel Rowland en Maja Bogdanovic
DESCRIPTION:In dit programma gaat Combattimento de dialoog aan met het befaamde strijkersduo Daniel Rowland en Maja Bogdanovic. Drie wervelende concerti van grootmeester Antonio Vivaldi.\nMeer informatie en tickets
URL:https://sintjacobskerk.nl/agenda/mpz-combattimento-met-daniel-rowland-en-maja-bogdanovic/
CATEGORIES:Zichtbaar op homepage
ATTACH;FMTTYPE=image/jpeg:https://sintjacobskerk.nl/wp-content/uploads/2023/08/Daniel_Rowland_Ref_Perform1_-Please_credit_-Kevin_Birch-1.jpg
END:VEVENT
BEGIN:VEVENT
DTSTART;TZID=Europe/Amsterdam:20231108T180000
DTEND;TZID=Europe/Amsterdam:20231108T220000
DTSTAMP:20260423T035300
CREATED:20231030T194514Z
LAST-MODIFIED:20231104T122959Z
UID:10000184-1699466400-1699480800@sintjacobskerk.nl
SUMMARY:Geen verhuur mogelijk
DESCRIPTION:
URL:https://sintjacobskerk.nl/agenda/geen-verhuur-mogelijk-14/
END:VEVENT
BEGIN:VEVENT
DTSTART;TZID=Europe/Amsterdam:20231105T170000
DTEND;TZID=Europe/Amsterdam:20231105T170000
DTSTAMP:20260423T035300
CREATED:20230824T112149Z
LAST-MODIFIED:20231016T100615Z
UID:10000021-1699203600-1699203600@sintjacobskerk.nl
SUMMARY:Evensong
DESCRIPTION:Op 5 november verzorgen de Evensingers weer een Evensong. Deze Evensong staat in het teken van Allerheiligen. We denken dan aan mensen die ons zijn voorgegaan. En we gedenken en vieren dat zij geen ‘mensen van voorbij’ zijn\, maar dat zij voortleven in die andere en betere wereld en daar nog altijd met ons verbonden zijn. ‘Zij spreken en getuigen nog om ons geloof te sterken. Kom\, zingen wij tesaam met alle heiligen’ (uit Lied 728 – Liedboek 2013)\nDe lezingen zijn uit Jesaja 60 en Openbaring 21. Het koor zingt Psalm 138 en als anthem ‘Swing low\, sweet chariot’. Voorganger is Ds. Pim Steenbergen\, de organist is Jos Vogel en de Evensingers zingen onder leiding van Ineke Wijkhuijs-v.d. Driest.
URL:https://sintjacobskerk.nl/agenda/evensong-4/
CATEGORIES:Zichtbaar op homepage
ATTACH;FMTTYPE=image/jpeg:https://sintjacobskerk.nl/wp-content/uploads/2023/08/P1020478.jpg
END:VEVENT
BEGIN:VEVENT
DTSTART;TZID=Europe/Amsterdam:20231101T200000
DTEND;TZID=Europe/Amsterdam:20231101T223000
DTSTAMP:20260423T035300
CREATED:20230921T093927Z
LAST-MODIFIED:20231028T210408Z
UID:10000058-1698868800-1698877800@sintjacobskerk.nl
SUMMARY:Trio RoVerde GEANNULEERD
DESCRIPTION:CONCERT GEANNULEERD !!!
URL:https://sintjacobskerk.nl/agenda/trioverde/
CATEGORIES:Zichtbaar op homepage
ATTACH;FMTTYPE=image/jpeg:https://sintjacobskerk.nl/wp-content/uploads/2023/10/TrioRoVerde.jpg
END:VEVENT
BEGIN:VEVENT
DTSTART;VALUE=DATE:20231027
DTEND;VALUE=DATE:20231028
DTSTAMP:20260423T035300
CREATED:20231027T174124Z
LAST-MODIFIED:20231027T174210Z
UID:10000158-1698364800-1698451199@sintjacobskerk.nl
SUMMARY:Geen verhuur mogelijk
DESCRIPTION:
URL:https://sintjacobskerk.nl/agenda/geen-verhuur-mogelijk-10/
END:VEVENT
BEGIN:VEVENT
DTSTART;TZID=Europe/Amsterdam:20231021T200000
DTEND;TZID=Europe/Amsterdam:20231021T200000
DTSTAMP:20260423T035300
CREATED:20230824T111519Z
LAST-MODIFIED:20231114T171339Z
UID:10000118-1697918400-1697918400@sintjacobskerk.nl
SUMMARY:MuziekPodiumZeeland:  Een avond met Marion Bloem
DESCRIPTION:Muziek en Literatuur: Marion Bloem\, winnares van de Constantijn Huygens-prijs 2022\, viert haar 50-jarig jubileum als schrijver. Ze leest voor uit met name haar nieuwe roman ‘Meisjes uit het dorp’ afgewisseld met optredens van Patrick Drabe en Desray met songs uit de jaren ’50 en ’60 .
URL:https://sintjacobskerk.nl/agenda/marcela-simons-presenteert-haar-nieuwe-album-tijdens-een-lig-luisterconcert-3/
CATEGORIES:Zichtbaar op homepage
ATTACH;FMTTYPE=image/jpeg:https://sintjacobskerk.nl/wp-content/uploads/2023/08/marion-bloem.jpeg
END:VEVENT
BEGIN:VEVENT
DTSTART;TZID=Europe/Amsterdam:20231006T200000
DTEND;TZID=Europe/Amsterdam:20231006T200000
DTSTAMP:20260423T035300
CREATED:20230824T111140Z
LAST-MODIFIED:20231114T171340Z
UID:10000022-1696622400-1696622400@sintjacobskerk.nl
SUMMARY:Marcela Simons presenteert haar nieuwe album tijdens een Lig&Luisterconcert
DESCRIPTION:https://sintjacobskerk.nl/wp-content/uploads/2023/08/VID-20230910-WA0000.mp4\n  \nLig&Luisterconcert St. Jacobskerk \nOp vrijdagavond 6 oktober 2023 om 20.00 uur zal de Vlissingse pianiste Marcela Simons Clarisse een bijzonder optreden geven. Het publiek zal liggend op een zelf meegenomen matrasje en kussentje gaan wegdromen op pianoklanken. Die zijn speciaal voor dit concert gecomponeerd door Vlissinger Jaco Simons. \nLigconcerten worden de laatste jaren steeds populairder. Dat komt door de ontspannen sfeer die de erbij horende pianomuziek uitstraalt\, maar ook omdat luisteren in liggende houding je naar een andere dimensie brengt. \nNatuurlijk is het de bedoeling dat elke bezoeker gaat liggen\, maar voor mensen die dat om welke reden dan ook niet kunnen\, worden er enkele stoelen klaargezet. \nHet concert duurt ongeveer 45 minuten waarna we met Marcela en Jaco na kunnen praten over de concertervaring\, onder het genot van een drankje. \nKAARTVERKOOP\nBestel uw kaarten voor dit concert (€ 12\,50) online!\nOok zijn de kaarten te koop bij boekhandel ’t Spui\, Oude Markt 5 in Vlissingen en voor aanvang van het concert in de kerk.\nOpbrengst van kaartverkoop en horeca komt geheel ten goede aan de Stichting Instandhouding Sint Jacobskerk. \nMeer informatie en tickets\n\nMarcela Simons Clarisse studeerde af aan het Brabants Conservatorium in Tilburg\, heeft een eigen lespraktijk en is als docente CKV en Muziek verbonden aan het Scheldemond College in Vlissingen. Marcela heeft twee pianoalbums opgenomen met muziek van Jaco\, onder de titels ‘2 Far Away’ en ‘2gether again’. Beide albums zijn te beluisteren op alle streamingplatforms\, waaronder Spotify en Apple Music.
URL:https://sintjacobskerk.nl/agenda/marcela-simons-presenteert-haar-nieuwe-album-tijdens-een-lig-luisterconcert/
LOCATION:Sint Jacobskerk\, Oude Markt 2\, Vlissingen\, 4381 HK
CATEGORIES:Zichtbaar op homepage
ATTACH;FMTTYPE=image/jpeg:https://sintjacobskerk.nl/wp-content/uploads/2023/08/20220326_131206-kopie.jpg
ORGANIZER;CN="Cultuurpodium Sint Jacobskerk":MAILTO:verhuur@sintjacobskerk.nl
END:VEVENT
BEGIN:VEVENT
DTSTART;TZID=Europe/Amsterdam:20231001T170000
DTEND;TZID=Europe/Amsterdam:20231001T170000
DTSTAMP:20260423T035300
CREATED:20230824T110930Z
LAST-MODIFIED:20231114T171340Z
UID:10000015-1696179600-1696179600@sintjacobskerk.nl
SUMMARY:Evensong
DESCRIPTION:Op de eerste zondag van oktober (1 oktober\, 17.00 uur) verzorgen de Evensingers o.l.v. dirigent Ineke Wijkhuijs – van den Driest een Evensong in de Sint Jacobskerk die aansluit bij het jaarthema van de kerk: ga mee!. De voorganger is ds. Hans Neels en de organist is Jos Vogel. \nGa ook met ons mee in de geleidelijke vernieuwing van de invulling van de Evensong: nog iets meer samen opgaand met de Anglicaanse opzet. Want de vaste gebeden en responsies zullen stukje bij beetje meer gezongen dan gesproken gaan worden. Een avontuur waarvan wij hopen dat u van harte meedoet! \nDeze Evensong zingen we dus meerdere onderdelen van lied 190a en lied 191 (teksten van Sytze de Vries en zettingen van Daniël Rouwkema). De lezingen zijn uit Numeri 10:29-32 en Efeziërs 3:14-19. Het koor zingt Psalm 67\, een Magnificat en Nunc Dimittis op een chant van Thomas Morley en uiteraard een mooi anthem. U kunt volop meezingen met de gekozen hymns. \nNa afloop van deze Evensong is er gelegenheid om met de koorleden na te praten onder het genot van een kopje koffie of thee. U bent van harte uitgenodigd.
URL:https://sintjacobskerk.nl/agenda/evensong-3/
LOCATION:Sint Jacobskerk\, Oude Markt 2\, Vlissingen\, 4381 HK
CATEGORIES:Zichtbaar op homepage
ATTACH;FMTTYPE=image/jpeg:https://sintjacobskerk.nl/wp-content/uploads/2023/07/evensong.jpg
ORGANIZER;CN="Cultuurpodium Sint Jacobskerk":MAILTO:verhuur@sintjacobskerk.nl
END:VEVENT
BEGIN:VEVENT
DTSTART;TZID=Europe/Amsterdam:20230930T200000
DTEND;TZID=Europe/Amsterdam:20230930T200000
DTSTAMP:20260423T035300
CREATED:20230824T110840Z
LAST-MODIFIED:20231114T171341Z
UID:10000014-1696104000-1696104000@sintjacobskerk.nl
SUMMARY:MPZ: Concert Busch Trio met Omri Epstein\, Mathieu van Bellen en Ori Epstein
DESCRIPTION:Kamermuziek als manier van leven: Busch Trio\nMeer informatie en tickets
URL:https://sintjacobskerk.nl/agenda/mpz-concert-busch-trio-met-omri-epstein-mathieu-van-bellen-en-ori-epstein/
LOCATION:Sint Jacobskerk\, Oude Markt 2\, Vlissingen\, 4381 HK
CATEGORIES:Zichtbaar op homepage
ATTACH;FMTTYPE=image/jpeg:https://sintjacobskerk.nl/wp-content/uploads/2023/08/Busch_Trio-2.jpg
ORGANIZER;CN="Cultuurpodium Sint Jacobskerk":MAILTO:verhuur@sintjacobskerk.nl
END:VEVENT
BEGIN:VEVENT
DTSTART;TZID=Europe/Amsterdam:20230924T153000
DTEND;TZID=Europe/Amsterdam:20230924T153000
DTSTAMP:20260423T035300
CREATED:20230824T110616Z
LAST-MODIFIED:20231114T171341Z
UID:10000013-1695569400-1695569400@sintjacobskerk.nl
SUMMARY:MPZ: Pianoconcert - Nadezda Filippova
DESCRIPTION:Concertpianiste Nadezda Filippova heeft de hele wereld rondgereisd met muziek en gaf concerten van Europa\, tot het verre oosten in Rusland\, en de Verenigde Staten.Zondag 24 september komt zij naar de Sint Jacobskerk.\nMeer informatie en tickets
URL:https://sintjacobskerk.nl/agenda/mpz-pianoconcert-nadezda-filippova/
LOCATION:Sint Jacobskerk\, Oude Markt 2\, Vlissingen\, 4381 HK
CATEGORIES:Zichtbaar op homepage
ATTACH;FMTTYPE=image/png:https://sintjacobskerk.nl/wp-content/uploads/2023/08/Nadezda-Filippova.png
ORGANIZER;CN="Cultuurpodium Sint Jacobskerk":MAILTO:verhuur@sintjacobskerk.nl
END:VEVENT
BEGIN:VEVENT
DTSTART;TZID=Europe/Amsterdam:20230920T080000
DTEND;TZID=Europe/Amsterdam:20230920T170000
DTSTAMP:20260423T035300
CREATED:20230917T153552Z
LAST-MODIFIED:20231007T142957Z
UID:10000054-1695196800-1695229200@sintjacobskerk.nl
SUMMARY:optie
DESCRIPTION:optie
URL:https://sintjacobskerk.nl/agenda/experiment/
LOCATION:Sint Jacobskerk\, Oude Markt 2\, Vlissingen\, 4381 HK
CATEGORIES:Zichtbaar op homepage
END:VEVENT
BEGIN:VEVENT
DTSTART;TZID=Europe/Amsterdam:20230916T200000
DTEND;TZID=Europe/Amsterdam:20230916T200000
DTSTAMP:20260423T035300
CREATED:20230824T110413Z
LAST-MODIFIED:20231114T171342Z
UID:10000012-1694894400-1694894400@sintjacobskerk.nl
SUMMARY:Westerschelde Big Band - Featuring Dany Caen
DESCRIPTION:De Westerschelde Big Band met Jazzstandards van o.a. Miles Davis\, AC Jobim\, Duke Ellington\, eigen werk en arrangementen. \nDe Westerschelde Big Band werd opgericht in 1991 en staat onder de enthousiaste muzikale leiding van dirigent en arrangeur Robert Verelst. De musici komen uit Zeeland en Vlaanderen en repeteren bij Cultuurpodium Porgy & Bess in Terneuzen. Special Guest Star deze avond is zangeres Dany Caen met o.a. werk van Amy Winehouse\, Bruno Mars en Randy Crawford. \nEen avond vol authentieke jazzmuziek\, zoetgevooisde solopartijen en swingende dansmuziek. \nKAARTVERKOOP\nBestel uw kaarten (€ 12\,50) online met de link: WESTERSCHELDEBIGBAND TICKETS\nOok zijn de kaarten te koop bij boekhandel ’t Spui\, Oude Markt 5 in Vlissingen en voor aanvang van het concert in de kerk. \nKoop tickets
URL:https://sintjacobskerk.nl/agenda/westerschelde-bigband-featuring-dany-caen/
LOCATION:Sint Jacobskerk\, Oude Markt 2\, Vlissingen\, 4381 HK
CATEGORIES:Zichtbaar op homepage
ORGANIZER;CN="Cultuurpodium Sint Jacobskerk":MAILTO:verhuur@sintjacobskerk.nl
END:VEVENT
BEGIN:VEVENT
DTSTART;TZID=Europe/Amsterdam:20230912T200000
DTEND;TZID=Europe/Amsterdam:20230912T200000
DTSTAMP:20260423T035300
CREATED:20230824T110227Z
LAST-MODIFIED:20231114T171343Z
UID:10000011-1694548800-1694548800@sintjacobskerk.nl
SUMMARY:Film By The Sea Filmconcert - Alfred Hitchcocks: Blackmail
DESCRIPTION:Meer informatie en tickets
URL:https://sintjacobskerk.nl/agenda/film-by-the-sea-filmconcert-alfred-hitchcocks-blackmail/
LOCATION:Sint Jacobskerk\, Oude Markt 2\, Vlissingen\, 4381 HK
CATEGORIES:Zichtbaar op homepage
ORGANIZER;CN="Cultuurpodium Sint Jacobskerk":MAILTO:verhuur@sintjacobskerk.nl
END:VEVENT
BEGIN:VEVENT
DTSTART;TZID=Europe/Amsterdam:20230909T100000
DTEND;TZID=Europe/Amsterdam:20230909T100000
DTSTAMP:20260423T035300
CREATED:20230824T105852Z
LAST-MODIFIED:20231114T171343Z
UID:10000010-1694253600-1694253600@sintjacobskerk.nl
SUMMARY:Open Monumentendag
DESCRIPTION:
URL:https://sintjacobskerk.nl/agenda/open-monumentendag-2/
LOCATION:Sint Jacobskerk\, Oude Markt 2\, Vlissingen\, 4381 HK
CATEGORIES:Zichtbaar op homepage
ATTACH;FMTTYPE=image/jpeg:https://sintjacobskerk.nl/wp-content/uploads/2023/07/img_thumb-2.jpg
ORGANIZER;CN="Cultuurpodium Sint Jacobskerk":MAILTO:verhuur@sintjacobskerk.nl
END:VEVENT
BEGIN:VEVENT
DTSTART;TZID=Europe/Amsterdam:20230903T170000
DTEND;TZID=Europe/Amsterdam:20230903T170000
DTSTAMP:20260423T035300
CREATED:20230725T082627Z
LAST-MODIFIED:20231114T171344Z
UID:10000008-1693760400-1693760400@sintjacobskerk.nl
SUMMARY:Evensong
DESCRIPTION:Na een korte zomerstop hervatten de Evensingers hun maandelijkse Evensongs weer op zondag 3 september\, 17.00 uur in de Sint Jacobskerk van Vlissingen. \nDeze evensong staat in het teken van ‘anders kiezen’. Kritisch kijken naar je leven en dat inrichten op een manier waarbij je rekening houdt met de maatschappelijke en ecologische grenzen en je eigen gezondheid. Waar haal je daarvoor je inspiratie vandaan? Kun je in je eigen zoektocht ook anderen inspireren? \n  \nOp het programma staan Psalm 105 op een chant van H.G. Ley\, het magnificat op een chant van G.M. Garret en het Nunc Dimittis op een chant van J. Vogel. Het anthem voor deze Evensong is “You are the centre” van M. Rizza. De respons bij de gebeden is op een chant van F.A.G. Ousely.  Verder zijn er voor de regelmatige bezoeker van de Evensong heel veel bekende Hymns\, zodat er vaak meegezongen kan worden. \nVoorganger in de Evensong is ds. Janny Blankenstijn en de organist is Jos Vogel.
URL:https://sintjacobskerk.nl/agenda/evensong-2/
LOCATION:Sint Jacobskerk\, Oude Markt 2\, Vlissingen\, 4381 HK
CATEGORIES:Zichtbaar op homepage
ATTACH;FMTTYPE=image/jpeg:https://sintjacobskerk.nl/wp-content/uploads/2023/07/evensong.jpg
ORGANIZER;CN="Cultuurpodium Sint Jacobskerk":MAILTO:verhuur@sintjacobskerk.nl
END:VEVENT
BEGIN:VEVENT
DTSTART;TZID=Europe/Amsterdam:20230902T153000
DTEND;TZID=Europe/Amsterdam:20230902T153000
DTSTAMP:20260423T035300
CREATED:20230824T105628Z
LAST-MODIFIED:20231114T171345Z
UID:10000009-1693668600-1693668600@sintjacobskerk.nl
SUMMARY:Inloopconcert: Amber Mertens (piano)
DESCRIPTION:toegang vrij\, collecte na afloop van het concert ter bestrijding van de kosten \nLet op\, dit concert is verplaatst naar zaterdag 2 september.
URL:https://sintjacobskerk.nl/agenda/inloopconcert-amber-mertens-piano/
LOCATION:Sint Jacobskerk\, Oude Markt 2\, Vlissingen\, 4381 HK
CATEGORIES:Zichtbaar op homepage
ORGANIZER;CN="Cultuurpodium Sint Jacobskerk":MAILTO:verhuur@sintjacobskerk.nl
END:VEVENT
BEGIN:VEVENT
DTSTART;TZID=Europe/Amsterdam:20230825T120000
DTEND;TZID=Europe/Amsterdam:20230825T120000
DTSTAMP:20260423T035300
CREATED:20230725T081550Z
LAST-MODIFIED:20231114T171345Z
UID:10000007-1692964800-1692964800@sintjacobskerk.nl
SUMMARY:Middagpauze-orgelconcert Sietze de Vries (Groningen)
DESCRIPTION:toegang vrij\, collecte na afloop van het concert ter bestrijding van de kosten
URL:https://sintjacobskerk.nl/agenda/middagpauze-orgelconcert-sietze-de-vries-groningen/
LOCATION:Sint Jacobskerk\, Oude Markt 2\, Vlissingen\, 4381 HK
CATEGORIES:Zichtbaar op homepage
ATTACH;FMTTYPE=image/jpeg:https://sintjacobskerk.nl/wp-content/uploads/2023/07/DSC_2011KB.jpg
ORGANIZER;CN="Cultuurpodium Sint Jacobskerk":MAILTO:verhuur@sintjacobskerk.nl
END:VEVENT
BEGIN:VEVENT
DTSTART;TZID=Europe/Amsterdam:20230819T200000
DTEND;TZID=Europe/Amsterdam:20230819T200000
DTSTAMP:20260423T035300
CREATED:20230725T074321Z
LAST-MODIFIED:20231114T171345Z
UID:10000006-1692475200-1692475200@sintjacobskerk.nl
SUMMARY:Creambread
DESCRIPTION: CREAMBREAD \nEen muzikale verrassing:\n‘ Westcoast’ en een beetje ‘Americana’\,  gekruid met wat rock\, pop en jazz. \n Een gevarieerd repertoire om lekker naar te luisteren en aangenaam bij te swingen. \n  \nELS VAN DER SPRUIT:                              ZANG\, FLUIT\, HARMONICA\, PERCUSSIE \nRUUD EGGERMONT:                               ZANG\, GITAAR \nAAD VAN ES:                                              GITAAR \nCOLLIN CLEMENT:                                    BAS \nJAN KOOPMAN:                                        ZANG\, DRUMS\, PERCUSSIE \n Een kleine 40 jaar geleden speelden Ruud en Jan samen in een bandje. Daarna bleven hun muzikale wegen jarenlang gescheiden. Tot enkele jaren geleden. Een ontmoeting; herkenning van elkaars muzikale smaak; weer genieten van samen muziek maken. Els\, Collin en Aad sloten graag aan.  \nEls deed als zangeres mee aan allerlei muzikale projecten\, trad op met een repertoire van Franse chansons en maakt daarnaast al heel lang muziek met haar partner Jan. Collin is een veel gevraagde bassist met een schat aan ervaring; er zijn weinig muziekstijlen die hij niet verkend heeft. Aad deed jaren geleden veel ervaring op als gitarist\, maar als ondernemer moest hij  z’n gitaar lang in de koffer houden. Met zijn leven in een rustiger vaarwater ging weer kriebelen en bleek hij het niet verleerd.\n \nUit de enorme bron van prachtige bestaande songs kiezen ze eigen pareltjes; meestal niet die ene grote hit\, maar een ander bekend nummer\, of een verrassend arrangement. 
URL:https://sintjacobskerk.nl/agenda/creambread/
LOCATION:Sint Jacobskerk\, Oude Markt 2\, Vlissingen\, 4381 HK
CATEGORIES:Zichtbaar op homepage
ATTACH;FMTTYPE=image/jpeg:https://sintjacobskerk.nl/wp-content/uploads/2023/07/Creambread.jpg
ORGANIZER;CN="Cultuurpodium Sint Jacobskerk":MAILTO:verhuur@sintjacobskerk.nl
END:VEVENT
BEGIN:VEVENT
DTSTART;TZID=Europe/Amsterdam:20230610T200000
DTEND;TZID=Europe/Amsterdam:20230610T200000
DTSTAMP:20260423T035300
CREATED:20230506T093100Z
LAST-MODIFIED:20231114T171346Z
UID:10000005-1686427200-1686427200@sintjacobskerk.nl
SUMMARY:Zeeuws Vocaaal Ensemble
DESCRIPTION:Zeeuws Vocaal Ensemble met Cantate 48 – J.S. Bach\, Psalm 95 – Felix Mensdelssohn en het Schicksalslied – Johannes Brahms \nmeer informatie en kaartverkoop: https://zeeuwsvocaalensemble.nl/agenda/
URL:https://sintjacobskerk.nl/agenda/zeeuws-vocaaal-ensemble/
LOCATION:Sint Jacobskerk\, Oude Markt 2\, Vlissingen\, 4381 HK
CATEGORIES:Zichtbaar op homepage
END:VEVENT
BEGIN:VEVENT
DTSTART;TZID=Europe/Amsterdam:20230529T133000
DTEND;TZID=Europe/Amsterdam:20230529T170000
DTSTAMP:20260423T035300
CREATED:20230506T092705Z
LAST-MODIFIED:20231114T171346Z
UID:10000004-1685367000-1685379600@sintjacobskerk.nl
SUMMARY:Evensong
DESCRIPTION:
URL:https://sintjacobskerk.nl/agenda/evensong/
LOCATION:Sint Jacobskerk\, Oude Markt 2\, Vlissingen\, 4381 HK
CATEGORIES:Zichtbaar op homepage
ATTACH;FMTTYPE=image/jpeg:https://sintjacobskerk.nl/wp-content/uploads/2023/05/visual_56fb7ae531e6769e433_0a_agenda-visual.jpg
END:VEVENT
BEGIN:VEVENT
DTSTART;TZID=Europe/Amsterdam:20230529T133000
DTEND;TZID=Europe/Amsterdam:20230529T170000
DTSTAMP:20260423T035300
CREATED:20230506T092345Z
LAST-MODIFIED:20231114T171347Z
UID:10000003-1685367000-1685379600@sintjacobskerk.nl
SUMMARY:2e Pinksterdag: Open kerkendag
DESCRIPTION:Open kerk met Pinksterbrunch \nOp maandag 29 mei\, tweede Pinksterdag\, staan de deuren van de Sint Jacobskerk\, Oude Markt 2 in Vlissingen open voor iedereen die eens een kijkje wil komen nemen of een kaarsje wil branden. \nDe landelijke Open Kerkendag staat dit jaar in het teken van het kerkinterieur. Het Nederlandse landschap staat bekend om de torenspitsen en kerken\, maar wat schuilt er nu precies achter deze stenen façades? In de Nederlandse kerken is zóveel kunst en erfgoed te zien\, dat je zonder overdrijving van musea kunt spreken. Om daar iets van mee te krijgen\, om dat te zien en te ervaren\, moet je wel een keer naar binnen gaan. Dat is de uitnodiging van Open Kerkendag. Kom binnen en verbaas je over al dat moois van eeuwen en geniet van diverse activiteiten. \nDe dag begint in de Sint Jacobskerk met een Pinksterbrunch van 12.00 tot 13.00 uur. Samen aan tafel om niet alleen aan tafel te hoeven zitten\, of aanschuiven omdat het leuk is eens wat andere mensen te ontmoeten! Iedereen is hartelijk welkom bij deze Vlissingse Pinksterbrunch. De maaltijd is gratis\, een vrijwillige bijdrage is welkom! Omdat we willen weten voor hoeveel mensen we een brunch moeten verzorgen is aanmelden noodzakelijk. Stuur een mailtje naar scriba@pkn-vlissingen.nl \,  meld u aan in De Herberg  of  bel 06 27073657 . \nNa de brunch is  de kerk vanaf 13.30 tot 17.00 uur open voor bezichtiging.
URL:https://sintjacobskerk.nl/agenda/2e-pinksterdag-open-kerkendag/
LOCATION:Sint Jacobskerk\, Oude Markt 2\, Vlissingen\, 4381 HK
CATEGORIES:Zichtbaar op homepage
END:VEVENT
BEGIN:VEVENT
DTSTART;TZID=Europe/Amsterdam:20230526T200000
DTEND;TZID=Europe/Amsterdam:20230526T230000
DTSTAMP:20260423T035300
CREATED:20230506T083633Z
LAST-MODIFIED:20231114T171348Z
UID:10000002-1685131200-1685142000@sintjacobskerk.nl
SUMMARY:Concert Marco Beasley en Franco Pavan
DESCRIPTION:Als het gaat om het Italiaanse renaissancelied ligt er één naam voor op de tong: Marco Beasley. Stem en charisma zet hij dit keer in voor frottola’s en madrigalen vol elegant verklankte wanhoop\, die in de zestiende eeuw menig hoveling bij de keel greep. Metgezel bij deze gepassioneerde tour de force is snarentovenaar Franco Pavan. In 2021 haalde hij de liederen op dit programma hoogstpersoonlijk in een Italiaans familie-archief onder het stof vandaan. Van de allereerste moderne uitvoering van muziek van Bartolomeo Gazza en een zekere Ogniben tot werk van Bartolomeo Tromboncino en Philippe Verdelot: in dit concert zijn hartstocht en vertwijfeling niet ver van elkaar verwijderd.
URL:https://sintjacobskerk.nl/agenda/concert-marco-beasley-en-franco-pavan/
LOCATION:Sint Jacobskerk\, Oude Markt 2\, Vlissingen\, 4381 HK
CATEGORIES:Zichtbaar op homepage
ATTACH;FMTTYPE=image/jpeg:https://sintjacobskerk.nl/wp-content/uploads/2023/05/Marco-Beasley.jpg
END:VEVENT
BEGIN:VEVENT
DTSTART;TZID=Europe/Amsterdam:20230518T093000
DTEND;TZID=Europe/Amsterdam:20230518T235900
DTSTAMP:20260423T035300
CREATED:20230506T083054Z
LAST-MODIFIED:20231114T171348Z
UID:10000001-1684402200-1684454340@sintjacobskerk.nl
SUMMARY:Kerkdienst Hemelvaartsdag
DESCRIPTION: 
URL:https://sintjacobskerk.nl/agenda/kerkdienst-hemelvaartsdag/
LOCATION:Sint Jacobskerk\, Oude Markt 2\, Vlissingen\, 4381 HK
CATEGORIES:Zichtbaar op homepage
ORGANIZER;CN="Cultuurpodium Sint Jacobskerk":MAILTO:verhuur@sintjacobskerk.nl
END:VEVENT
END:VCALENDAR