BEGIN:VCALENDAR
VERSION:2.0
PRODID:-//Cultuurpodium Sint Jacobskerk - ECPv6.2.8.1//NONSGML v1.0//EN
CALSCALE:GREGORIAN
METHOD:PUBLISH
X-WR-CALNAME:Cultuurpodium Sint Jacobskerk
X-ORIGINAL-URL:https://sintjacobskerk.nl
X-WR-CALDESC:Evenementen voor Cultuurpodium Sint Jacobskerk
REFRESH-INTERVAL;VALUE=DURATION:PT1H
X-Robots-Tag:noindex
X-PUBLISHED-TTL:PT1H
BEGIN:VTIMEZONE
TZID:Europe/Amsterdam
BEGIN:DAYLIGHT
TZOFFSETFROM:+0100
TZOFFSETTO:+0200
TZNAME:CEST
DTSTART:20230326T010000
END:DAYLIGHT
BEGIN:STANDARD
TZOFFSETFROM:+0200
TZOFFSETTO:+0100
TZNAME:CET
DTSTART:20231029T010000
END:STANDARD
BEGIN:DAYLIGHT
TZOFFSETFROM:+0100
TZOFFSETTO:+0200
TZNAME:CEST
DTSTART:20240331T010000
END:DAYLIGHT
BEGIN:STANDARD
TZOFFSETFROM:+0200
TZOFFSETTO:+0100
TZNAME:CET
DTSTART:20241027T010000
END:STANDARD
END:VTIMEZONE
BEGIN:VEVENT
DTSTART;TZID=Europe/Amsterdam:20240302T193000
DTEND;TZID=Europe/Amsterdam:20240302T193000
DTSTAMP:20260423T003255
CREATED:20231016T090528Z
LAST-MODIFIED:20240220T084624Z
UID:10000117-1709407800-1709407800@sintjacobskerk.nl
SUMMARY:Scratch Messiah
DESCRIPTION:Al sinds jaar en dag wordt er in Engeland en Nederland op verschillende plaatsen gescratcht!\nSinds 2000 heeft Zeeland zijn eigen Scratch Messiah en nu alweer voor tweeëntwintigste keer.\nWat is “scratchen”?\n“Beginning from scratch” betekent in het algemeen: helemaal aan het begin beginnen.\nWat muziek betreft: in één dag met een groep mensen een muziekstuk instuderen en uitvoeren.\n’s Morgens lijkt het nog “niets” en ’s avonds is het “heel wat”.\nMeer informatie vindt u op: www.scratchzeeland.nl
URL:https://sintjacobskerk.nl/agenda/scratch-messiah/
CATEGORIES:Zichtbaar op homepage
END:VEVENT
BEGIN:VEVENT
DTSTART;VALUE=DATE:20240301
DTEND;VALUE=DATE:20240302
DTSTAMP:20260423T003255
CREATED:20231027T120746Z
LAST-MODIFIED:20231027T120748Z
UID:10000145-1709251200-1709337599@sintjacobskerk.nl
SUMMARY:Geen verhuur mogelijk
DESCRIPTION:
URL:https://sintjacobskerk.nl/agenda/geen-verhuur-mogelijk-7/
END:VEVENT
BEGIN:VEVENT
DTSTART;VALUE=DATE:20240229
DTEND;VALUE=DATE:20240301
DTSTAMP:20260423T003255
CREATED:20231027T120450Z
LAST-MODIFIED:20231127T103853Z
UID:10000144-1709164800-1709251199@sintjacobskerk.nl
SUMMARY:Geen verhuur mogelijk
DESCRIPTION:
URL:https://sintjacobskerk.nl/agenda/geen-verhuur-mogelijk-6/
END:VEVENT
BEGIN:VEVENT
DTSTART;TZID=Europe/Amsterdam:20240228T193000
DTEND;TZID=Europe/Amsterdam:20240228T193000
DTSTAMP:20260423T003255
CREATED:20230824T113414Z
LAST-MODIFIED:20240118T091955Z
UID:10000035-1709148600-1709148600@sintjacobskerk.nl
SUMMARY:Vesper
DESCRIPTION:
URL:https://sintjacobskerk.nl/agenda/vesper-3/
ATTACH;FMTTYPE=image/png:https://sintjacobskerk.nl/wp-content/uploads/2023/08/Logo-PKN-full-colour-groot.png
END:VEVENT
BEGIN:VEVENT
DTSTART;TZID=Europe/Amsterdam:20240225T160000
DTEND;TZID=Europe/Amsterdam:20240225T203000
DTSTAMP:20260423T003255
CREATED:20231215T093002Z
LAST-MODIFIED:20231215T093004Z
UID:10000200-1708876800-1708893000@sintjacobskerk.nl
SUMMARY:WijDeKerk
DESCRIPTION:
URL:https://sintjacobskerk.nl/agenda/wijdekerk/
END:VEVENT
BEGIN:VEVENT
DTSTART;TZID=Europe/Amsterdam:20240224T080000
DTEND;TZID=Europe/Amsterdam:20240224T170000
DTSTAMP:20260423T003255
CREATED:20240217T093028Z
LAST-MODIFIED:20240217T093028Z
UID:10000227-1708761600-1708794000@sintjacobskerk.nl
SUMMARY:uitvaart
DESCRIPTION:
URL:https://sintjacobskerk.nl/agenda/uitvaart/
END:VEVENT
BEGIN:VEVENT
DTSTART;TZID=Europe/Amsterdam:20240222T180000
DTEND;TZID=Europe/Amsterdam:20240222T220000
DTSTAMP:20260423T003255
CREATED:20231116T172817Z
LAST-MODIFIED:20231116T172818Z
UID:10000193-1708624800-1708639200@sintjacobskerk.nl
SUMMARY:Geen verhuur mogelijk
DESCRIPTION:
URL:https://sintjacobskerk.nl/agenda/geen-verhuur-mogelijk-16/
END:VEVENT
BEGIN:VEVENT
DTSTART;TZID=Europe/Amsterdam:20240221T193000
DTEND;TZID=Europe/Amsterdam:20240221T193000
DTSTAMP:20260423T003255
CREATED:20230824T113343Z
LAST-MODIFIED:20240118T091849Z
UID:10000034-1708543800-1708543800@sintjacobskerk.nl
SUMMARY:Vesper
DESCRIPTION:
URL:https://sintjacobskerk.nl/agenda/vesper-2/
ATTACH;FMTTYPE=image/png:https://sintjacobskerk.nl/wp-content/uploads/2023/08/Logo-PKN-full-colour-groot.png
END:VEVENT
BEGIN:VEVENT
DTSTART;TZID=Europe/Amsterdam:20240214T193000
DTEND;TZID=Europe/Amsterdam:20240214T193000
DTSTAMP:20260423T003255
CREATED:20230824T113317Z
LAST-MODIFIED:20240118T091406Z
UID:10000031-1707939000-1707939000@sintjacobskerk.nl
SUMMARY:Vesper
DESCRIPTION:
URL:https://sintjacobskerk.nl/agenda/vesper/
ATTACH;FMTTYPE=image/png:https://sintjacobskerk.nl/wp-content/uploads/2023/08/Logo-PKN-full-colour-groot.png
END:VEVENT
BEGIN:VEVENT
DTSTART;TZID=Europe/Amsterdam:20240210T200000
DTEND;TZID=Europe/Amsterdam:20240210T200000
DTSTAMP:20260423T003255
CREATED:20231016T084306Z
LAST-MODIFIED:20231116T151504Z
UID:10000116-1707595200-1707595200@sintjacobskerk.nl
SUMMARY:Muziek Podium Zeeland: Meesters en Gezellen
DESCRIPTION:Meesters en gezellen \nKoormuziek uit Noorwegen van o.a.\, Edvard Grieg \nMeesters&Gezellen is een jaarlijkse concertserie voor jonge professionele zangers (Gezellen)\, samen met ervaren koorzangers (Meesters)\, zie ook www.meestersengezellen.nl . Ieder jaar wordt een dirigent van internationale statuur uitgenodigd\, uit een ander land\, die met vier van zijn koorleden het nationale repertoire komen introduceren aan de Nederlandse jonge zangers en aan het Nederlandse publiek. Het is nog altijd zo dat jonge zangers op de conservatoria bijna uitsluitend als solozanger worden opgeleid\, in de hoop op een grote carrière. Maar de meerderheid redt dat niet en moet op den duur een ander vak gaan zoeken\, òf goed in een koor leren zingen. En dat is een vak apart.\nIn 2024 komen Meesters&Gezellen alweer voor de derde keer naar Vlissingen. In 2021 werd samen met het Franse Ensemble Aedes een geheel Frans programma ten gehore gebracht\, onder leiding van de dirigent Mathieu Romano. In 2023 waren dat dirigent Daniel Reuss met leden van Cappella Amsterdam als Meesters. Deze keer is het thema Norvegr en wordt muziek uit Noorwegen uitgevoerd o.l.v dirigent Yuval Weinberg. De Meesters zijn lid van Det Norske Solistkor. Dit koor staat bekend vanwege de perfecte vertolkingen van Noorse volksliederen.\nOp het programma werken van Edvard Grieg (1843-1907)\, Knut Nystedt (1915-2014)\, Egil Hovland (1924-2013)\, Trond Kverno (1945)\, Ørjan Matre (1979)\, Bjørn Andor Drage (1959) en een reeks Noorse volksliederen.\nTickets: €20\,00/ €17\,50
URL:https://sintjacobskerk.nl/agenda/muziek-podium-zeeland-meesters-en-gezellen/
CATEGORIES:Zichtbaar op homepage
END:VEVENT
BEGIN:VEVENT
DTSTART;TZID=Europe/Amsterdam:20240208T180000
DTEND;TZID=Europe/Amsterdam:20240208T220000
DTSTAMP:20260423T003255
CREATED:20231116T172719Z
LAST-MODIFIED:20231116T172720Z
UID:10000192-1707415200-1707429600@sintjacobskerk.nl
SUMMARY:Geen verhuur mogelijk
DESCRIPTION:
URL:https://sintjacobskerk.nl/agenda/geen-verhuur-mogelijk-15/
END:VEVENT
BEGIN:VEVENT
DTSTART;TZID=Europe/Amsterdam:20240205T140000
DTEND;TZID=Europe/Amsterdam:20240205T170000
DTSTAMP:20260423T003255
CREATED:20240116T163326Z
LAST-MODIFIED:20240116T163327Z
UID:10000210-1707141600-1707152400@sintjacobskerk.nl
SUMMARY:Geen verhuur mogelijk
DESCRIPTION:
URL:https://sintjacobskerk.nl/agenda/geen-verhuur-mogelijk-21/
END:VEVENT
BEGIN:VEVENT
DTSTART;TZID=Europe/Amsterdam:20240204T170000
DTEND;TZID=Europe/Amsterdam:20240204T170000
DTSTAMP:20260423T003255
CREATED:20230824T113231Z
LAST-MODIFIED:20240110T180707Z
UID:10000030-1707066000-1707066000@sintjacobskerk.nl
SUMMARY:Evensong
DESCRIPTION:Op zondag 4 februari\, om 17.00 uur in de Sint Jacobskerk hervatten de Evensingers onder leiding van Ineke Wijkhuijs-van den Driest weer de viering van Evensongs. Na de feestelijke Lessons and Carols\, breekt nu een wat soberder periode aan\, waarin we op weg gaan naar de 40-dagen tijd. \nIn deze Evensong staan de lezingen over de zoektocht naar wie Jezus is centraal. \nNaast de Psalm\, gebeden en diverse hymns\, zingen de Evensingers ter bemoediging het anthem: “An Irish Blessing”. \nDe voorganger in deze Evensong is ds Henk Hortensius\, de organist is Jos Vogel.
URL:https://sintjacobskerk.nl/agenda/evensong-5/
CATEGORIES:Zichtbaar op homepage
ATTACH;FMTTYPE=image/jpeg:https://sintjacobskerk.nl/wp-content/uploads/2023/08/P1020478.jpg
END:VEVENT
BEGIN:VEVENT
DTSTART;TZID=Europe/Amsterdam:20240203T120000
DTEND;TZID=Europe/Amsterdam:20240203T170000
DTSTAMP:20260423T003255
CREATED:20240128T132622Z
LAST-MODIFIED:20240128T132623Z
UID:10000216-1706961600-1706979600@sintjacobskerk.nl
SUMMARY:Geen verhuur mogelijk
DESCRIPTION:
URL:https://sintjacobskerk.nl/agenda/geen-verhuur-mogelijk-22/
END:VEVENT
BEGIN:VEVENT
DTSTART;TZID=Europe/Amsterdam:20240129T080000
DTEND;TZID=Europe/Amsterdam:20240129T170000
DTSTAMP:20260423T003255
CREATED:20231027T111353Z
LAST-MODIFIED:20231029T132205Z
UID:10000142-1706515200-1706547600@sintjacobskerk.nl
SUMMARY:Optie-> Muziekeducatie basisscholen
DESCRIPTION:Muziekeducatieprogramma basisscholen
URL:https://sintjacobskerk.nl/agenda/optie/
END:VEVENT
BEGIN:VEVENT
DTSTART;TZID=Europe/Amsterdam:20240113T193000
DTEND;TZID=Europe/Amsterdam:20240113T193000
DTSTAMP:20260423T003255
CREATED:20231013T155003Z
LAST-MODIFIED:20231017T172342Z
UID:10000105-1705174200-1705174200@sintjacobskerk.nl
SUMMARY:Koninklijke Harmonie Ons Genoegen: Nieuwjaarsconcert "Gospel in Harmony"
DESCRIPTION:Op zaterdag 13 januari 2024 brengt de Koninklijke Harmonie Ons Genoegen uit Vlissingen weer het jaarlijkse Nieuwjaarsconcert\, zoals altijd op de 2e zaterdag in het nieuwe jaar en in de Sint Jacobskerk. Een avondvullend concert met als gast Black Gospelkoor G-ROOTS.\nG-Roots bestaat uit een groep  van 9 enthousiaste en getalenteerde zangers en zangeressen. Het repertoire van G-Roots is uitgebreid en loopt van moderne Black gospel tot soul. Het programma van het Harmonieorkest is divers en verrassend. Gospelkoor G-Roots zal een aantal van hun eigen nummers laten horen. En daarnaast ook een aantal muziekstukken samen met het Harmonieorkest.\nGaat dit samen een Gospelkoor en Harmonieorkest? Komt u luisteren. En wat zeker is . . . G-Roots zorgt voor een swingend feest!
URL:https://sintjacobskerk.nl/agenda/koninklijke-harmonie-ons-genoegen-nieuwjaarsconcert-3/
CATEGORIES:Zichtbaar op homepage
ATTACH;FMTTYPE=image/jpeg:https://sintjacobskerk.nl/wp-content/uploads/2023/10/G-Roots.jpeg
END:VEVENT
BEGIN:VEVENT
DTSTART;TZID=Europe/Amsterdam:20240112T080000
DTEND;TZID=Europe/Amsterdam:20240117T120000
DTSTAMP:20260423T003255
CREATED:20240107T194948Z
LAST-MODIFIED:20240107T194948Z
UID:10000207-1705046400-1705492800@sintjacobskerk.nl
SUMMARY:Geen verhuur mogelijk
DESCRIPTION:
URL:https://sintjacobskerk.nl/agenda/geen-verhuur-mogelijk-18/
END:VEVENT
BEGIN:VEVENT
DTSTART;TZID=Europe/Amsterdam:20240111T200000
DTEND;TZID=Europe/Amsterdam:20240111T200000
DTSTAMP:20260423T003255
CREATED:20231005T094612Z
LAST-MODIFIED:20231107T183313Z
UID:10000097-1705003200-1705003200@sintjacobskerk.nl
SUMMARY:Zeeuws Orkest: Nieuwjaarsconcert met Remy van Kesteren en zangeres Rosann
DESCRIPTION:Programma: \n\nArrangementen samen met harpist Remy van Kesteren (arrangeur Martin Fondse)\nArrangementen met Zeeuwse zangeres Rosann    (arrangeur Ruud van der Meulen)\n\nEn verder op het programma: \n\nOuverture Orpheus Offenbach\nCapriccio Italien Tschaikovsky\nPas Redouble Saint-Saëns\nRosen aus dem Süden Strauss
URL:https://sintjacobskerk.nl/agenda/zeeuws-orkest-nieuwjaarsconcert-met-remy-van-kesteren-en-zangeres-rosann/
CATEGORIES:Zichtbaar op homepage
ATTACH;FMTTYPE=image/jpeg:https://sintjacobskerk.nl/wp-content/uploads/2023/10/Remy-van-Kesteren-2-scaled-1.jpg
END:VEVENT
BEGIN:VEVENT
DTSTART;VALUE=DATE:20240110
DTEND;VALUE=DATE:20240111
DTSTAMP:20260423T003255
CREATED:20231027T110833Z
LAST-MODIFIED:20231027T110834Z
UID:10000141-1704844800-1704931199@sintjacobskerk.nl
SUMMARY:Geen verhuur mogelijk
DESCRIPTION:
URL:https://sintjacobskerk.nl/agenda/geen-verhuur-mogelijk-5/
END:VEVENT
BEGIN:VEVENT
DTSTART;TZID=Europe/Amsterdam:20240106T200000
DTEND;TZID=Europe/Amsterdam:20240106T200000
DTSTAMP:20260423T003255
CREATED:20231005T090151Z
LAST-MODIFIED:20231025T091011Z
UID:10000094-1704571200-1704571200@sintjacobskerk.nl
SUMMARY:COV Te Deum Laudamus: Weihnachtsoratorium van J.S. Bach
DESCRIPTION:Een mooi concert in de prachtige Sint Jacobskerk met begeleiding van het barokorkest Aspetti Musicali en Mark Christiaanse op de continuo. En natuurlijk met de solisten Marlotte van ‘t Hoff (sopraan)\, Rob Cuppens (alt)\, Jan van Elsacker (tenor) en Thomas Vandenabeele (bas)
URL:https://sintjacobskerk.nl/agenda/cov-te-deum-laudamus-weihnachtsoratorium-van-j-s-bach/
CATEGORIES:Zichtbaar op homepage
END:VEVENT
BEGIN:VEVENT
DTSTART;VALUE=DATE:20240105
DTEND;VALUE=DATE:20240106
DTSTAMP:20260423T003255
CREATED:20231027T101957Z
LAST-MODIFIED:20231027T101958Z
UID:10000140-1704412800-1704499199@sintjacobskerk.nl
SUMMARY:Geen verhuur mogelijk
DESCRIPTION:
URL:https://sintjacobskerk.nl/agenda/geen-verhuur-mogelijk-4/
END:VEVENT
BEGIN:VEVENT
DTSTART;TZID=Europe/Amsterdam:20231225T100000
DTEND;TZID=Europe/Amsterdam:20231225T100000
DTSTAMP:20260423T003255
CREATED:20231016T100924Z
LAST-MODIFIED:20231110T174613Z
UID:10000032-1703498400-1703498400@sintjacobskerk.nl
SUMMARY:Kerstdienst eerste Kerstdag
DESCRIPTION:met medewerking van Wilja Grootenboer – pastor\, Jeroen Castel – verteller\, Petra Wagemaker – sopraan\,  Aleida Post – alt\,  Ko de Rooij – bas\, John Post – tenor en Jos Vogel – orgel en piano.
URL:https://sintjacobskerk.nl/agenda/kerstdienst-eerste-kerstdag-2/
CATEGORIES:Zichtbaar op homepage
ATTACH;FMTTYPE=image/jpeg:https://sintjacobskerk.nl/wp-content/uploads/2023/08/P1020175-rotated.jpg
END:VEVENT
BEGIN:VEVENT
DTSTART;TZID=Europe/Amsterdam:20231224T230000
DTEND;TZID=Europe/Amsterdam:20231224T230000
DTSTAMP:20260423T003255
CREATED:20230824T113039Z
LAST-MODIFIED:20231110T174051Z
UID:10000029-1703458800-1703458800@sintjacobskerk.nl
SUMMARY:Kerstnachtdienst
DESCRIPTION:De deuren van de Sint Jacobskerk staan vanaf 22.30 uur open en de dienst begint om 23.00 uur. De bekende kerstliederen worden gezongen en het evangelieverhaal van Kerst wordt gelezen. Muziekvereniging Vlijt en Volharding uit Oost-Souburg\, o.l.v. Albert-John Vervorst\, verleent medewerking aan de kerstnachtdienst.\nVoorafgaande aan de kerstnachtdienst wordt een ‘Tocht van Licht’ georganiseerd. Het doel van de tocht is hoop\, saamhorigheid en warmte te verspreiden in de stad Vlissingen. Meelopen geeft een gevoel van betrokkenheid op elkaar en op de stad in deze woelige tijden.\nIedereen is welkom om mee te lopen. De tocht start om 21.30 uur op de Oude Markt en eindigt daar tussen 22.00 en 22.15 uur. Voor lichtjes wordt gezorgd. De route gaat deels door de binnenstad en over de boulevard.
URL:https://sintjacobskerk.nl/agenda/kerstnachtdienst/
CATEGORIES:Zichtbaar op homepage
ATTACH;FMTTYPE=image/jpeg:https://sintjacobskerk.nl/wp-content/uploads/2023/08/P1040267.jpg
END:VEVENT
BEGIN:VEVENT
DTSTART;TZID=Europe/Amsterdam:20231224T163000
DTEND;TZID=Europe/Amsterdam:20231224T163000
DTSTAMP:20260423T003255
CREATED:20230824T112949Z
LAST-MODIFIED:20231110T173022Z
UID:10000027-1703435400-1703435400@sintjacobskerk.nl
SUMMARY:Evensong: Nine Lessons & Carols
DESCRIPTION:Op zondag 24 december\, om 16.30 uur in de Sint Jacobskerk te Vlissingen\, verzorgen de Evensingers o.l.v. Ineke Wijkhuijs-van den Driest het traditionele Festival of Nine Lessons and Carols (de L&C). Dit is een feestelijke opmaat tot Kerstmis die traditioneel op “Christmas Eve” (de avond voor Kerstmis) tegen het vallen van de avond plaatsvindt. In de L&C wordt in negen korte lezingen het verhaal van de slang en de verboden appel\, de belofte van een Messias en de geboorte van Jezus verteld. Deze “lessons” worden afgewisseld met het zingen van carols in samenzang en door het koor.\nAan de L&C in de Sint Jacobskerk werken diverse lectoren mee en de organist is Jos Vogel.
URL:https://sintjacobskerk.nl/agenda/evensong-nine-lessons-carols/
CATEGORIES:Zichtbaar op homepage
ATTACH;FMTTYPE=image/jpeg:https://sintjacobskerk.nl/wp-content/uploads/2023/08/P1000056.jpg
END:VEVENT
BEGIN:VEVENT
DTSTART;TZID=Europe/Amsterdam:20231223T153000
DTEND;TZID=Europe/Amsterdam:20231223T153000
DTSTAMP:20260423T003255
CREATED:20230824T112850Z
LAST-MODIFIED:20231014T091824Z
UID:10000028-1703345400-1703345400@sintjacobskerk.nl
SUMMARY:Grootkoor Zeeland - Kerstconcert 2023
DESCRIPTION:Kerstconcert Grootkoor Zeeland met Tenor Florian \nDirigenten: Etty van der Mei en Nan van Groeningen     \nHet is inmiddels een traditie geworden. In december genieten jaarlijks vele mensen van de befaamde Grootkoor kerstconcerten. Kom alvast in de kerststemming met zanger Florian\, die met zijn prachtige stem diepe indruk maakte in het tv-programma ‘ARIA’. Een groot gemengd koor\, samen met Tenor Florian en de begeleiders Rob van Dijk\, vleugel en organist Martijn Tijssen\, vertolken de grootste kerstklassiekers aller tijden. Laat u betoveren door de magie van kerst en geniet samen met uw familie en vrienden van Grootkoor Zeeland. \nDatum: zaterdag 23 december\nAanvang: 15.30 uur\nPrijs € 20\,00
URL:https://sintjacobskerk.nl/agenda/grootkoor-zeeland-kerstconcert-2023/
CATEGORIES:Zichtbaar op homepage
ATTACH;FMTTYPE=image/jpeg:https://sintjacobskerk.nl/wp-content/uploads/2023/08/Grootkoor-en-Tenor-Florian.jpg
END:VEVENT
BEGIN:VEVENT
DTSTART;TZID=Europe/Amsterdam:20231220T193000
DTEND;TZID=Europe/Amsterdam:20231220T193000
DTSTAMP:20260423T003255
CREATED:20231020T071913Z
LAST-MODIFIED:20231110T165923Z
UID:10000132-1703100600-1703100600@sintjacobskerk.nl
SUMMARY:AdventsVesper
DESCRIPTION:
URL:https://sintjacobskerk.nl/agenda/adventsvesper-6/
ATTACH;FMTTYPE=image/png:https://sintjacobskerk.nl/wp-content/uploads/2023/08/Logo-PKN-full-colour-groot.png
END:VEVENT
BEGIN:VEVENT
DTSTART;VALUE=DATE:20231220
DTEND;VALUE=DATE:20231221
DTSTAMP:20260423T003255
CREATED:20231027T101614Z
LAST-MODIFIED:20231027T101614Z
UID:10000139-1703030400-1703116799@sintjacobskerk.nl
SUMMARY:Geen huur mogelijk
DESCRIPTION:
URL:https://sintjacobskerk.nl/agenda/geen-huur-mogelijk/
END:VEVENT
BEGIN:VEVENT
DTSTART;TZID=Europe/Amsterdam:20231219T200000
DTEND;TZID=Europe/Amsterdam:20231219T200000
DTSTAMP:20260423T003255
CREATED:20230824T112751Z
LAST-MODIFIED:20231013T150019Z
UID:10000026-1703016000-1703016000@sintjacobskerk.nl
SUMMARY:MPZ: Kerstconcert The Choir of St. Johns College\, Cambridge
DESCRIPTION:MuziekPodium Zeeland heeft in de St. Jacobskerk heeft een mooie traditie van kerstconcerten door excellente Engelse koren\, met name uit Cambridge. De kwaliteit van de uitvoerenden is zonder meer buiten kijf\nMeer informatie en tickets
URL:https://sintjacobskerk.nl/agenda/mpz-kerstconcert-the-choir-of-st-johns-college-cambridge/
CATEGORIES:Zichtbaar op homepage
ATTACH;FMTTYPE=image/jpeg:https://sintjacobskerk.nl/wp-content/uploads/2023/08/St-Johns-College-Choir.jpeg
END:VEVENT
BEGIN:VEVENT
DTSTART;TZID=Europe/Amsterdam:20231213T193000
DTEND;TZID=Europe/Amsterdam:20231213T193000
DTSTAMP:20260423T003255
CREATED:20231020T071309Z
LAST-MODIFIED:20231110T170037Z
UID:10000130-1702495800-1702495800@sintjacobskerk.nl
SUMMARY:AdventsVesper
DESCRIPTION:
URL:https://sintjacobskerk.nl/agenda/adventsvesper-4/
ATTACH;FMTTYPE=image/png:https://sintjacobskerk.nl/wp-content/uploads/2023/08/Logo-PKN-full-colour-groot.png
END:VEVENT
BEGIN:VEVENT
DTSTART;TZID=Europe/Amsterdam:20231209T193000
DTEND;TZID=Europe/Amsterdam:20231209T193000
DTSTAMP:20260423T003255
CREATED:20231013T123105Z
LAST-MODIFIED:20231107T111317Z
UID:10000025-1702150200-1702150200@sintjacobskerk.nl
SUMMARY:Zeeuws Concertkoor - Met twee heiligen op de weg naar Kerstmis
DESCRIPTION:Een concert voor kind en gezin.\nOp het programma: Saint Nicolas Cantata van Benjamin Britten; Sint Lucia cantate van Helena van Heel en Pim Overduin\nSolisten: mezzosopraan Helena van Heel\, tenor Robert Luts\nEn verder: strijkersensemble Con Legno\, het Zeeuws Jeugdorkest en het Zeeuws Concertkoor\nHet geheel onder leiding van dirigent Pim Overduin. \nMeer informatie en tickets
URL:https://sintjacobskerk.nl/agenda/zeeuws-concertkoor-met-twee-heiligen-op-de-weg-naar-krestmis-2/
CATEGORIES:Zichtbaar op homepage
END:VEVENT
END:VCALENDAR