BEGIN:VCALENDAR
VERSION:2.0
PRODID:-//Cultuurpodium Sint Jacobskerk - ECPv6.2.8.1//NONSGML v1.0//EN
CALSCALE:GREGORIAN
METHOD:PUBLISH
X-WR-CALNAME:Cultuurpodium Sint Jacobskerk
X-ORIGINAL-URL:https://sintjacobskerk.nl
X-WR-CALDESC:Evenementen voor Cultuurpodium Sint Jacobskerk
REFRESH-INTERVAL;VALUE=DURATION:PT1H
X-Robots-Tag:noindex
X-PUBLISHED-TTL:PT1H
BEGIN:VTIMEZONE
TZID:Europe/Amsterdam
BEGIN:DAYLIGHT
TZOFFSETFROM:+0100
TZOFFSETTO:+0200
TZNAME:CEST
DTSTART:20240331T010000
END:DAYLIGHT
BEGIN:STANDARD
TZOFFSETFROM:+0200
TZOFFSETTO:+0100
TZNAME:CET
DTSTART:20241027T010000
END:STANDARD
END:VTIMEZONE
BEGIN:VEVENT
DTSTART;TZID=Europe/Amsterdam:20240726T140000
DTEND;TZID=Europe/Amsterdam:20240726T170000
DTSTAMP:20260423T003527
CREATED:20240722T153502Z
LAST-MODIFIED:20240722T153839Z
UID:10000289-1722002400-1722013200@sintjacobskerk.nl
SUMMARY:Uitvaartdienst
DESCRIPTION:
URL:https://sintjacobskerk.nl/agenda/uitvaartdienst/
END:VEVENT
BEGIN:VEVENT
DTSTART;TZID=Europe/Amsterdam:20240726T120000
DTEND;TZID=Europe/Amsterdam:20240726T130000
DTSTAMP:20260423T003527
CREATED:20240430T093353Z
LAST-MODIFIED:20240430T093800Z
UID:10000263-1721995200-1721998800@sintjacobskerk.nl
SUMMARY:Middagpauzeconcert Gerben Budding
DESCRIPTION:In de maanden juli en augustus staan iedere vrijdagmiddag tussen 12.00 en 13.00 uur weer de middagpauzeorgelconcerten in de agenda. Deze concerten zijn gratis toegankelijk. Na afloop van het concert wordt er een vrijwillige bijdrage gevraagd voor de kosten die aan deze concerten zijn verbonden. Vrijdag 26 juli wordt het Flentroporgel bespeeld door Gerben Budding uit Gouda.  \nHartelijk welkom!
URL:https://sintjacobskerk.nl/agenda/middagpauzeconcert-gerben-budding/
CATEGORIES:Zichtbaar op homepage
ATTACH;FMTTYPE=image/jpeg:https://sintjacobskerk.nl/wp-content/uploads/2024/04/P1100925.jpg
ORGANIZER;CN="Cultuurpodium Sint Jacobskerk":MAILTO:verhuur@sintjacobskerk.nl
END:VEVENT
BEGIN:VEVENT
DTSTART;TZID=Europe/Amsterdam:20240725T133000
DTEND;TZID=Europe/Amsterdam:20240725T133000
DTSTAMP:20260423T003527
CREATED:20240718T190446Z
LAST-MODIFIED:20240718T190446Z
UID:10000287-1721914200-1721914200@sintjacobskerk.nl
SUMMARY:Naamdag van Sint Jacobus de Meerdere
DESCRIPTION:Een bijzondere verjaardag \nOp donderdag 25 juli wordt voor het eerst sinds de coronatijd in de Sint Jacobskerk de naamdag van Sint Jacobus de Meerdere weer gevierd. Daar is een speciale middag van gemaakt samen met de Orde van Sint Jacob en het pelgrims Genootschap. \nDe Soevereine Orde van Sint Jacob is de oudste Hollandse ridderlijke orde\, in 1279 opgericht door graaf Floris V. Op 25 juli van dat jaar werden 12 edelen in de Haagse Ridderzaal tot ridder geslagen. \nBij de aanstaande viering zal de heer Siebregt\, gouverneur van de Orde aanwezig zijn\, evenals bestuurslid Stijns van het (pelgrims) Genootschap Sint Jacob. Er zijn twee presentaties en muzikale invulling van de pauzes. Aan het eind van de middag sluit een korte vesper door ds Janny Blankenstijn het programma af. Met deze viering wordt vooral de functie van de Sint Jacobskerk als pelgrimskerk benadrukt. \nAanvangstijd is 13.30 uur. Iedereen is welkom\, de toegang is vrij.
URL:https://sintjacobskerk.nl/agenda/naamdag-van-sint-jacobus-de-meerdere/
CATEGORIES:Zichtbaar op homepage
ATTACH;FMTTYPE=image/png:https://sintjacobskerk.nl/wp-content/uploads/2024/07/Jacobus-de-Meerdere.png
ORGANIZER;CN="Cultuurpodium Sint Jacobskerk":MAILTO:verhuur@sintjacobskerk.nl
END:VEVENT
BEGIN:VEVENT
DTSTART;TZID=Europe/Amsterdam:20240719T120000
DTEND;TZID=Europe/Amsterdam:20240719T130000
DTSTAMP:20260423T003527
CREATED:20240430T092645Z
LAST-MODIFIED:20240430T092645Z
UID:10000262-1721390400-1721394000@sintjacobskerk.nl
SUMMARY:Middagpauzeconcert Martien de Vos
DESCRIPTION:In de maanden juli en augustus staan iedere vrijdagmiddag tussen 12.00 en 13.00 uur weer de middagpauzeorgelconcerten in de agenda. Deze concerten zijn gratis toegankelijk. Na afloop van het concert wordt er een vrijwillige bijdrage gevraagd voor de kosten die aan deze concerten zijn verbonden. Vrijdag 19 juli wordt het Flentroporgel bespeeld door Martien de Vos uit Rotterdam  \nHartelijk welkom!
URL:https://sintjacobskerk.nl/agenda/middagpauzeconcert-martien-de-vos/
CATEGORIES:Zichtbaar op homepage
ATTACH;FMTTYPE=image/jpeg:https://sintjacobskerk.nl/wp-content/uploads/2024/04/P1100915-kopie.jpg
ORGANIZER;CN="Cultuurpodium Sint Jacobskerk":MAILTO:verhuur@sintjacobskerk.nl
END:VEVENT
BEGIN:VEVENT
DTSTART;TZID=Europe/Amsterdam:20240713T193000
DTEND;TZID=Europe/Amsterdam:20240713T193000
DTSTAMP:20260423T003527
CREATED:20231013T094547Z
LAST-MODIFIED:20231219T151222Z
UID:10000104-1720899000-1720899000@sintjacobskerk.nl
SUMMARY:Urker Mans Formatie
DESCRIPTION:De URKER MANS FORMATIE is een unieke groep van 13 schitterende zangstemmen onder leiding van de ervaren dirigent Martin Mans. De tenoren en bassen hebben een jarenlange ervaring op zanggebied en beschikken over een schitterend\, stoer stemgeluid. \nMet veel genoegen treden zij op tijdens hun zomer- en wintertournees en brengen een gevarieerd repertoire ten gehore waarin een mix is gemaakt van het geestelijk lied\, klassieke meesterwerken\, spirituals en populaire arrangementen.
URL:https://sintjacobskerk.nl/agenda/urker-mans-formatie/
CATEGORIES:Zichtbaar op homepage
ATTACH;FMTTYPE=image/jpeg:https://sintjacobskerk.nl/wp-content/uploads/2023/10/Martin-Mans-Formatie.jpg
ORGANIZER;CN="Martin Mans Concerten":MAILTO:joyce@martinmans.nl
END:VEVENT
BEGIN:VEVENT
DTSTART;TZID=Europe/Amsterdam:20240712T120000
DTEND;TZID=Europe/Amsterdam:20240712T130000
DTSTAMP:20260423T003527
CREATED:20240430T090235Z
LAST-MODIFIED:20240430T092811Z
UID:10000260-1720785600-1720789200@sintjacobskerk.nl
SUMMARY:Middagpauzeconcert Jan Hoogendoorn
DESCRIPTION:In de maanden juli en augustus staan iedere vrijdagmiddag tussen 12.00 en 13.00 uur weer de middagpauzeorgelconcerten in de agenda. Deze concerten zijn gratis toegankelijk. Na afloop van het concert wordt er een vrijwillige bijdrage gevraagd voor de kosten die aan deze concerten zijn verbonden. Vrijdag 12 juli wordt het Flentroporgel bespeeld door Jan Hoogendoorn uit Bergambacht \nHartelijk welkom!
URL:https://sintjacobskerk.nl/agenda/middagpauzeconcert/
LOCATION:Sint Jacobskerk\, Oude Markt 2\, Vlissingen\, 4381 HK
CATEGORIES:Zichtbaar op homepage
ATTACH;FMTTYPE=image/jpeg:https://sintjacobskerk.nl/wp-content/uploads/2024/04/P1100927.jpg
ORGANIZER;CN="Cultuurpodium Sint Jacobskerk":MAILTO:verhuur@sintjacobskerk.nl
END:VEVENT
BEGIN:VEVENT
DTSTART;TZID=Europe/Amsterdam:20240707T170000
DTEND;TZID=Europe/Amsterdam:20240707T170000
DTSTAMP:20260423T003527
CREATED:20230824T114939Z
LAST-MODIFIED:20240610T141044Z
UID:10000043-1720371600-1720371600@sintjacobskerk.nl
SUMMARY:Evensong
DESCRIPTION:Op zondag 7 juli a.s. om 17.00 uur is de volgende Evensong in de Sint Jacobskerk in Vlissingen\, de laatste van het seizoen 2023-2024. Het wordt een Evensong in een zomerse sfeer\, waarin hoop en vertrouwen door zal klinken. \nDe Evensingers\, o.l.v. Ineke Wijkhuijs-v.d. Driest\, zingen onder andere Psalm 121 en als anthem\, ‘Thou knowest Lord\, the secrets of our heart’ van Henry Purcell. De lezingen zijn: Zacharia 9 : 9-12 en Mattheus 11 : 25-30. \nDe voorganger in deze Evensong is Ds. Gerrit Klein en de organist is Jos Vogel.
URL:https://sintjacobskerk.nl/agenda/evensong-10/
CATEGORIES:Zichtbaar op homepage
ATTACH;FMTTYPE=image/jpeg:https://sintjacobskerk.nl/wp-content/uploads/2023/08/P1020476.jpg
END:VEVENT
BEGIN:VEVENT
DTSTART;TZID=Europe/Amsterdam:20240706T120000
DTEND;TZID=Europe/Amsterdam:20240706T180000
DTSTAMP:20260423T003527
CREATED:20240502T163157Z
LAST-MODIFIED:20240502T164506Z
UID:10000269-1720267200-1720288800@sintjacobskerk.nl
SUMMARY:Optie-> bruiloft
DESCRIPTION:
URL:https://sintjacobskerk.nl/agenda/optie-bruiloft/
END:VEVENT
BEGIN:VEVENT
DTSTART;TZID=Europe/Amsterdam:20240705T180000
DTEND;TZID=Europe/Amsterdam:20240705T230000
DTSTAMP:20260423T003527
CREATED:20240326T141904Z
LAST-MODIFIED:20240326T141905Z
UID:10000241-1720202400-1720220400@sintjacobskerk.nl
SUMMARY:Vrijwilligersavond Cultuurpodium Sint Jacobskerk
DESCRIPTION:
URL:https://sintjacobskerk.nl/agenda/vrijwilligersavond-cultuurpodium-sint-jacobskerk/
ORGANIZER;CN="Cultuurpodium Sint Jacobskerk":MAILTO:verhuur@sintjacobskerk.nl
END:VEVENT
BEGIN:VEVENT
DTSTART;TZID=Europe/Amsterdam:20240705T120000
DTEND;TZID=Europe/Amsterdam:20240705T130000
DTSTAMP:20260423T003527
CREATED:20240430T092313Z
LAST-MODIFIED:20240430T093125Z
UID:10000261-1720180800-1720184400@sintjacobskerk.nl
SUMMARY:Middagpauzeconcert Vincent de Ridder
DESCRIPTION:In de maanden juli en augustus staan iedere vrijdagmiddag tussen 12.00 en 13.00 uur weer de middagpauzeorgelconcerten in de agenda. Deze concerten zijn gratis toegankelijk. Na afloop van het concert wordt er een vrijwillige bijdrage gevraagd voor de kosten die aan deze concerten zijn verbonden. Vrijdag 5 juli wordt het Flentroporgel bespeeld door Vincent de Ridder uit Rotteredam  \nHartelijk welkom!
URL:https://sintjacobskerk.nl/agenda/middagpauzeconcert-vincent-de-ridder/
CATEGORIES:Zichtbaar op homepage
ATTACH;FMTTYPE=image/jpeg:https://sintjacobskerk.nl/wp-content/uploads/2024/04/DN-15-22-10_-3367-HDR.jpg
ORGANIZER;CN="Cultuurpodium Sint Jacobskerk":MAILTO:verhuur@sintjacobskerk.nl
END:VEVENT
BEGIN:VEVENT
DTSTART;TZID=Europe/Amsterdam:20240615T120000
DTEND;TZID=Europe/Amsterdam:20240615T180000
DTSTAMP:20260423T003527
CREATED:20240209T110202Z
LAST-MODIFIED:20240225T163602Z
UID:10000224-1718452800-1718474400@sintjacobskerk.nl
SUMMARY:Geen verhuur mogelijk / Burendag vanuit de PGV
DESCRIPTION:
URL:https://sintjacobskerk.nl/agenda/geen-verhuur-mogelijk-25/
END:VEVENT
BEGIN:VEVENT
DTSTART;TZID=Europe/Amsterdam:20240608T140000
DTEND;TZID=Europe/Amsterdam:20240608T160000
DTSTAMP:20260423T003527
CREATED:20240507T082335Z
LAST-MODIFIED:20240507T082335Z
UID:10000271-1717855200-1717862400@sintjacobskerk.nl
SUMMARY:Optie->pianomuziek door leerlingen Jaco en Marcela Simons
DESCRIPTION:
URL:https://sintjacobskerk.nl/agenda/optie-pianomuziek-door-leerlingen-jaco-en-marcela-simons/
END:VEVENT
BEGIN:VEVENT
DTSTART;TZID=Europe/Amsterdam:20240602T170000
DTEND;TZID=Europe/Amsterdam:20240602T170000
DTSTAMP:20260423T003527
CREATED:20230824T114907Z
LAST-MODIFIED:20240510T095351Z
UID:10000044-1717347600-1717347600@sintjacobskerk.nl
SUMMARY:Evensong
DESCRIPTION:Zondag 2 juni verzorgen de Evensingers o.l.v. Ineke Wijkhuijs-van den Driest om 17.00 uur een Evensong in de Sint Jacobskerk te Vlissingen. Dit is het weekeind van Vlissingen Maritiem\, daarom is de zee als thema voor deze dienst gekozen. \nDe lezingen komen uit Job 38 en Marcus 4 en de Psalm is 107. Verzen 23 en 24 uit deze Psalm geven prachtig de kern van het thema weer: “They that go down to the sea in ships and occupy their business in great waters; these men see the works of the Lord and his wonders in the deep.” (Soms daalden zij af naar zee\, gingen scheep en bevoeren het wijde water\, ze zagen de daden van de HEER\, zijn wonderen op de oceaan.) \nHet anthem voor deze viering is “Calm me Lord\, as you calmed the storm” van Margaret Rizza. \nVoorganger is ds Janny Blankenstijn en organist is Jos Vogel.
URL:https://sintjacobskerk.nl/agenda/evensong-9/
LOCATION:Sint Jacobskerk\, Oude Markt 2\, Vlissingen\, 4381 HK
CATEGORIES:Zichtbaar op homepage
ATTACH;FMTTYPE=image/jpeg:https://sintjacobskerk.nl/wp-content/uploads/2023/08/evensingers.jpg
END:VEVENT
BEGIN:VEVENT
DTSTART;TZID=Europe/Amsterdam:20240531T200000
DTEND;TZID=Europe/Amsterdam:20240531T200000
DTSTAMP:20260423T003527
CREATED:20231027T152200Z
LAST-MODIFIED:20240510T173731Z
UID:10000149-1717185600-1717185600@sintjacobskerk.nl
SUMMARY:Vlissingen Maritiem: Concert Marinierskapel der Koninklijke Marine
DESCRIPTION:In het kader van het festival Vlissingen Maritiem van vrijdag 31 mei tot zondag 2 juni komt de Marinierskapel der Koninklijke Marine op vrijdagavond 31 mei naar de Sint Jacobserk. \nDe Marinierskapel der Koninklijke Marine is één van de 3 professionele harmonieorkesten van de Nederlandse krijgsmacht. Haar belangrijkste taak is om militaire ceremonies en ceremonies voor het Koninklijk Huis muzikaal te begeleiden. Dat gebeurt vaak in samenwerking met de Tamboers en Pijpers van het Korps Mariniers. \nIn het kader van het  Vlissingen Maritiem komt de Marinierskapel der Koninklijke Marine op vrijdagavond 31 mei naar Vlissingen voor een benefiet concert voor onderzoek naar MS. Jeroen en Irene uit Rockanje spelen beiden fulltime en met veel plezier in de Marinierskapel der Koninklijke Marine\, respectievelijk trompet en hoorn. Aangezien Irene MS heeft doneert de Marinierskapel een deel van de opbrengst van het concert voor onderzoek naar MS. \n 
URL:https://sintjacobskerk.nl/agenda/optie-3/
CATEGORIES:Zichtbaar op homepage
ATTACH;FMTTYPE=image/jpeg:https://sintjacobskerk.nl/wp-content/uploads/2023/10/Marinierskapel-in-concert-foto-Louis-Meulstee-1.jpg
ORGANIZER;CN="Vlissingen Maritiem":MAILTO:anja.dbvu@zeelandnet.nl
END:VEVENT
BEGIN:VEVENT
DTSTART;TZID=Europe/Amsterdam:20240525T120000
DTEND;TZID=Europe/Amsterdam:20240525T180000
DTSTAMP:20260423T003527
CREATED:20240209T105950Z
LAST-MODIFIED:20240225T163404Z
UID:10000223-1716638400-1716660000@sintjacobskerk.nl
SUMMARY:Geen verhuur mogelijk / ontmoet de PGV
DESCRIPTION:
URL:https://sintjacobskerk.nl/agenda/geen-verhuur-mogelijk-24/
END:VEVENT
BEGIN:VEVENT
DTSTART;TZID=Europe/Amsterdam:20240524T200000
DTEND;TZID=Europe/Amsterdam:20240524T223000
DTSTAMP:20260423T003527
CREATED:20231218T181028Z
LAST-MODIFIED:20240426T075414Z
UID:10000201-1716580800-1716589800@sintjacobskerk.nl
SUMMARY:"Vlijt en Volharding": Jubileumconcert  dirigent Albert John Vervorst
DESCRIPTION:Jubileumconcert in het teken van het 25-jarig jubileum van dirigent en componist Albert John Vervorst uit Oost-Souburg\nConcert door fanfare “Vlijt en Volharding” en als gastvereniging Harmonie “Ons Genoegen” uit Kapelle o.l.v. Ralf Goddrie\nSpecial guests: Tamara Heuveling (zang)\, Daniel Ploeger (trombone)\, Sander Teepen (hobo)\, Vincent Houdijk (vibrafoon) en Frans Beekman (hoorn) \n 
URL:https://sintjacobskerk.nl/agenda/optie-albert-john-vervorst-25-jaar-dirigent-vlijt-en-volharding/
CATEGORIES:Zichtbaar op homepage
ATTACH;FMTTYPE=image/jpeg:https://sintjacobskerk.nl/wp-content/uploads/2023/12/Dirigent-Albert-John-Vervorst.jpg
ORGANIZER;CN="Muziekvereniging Vlijt en Volharding":MAILTO:secretaris@vlijtenvolhardingsouburg.nl
END:VEVENT
BEGIN:VEVENT
DTSTART;VALUE=DATE:20240520
DTEND;VALUE=DATE:20240521
DTSTAMP:20260423T003527
CREATED:20231027T154344Z
LAST-MODIFIED:20231027T154507Z
UID:10000151-1716163200-1716249599@sintjacobskerk.nl
SUMMARY:Tweede Pinksterdag
DESCRIPTION:
URL:https://sintjacobskerk.nl/agenda/tweede-pinksterdag/
END:VEVENT
BEGIN:VEVENT
DTSTART;VALUE=DATE:20240519
DTEND;VALUE=DATE:20240520
DTSTAMP:20260423T003527
CREATED:20231027T154241Z
LAST-MODIFIED:20231027T154242Z
UID:10000150-1716076800-1716163199@sintjacobskerk.nl
SUMMARY:Eerste Pinksterdag
DESCRIPTION:
URL:https://sintjacobskerk.nl/agenda/eerste-pinksterdag/
END:VEVENT
BEGIN:VEVENT
DTSTART;TZID=Europe/Amsterdam:20240509T100000
DTEND;TZID=Europe/Amsterdam:20240509T120000
DTSTAMP:20260423T003527
CREATED:20230824T114828Z
LAST-MODIFIED:20240428T193333Z
UID:10000042-1715248800-1715256000@sintjacobskerk.nl
SUMMARY:Hemelvaartsdag
DESCRIPTION:
URL:https://sintjacobskerk.nl/agenda/hemelvaartsdag/
END:VEVENT
BEGIN:VEVENT
DTSTART;TZID=Europe/Amsterdam:20240505T170000
DTEND;TZID=Europe/Amsterdam:20240505T170000
DTSTAMP:20260423T003527
CREATED:20230824T114752Z
LAST-MODIFIED:20240409T084731Z
UID:10000040-1714928400-1714928400@sintjacobskerk.nl
SUMMARY:Evensong
DESCRIPTION:Zondag 5 mei\, de dag waarop in Nederland uitgebreid wordt stilgestaan bij de betekenis van vrede en vrijheid\, verzorgen de Evensingers o.l.v. Ineke Wijkhuijs-van den Driest om 17.00 uur een feestelijke Evensong in de Jacobskerk te Vlissingen.\nBevrijdingsdag wordt dit jaar uitgebreid gevierd in de kerk. In de ochtend is er om 10.00 uur een oecumenische gebedsviering\, om 12.00 uur vindt de jaarlijkse Van Randwijck-lezing plaats en de afsluiting van deze feestdag is de Evensong met als thema “Over liefde gesproken….”\n\nDe psalm van deze viering is Psalm 33\, een danklied over hoe recht en gerechtigheid de instrumenten zijn om een samenleving staande te houden en dat machtsvertoon juist ontwrichtend werkt: “Koningen winnen niet door een machtig leger\, brute kracht redt krijgsheren niet. Van geen nut zijn paarden voor de overwinning\, hoe sterk ook\, ze bieden geen uitkomst.”\n\nDe lezingen tijdens de Evensong zijn uit Jesaja 45 en Johannes 15. De schepping kent haar eigen orde en wij mogen daarin leven. Maar wij veroorzaken helaas telkens weer chaos door onze onwetendheid\, onachtzaameid\, liefdeloosheid\, heb- en vernielzucht. Als wij ons met liefde wijden aan onze medemensen en de natuur\, dan kunnen vrede en leefbaarheid weerkeren.\nHet Anthem van deze zondag sluit heel mooi aan op deze gedachte: “There’s a wideness in God’s mercy”\, van Maurice Bevan.\n\nAan deze viering werken verder mee: ds. Gerrit Ruitenburg\, voorganger en Jos Vogel\, organist.
URL:https://sintjacobskerk.nl/agenda/evensong-8/
LOCATION:Sint Jacobskerk\, Oude Markt 2\, Vlissingen\, 4381 HK
CATEGORIES:Zichtbaar op homepage
ATTACH;FMTTYPE=image/jpeg:https://sintjacobskerk.nl/wp-content/uploads/2024/04/4-5-mei.jpg
END:VEVENT
BEGIN:VEVENT
DTSTART;TZID=Europe/Amsterdam:20240505T120000
DTEND;TZID=Europe/Amsterdam:20240505T133000
DTSTAMP:20260423T003527
CREATED:20240104T152634Z
LAST-MODIFIED:20240419T103609Z
UID:10000204-1714910400-1714915800@sintjacobskerk.nl
SUMMARY:Van Randwijklezing / Bevrijdingsfestival 2024
DESCRIPTION:VAN RANDWIJK LEZING 2024\nOp zondag 5 mei 2024 wordt om 12.00u de Van Randwijk lezing uitgesproken in de Sint-Jacobskerk te Vlissingen. De gastspreker voor 2024 is Mevrouw Kathleen Ferrier. Mevrouw Ferrier is voormalig tweede kamerlid en deskundige op het gebied van ontwikkelingssamenwerking\, mensenrechten en diversiteit.\n \nGRATIS AANMELDEN\nWilt u de van Randwijk lezing gratis bijwonen dan kunt u via de rode  “koop tickets”- knop uzelf aanmelden. U kunt maximaal 1 entreebewijs per persoon aanvragen\, het entreeticket ontvangt u per e-mail. \nDe deuren van de kerk gaan om 11.15 uur open.
URL:https://sintjacobskerk.nl/agenda/optie-van-randwijklezing-bevrijdingsfestival-2024/
CATEGORIES:Zichtbaar op homepage
ATTACH;FMTTYPE=image/jpeg:https://sintjacobskerk.nl/wp-content/uploads/2024/04/KathleenFerrier.jpg
ORGANIZER;CN="Bevrijdingsfestival Zeeland":MAILTO:mac.verburg@gmail.com
END:VEVENT
BEGIN:VEVENT
DTSTART;TZID=Europe/Amsterdam:20240504T080000
DTEND;TZID=Europe/Amsterdam:20240504T170000
DTSTAMP:20260423T003527
CREATED:20240116T162510Z
LAST-MODIFIED:20240116T162510Z
UID:10000209-1714809600-1714842000@sintjacobskerk.nl
SUMMARY:Geen verhuur mogelijk
DESCRIPTION:
URL:https://sintjacobskerk.nl/agenda/geen-verhuur-mogelijk-20/
END:VEVENT
BEGIN:VEVENT
DTSTART;TZID=Europe/Amsterdam:20240427T110000
DTEND;TZID=Europe/Amsterdam:20240427T110000
DTSTAMP:20260423T003527
CREATED:20231018T173555Z
LAST-MODIFIED:20240402T091259Z
UID:10000127-1714215600-1714215600@sintjacobskerk.nl
SUMMARY:Koninklijke Harmonie Ons Genoegen: Koningsdagconcert
DESCRIPTION:Op uitnodiging van de gemeente Vlissingen houdt de Koninklijke Harmonie Ons Genoegen op zaterdag 27 april 2024 een Koningsdagconcert voor alle inwoners en bezoekers in de Sint Jacobskerk in Vlissingen. \nSpeciale gasten zijn de gedecoreerden vanaf 2019 samen met de nog te decoreren inwoners tijdens de lintjesregen van dit jaar. De burgemeester van Vlissingen\, de heer drs. A.R.B. van den Tillaar zal hierbij ook aanwezig zijn en een korte toespraak houden. \nHet Koningsdagconcert begint om 11.00 uur en duurt tot 12.00 uur. De toegang is gratis en er is een vrije inloop. De deuren gaan om 10.45 uur open. Het Harmonieorkest staat onder leiding van haar dirigent Sander van Dorst. \nJesse van der Wijk (piano) en Job de Keijzer (basgitaar) verlenen hun medewerking aan dit feestelijk concert.
URL:https://sintjacobskerk.nl/agenda/koninklijke-harmonie-ons-genoegen-koningsdagconcert/
CATEGORIES:Zichtbaar op homepage
ATTACH;FMTTYPE=image/jpeg:https://sintjacobskerk.nl/wp-content/uploads/2024/04/KONINGSDAG-CONCERT-27-april-2024.jpg
END:VEVENT
BEGIN:VEVENT
DTSTART;TZID=Europe/Amsterdam:20240420T200000
DTEND;TZID=Europe/Amsterdam:20240420T200000
DTSTAMP:20260423T003527
CREATED:20231018T173330Z
LAST-MODIFIED:20231116T112241Z
UID:10000126-1713643200-1713643200@sintjacobskerk.nl
SUMMARY:Muziek Podium Zeeland: Música Temprana/Adrián Rodriquez Van der Spoel
DESCRIPTION:Música Temprana/Adrián Rodriquez Van der Spoel\nIn terra aliena\nMuziekPodium Zeeland werkt al jaren samen met de Stichting Oude Muziek Utrecht. Vorig jaar leverde dat een bijzonder optreden van de tenor Marco Beasley op. Dit jaar een optreden van Música Temprana. Een gezelschap dat bestaat uit een vocaal kwartet (Olalla Alemán/sopraan\, Luciana Cueto/mezzosopraan\, Jan van Elsacker/tenor en Pablo Acosta/bas)\nen een instrumentaal ensemble (Andrés Locatelli/blokfluit\, Paulina van Laarhoven/vihuela de arco\, Anna Danilevskaia/vihuela de arco en Emma Huijsser/renaissanceharp).\nMúsica Temprana wordt geleid door de tenor Adrián Rodríguez Van der Spoel die ook vihuela de mano en renaissancegitaar speelt. (De vihuela is een gitaarachtig snaarinstrument)\nHet programma brengt muziek uit de renaissance (15de en vroege 16de-eeuw) en gaat over de ervaringen van een mens die verbannen wordt en in één klap alles wat vertrouwd en geliefd is\, verliest. Hij klopt tevergeefs aan bij een gesloten hart. Er volgt een eenzame tocht van alles naar niets. Het verhaal wordt geïllustreerd in de liederen die opgetekend zijn in het illustere Cancionero de Palacio.\nMúsica Temprana maakt van de Spaanse renaissanceparels van Juan del Encina\, Francisco de Peñalosa en Gabriel Mena\, klaagliederen en Sefardische liederen een juweel van een voorstelling rond de vervreemding en broosheid van het leven ‘in den vreemde’.\nDe musici van Música Temprana zijn klassiek geschoold maar hebben allen muzikale wortels in de Latijns-Amerikaanse muziektraditie\, waardoor barok en folklore hand in hand gaan. Het repertoire is vooral afkomstig uit de archieven\, kathedralen en Jezuïetenmissies van Latijns-Amerika\, waar Rodríguez Van der Spoel regelmatig speurt naar vergeten composities.\nTickets: €25\,00/ €22\,50
URL:https://sintjacobskerk.nl/agenda/muziek-podium-zeeland-concert-musica-temprana/
CATEGORIES:Zichtbaar op homepage
ATTACH;FMTTYPE=image/jpeg:https://sintjacobskerk.nl/wp-content/uploads/2023/11/Musica-Temprana.jpg
END:VEVENT
BEGIN:VEVENT
DTSTART;TZID=Europe/Amsterdam:20240418T100000
DTEND;TZID=Europe/Amsterdam:20240418T170000
DTSTAMP:20260423T003527
CREATED:20240411T141439Z
LAST-MODIFIED:20240411T141439Z
UID:10000258-1713434400-1713459600@sintjacobskerk.nl
SUMMARY:Geen verhuur mogelijk
DESCRIPTION:
URL:https://sintjacobskerk.nl/agenda/geen-verhuur-mogelijk-11/
END:VEVENT
BEGIN:VEVENT
DTSTART;TZID=Europe/Amsterdam:20240411T080000
DTEND;TZID=Europe/Amsterdam:20240411T170000
DTSTAMP:20260423T003527
CREATED:20240404T073144Z
LAST-MODIFIED:20240404T073144Z
UID:10000243-1712822400-1712854800@sintjacobskerk.nl
SUMMARY:Geen verhuur mogelijk
DESCRIPTION:
URL:https://sintjacobskerk.nl/agenda/geen-verhuur-mogelijk-27/
END:VEVENT
BEGIN:VEVENT
DTSTART;TZID=Europe/Amsterdam:20240409T120000
DTEND;TZID=Europe/Amsterdam:20240409T170000
DTSTAMP:20260423T003527
CREATED:20240403T100245Z
LAST-MODIFIED:20240403T100245Z
UID:10000242-1712664000-1712682000@sintjacobskerk.nl
SUMMARY:Geen verhuur mogelijk
DESCRIPTION:
URL:https://sintjacobskerk.nl/agenda/geen-verhuur-mogelijk-19/
END:VEVENT
BEGIN:VEVENT
DTSTART;TZID=Europe/Amsterdam:20240407T170000
DTEND;TZID=Europe/Amsterdam:20240407T170000
DTSTAMP:20260423T003527
CREATED:20230824T114708Z
LAST-MODIFIED:20240309T175150Z
UID:10000041-1712509200-1712509200@sintjacobskerk.nl
SUMMARY:Evensong
DESCRIPTION:De Evensingers verzorgen o.l.v. Ineke Wijkhuijs-van den Driest op zondag 7 april op 17.00 uur weer een Evensong in de Sint Jacobskerk te Vlissingen. \nHet leidende thema is dan nog steeds Pasen\, want de zondag volgend op Pasen behoort liturgisch bij de zogenaamde paas octaaf (de acht dagen van Pasen) en staat ook bekend als “beloken Pasen”. \nHet thema voor Pasen dit jaar is “Zien\, geloven en leven” en deze Evensong sluit daar op aan met de lezingen uit Jesaja 25 en Lucas 24 en met Psalm 111.\nDe lezing uit Lucas is een duidelijk voorbeeld van hoe de mens niet op zijn intuïtie\, zijn gevoel vertrouwt: “eerst zien\, dan geloven”. \nAan de evensong werken verder mee: mw. Wilja Grootenboer\, voorganger en Jos Vogel\, organist. \n 
URL:https://sintjacobskerk.nl/agenda/evensong-7/
CATEGORIES:Zichtbaar op homepage
ATTACH;FMTTYPE=image/jpeg:https://sintjacobskerk.nl/wp-content/uploads/2023/08/P1020478.jpg
END:VEVENT
BEGIN:VEVENT
DTSTART;TZID=Europe/Amsterdam:20240406T100000
DTEND;TZID=Europe/Amsterdam:20240406T160000
DTSTAMP:20260423T003527
CREATED:20231018T172946Z
LAST-MODIFIED:20240105T164901Z
UID:10000125-1712397600-1712419200@sintjacobskerk.nl
SUMMARY:Next Blythe Event
DESCRIPTION:nadere informatie omtrent deelnemers aan dit event en kaartverkoop is te vinden op de instagrampagina “Next Blythe Family”
URL:https://sintjacobskerk.nl/agenda/next-blythe-event/
LOCATION:Sint Jacobskerk\, Oude Markt 2\, Vlissingen\, 4381 HK
CATEGORIES:Zichtbaar op homepage
END:VEVENT
BEGIN:VEVENT
DTSTART;TZID=Europe/Amsterdam:20240405T150000
DTEND;TZID=Europe/Amsterdam:20240405T233000
DTSTAMP:20260423T003527
CREATED:20231027T150409Z
LAST-MODIFIED:20231027T150410Z
UID:10000148-1712329200-1712359800@sintjacobskerk.nl
SUMMARY:Geen verhuur mogelijk
DESCRIPTION:
URL:https://sintjacobskerk.nl/agenda/geen-verhuur-mogelijk-9/
END:VEVENT
END:VCALENDAR