BEGIN:VCALENDAR
VERSION:2.0
PRODID:-//Cultuurpodium Sint Jacobskerk - ECPv6.2.8.1//NONSGML v1.0//EN
CALSCALE:GREGORIAN
METHOD:PUBLISH
X-ORIGINAL-URL:https://sintjacobskerk.nl
X-WR-CALDESC:Evenementen voor Cultuurpodium Sint Jacobskerk
REFRESH-INTERVAL;VALUE=DURATION:PT1H
X-Robots-Tag:noindex
X-PUBLISHED-TTL:PT1H
BEGIN:VTIMEZONE
TZID:Europe/Amsterdam
BEGIN:DAYLIGHT
TZOFFSETFROM:+0100
TZOFFSETTO:+0200
TZNAME:CEST
DTSTART:20260329T010000
END:DAYLIGHT
BEGIN:STANDARD
TZOFFSETFROM:+0200
TZOFFSETTO:+0100
TZNAME:CET
DTSTART:20261025T010000
END:STANDARD
END:VTIMEZONE
BEGIN:VEVENT
DTSTART;TZID=Europe/Amsterdam:20260427T110000
DTEND;TZID=Europe/Amsterdam:20260427T110000
DTSTAMP:20260421T174335
CREATED:20251118T101107Z
LAST-MODIFIED:20260318T110203Z
UID:10000600-1777287600-1777287600@sintjacobskerk.nl
SUMMARY:Koningsdagconcert
DESCRIPTION:Op uitnodiging van de gemeente Vlissingen houdt de Koninklijke Harmonie Ons Genoegen op maandag 27 april 2026 een concert als start van de Koningsdagactiviteiten voor alle inwoners en bezoekers in Cultuurpodium Sint Jacobskerk in Vlissingen. Speciale gasten zijn de gedecoreerden samen met de nog te decoreren inwoners tijdens de lintjesregen van dit jaar. De burgemeester van Vlissingen\, de heer drs. A.R.B. van den Tillaar zal hierbij ook aanwezig zijn en een korte toespraak houden.\n\nOm 11.00 uur zullen koperblazers vanaf de toren van de Sint Jacobskerk het concert inluiden. Zodra alle genodigden daarna plaats hebben genomen in de kerk\, zal het concert van start gaan. We verwachten dat dit rond 11.15 uur zal zijn.\n\n\nHet Harmonieorkest staat onder leiding van dirigent Sander van Dorst; we hebben een leuk programma samengesteld met voornamelijk Spaanse en Franse muziek. We spelen onder andere een compilatie van Carmen en El Camino Real.\n\n\nIedereen is van harte welkom. De kerk is geopend vanaf 11.00 uur en de toegang is gratis.
URL:https://sintjacobskerk.nl/agenda/koningsdagconcert/
CATEGORIES:Zichtbaar op homepage
ATTACH;FMTTYPE=image/png:https://sintjacobskerk.nl/wp-content/uploads/2025/11/KONINGSDAG-CONCERT-27-april-2026.png
END:VEVENT
BEGIN:VEVENT
DTSTART;TZID=Europe/Amsterdam:20260502T100000
DTEND;TZID=Europe/Amsterdam:20260502T120000
DTSTAMP:20260421T174335
CREATED:20251110T093212Z
LAST-MODIFIED:20251110T093213Z
UID:10000525-1777716000-1777723200@sintjacobskerk.nl
SUMMARY:Repetitie Evensingers
DESCRIPTION:
URL:https://sintjacobskerk.nl/agenda/repetitie-evensingers/2026-05-02/
END:VEVENT
BEGIN:VEVENT
DTSTART;TZID=Europe/Amsterdam:20260503T170000
DTEND;TZID=Europe/Amsterdam:20260503T170000
DTSTAMP:20260421T174335
CREATED:20251110T092426Z
LAST-MODIFIED:20251110T092427Z
UID:10000515-1777827600-1777827600@sintjacobskerk.nl
SUMMARY:Evensong
DESCRIPTION:
URL:https://sintjacobskerk.nl/agenda/evensong-15/2026-05-03/
END:VEVENT
BEGIN:VEVENT
DTSTART;TZID=Europe/Amsterdam:20260505T110000
DTEND;TZID=Europe/Amsterdam:20260505T110000
DTSTAMP:20260421T174335
CREATED:20260202T164658Z
LAST-MODIFIED:20260216T102459Z
UID:10000594-1777978800-1777978800@sintjacobskerk.nl
SUMMARY:Bevrijdingsfestival Zeeland: de van Randwijklezing door Geert Mak
DESCRIPTION:Dit jaar wordt de Van Randwijklezing uitgesproken door Geert Mak\, schrijver\, journalist en historicus. Hij werd vooral bekend door zijn verhalende non-fictie\, waarin hij grote historische ontwikkelingen toegankelijk en menselijk maakt. De lezing begint om 11.00u en duurt tot 12.00u. Inloop is vanaf 10.30u met gratis koffie/thee. \nWanneer u de lezing wilt bijwonen kunt u gratis tickets bestellen via de rode ticketbutton \nQ&A MET GEERT MAK\nNa de van Randwijklezing is er tussen 14.00u en 15.00u de mogelijkheid om de Q&A met Geert Mak bij te wonen in de Sint Jacobskerk. Host van de Q&A is Jan van Damme\, deze vragensessie is gratis te bezoeken en hiervoor zijn géén entreebewijzen benodigd!
URL:https://sintjacobskerk.nl/agenda/bevrijdingsfestival-zeeland-de-van-randwijklezing-door-geert-mak/
CATEGORIES:Zichtbaar op homepage
ATTACH;FMTTYPE=image/jpeg:https://sintjacobskerk.nl/wp-content/uploads/2026/02/5-mei.jpg
ORGANIZER;CN="Bevrijdingsfestival Zeeland":MAILTO:mac.verburg@gmail.com
END:VEVENT
BEGIN:VEVENT
DTSTART;TZID=Europe/Amsterdam:20260507T080000
DTEND;TZID=Europe/Amsterdam:20260507T120000
DTSTAMP:20260421T174335
CREATED:20260416T070417Z
LAST-MODIFIED:20260420T080211Z
UID:10000648-1778140800-1778155200@sintjacobskerk.nl
SUMMARY:Gemeente Vlissingen netwerkbijeenkomst Sociaal Domein
DESCRIPTION:
URL:https://sintjacobskerk.nl/agenda/gemeente-vlissingen/
END:VEVENT
BEGIN:VEVENT
DTSTART;TZID=Europe/Amsterdam:20260510T153000
DTEND;TZID=Europe/Amsterdam:20260510T153000
DTSTAMP:20260421T174335
CREATED:20250612T150716Z
LAST-MODIFIED:20260418T114333Z
UID:10000460-1778427000-1778427000@sintjacobskerk.nl
SUMMARY:i.s.m. Kamermuziek Zeeland: Tim Kuypers - bariton\, Maurice Lammerts van Bueren - piano
DESCRIPTION:“Question of Light” met Tim Kuypers – bariton\, Maurice Lammerts van Bueren – piano \nTim Kuypers\, bariton \nMaurice Lammerts van Bueren\, piano \nZondag 10 mei om 15u30 in de Sint Jacobskerk te Vlissingen \nTickets € 22\,50 te koop via deze website  \n \nIn het liedprogramma “a question of light” van bariton Tim Kuypers met pianist Maurice Lammerts van Bueren staat “licht” centraal. Liederen van Mussorgsky\, Ravel\, Butterworth\, Heggie en Mahler belichten grote thema’s als kunst\, dood en liefde\, waanzin\, kleuren en lichtsterktes. Want wat is licht\, welke rol speelt het in ons leven\, is er altijd licht aan het eind van de tunnel\, wat gebeurt er met kleur als onze perceptie van de werkelijkheid verandert? \n \nModest Mussorgsky: Songs and Dances of Death \nMaurice Ravel: Don Quichotte à Dulcinée \nGeorge Butterworth: Bredon Hill \nJake Heggie: A question of light \nGustav Mahler: Urlicht \nMusici\nDe stem van bariton Tim Kuypers wordt vaak omschreven als rijk\, fluweelzacht en sonoor. Verder staat hij bekend als iemand met een sterke podiumpresentatie en bovendien is hij een uitstekend acteur. \n-Als operazanger was hij regelmatig te gast bij de Bayerische Staatsoper in München\, waar hij ook zijn opleiding voltooide bij de Studio aldaar. Hij zong in München regelmatig onder chefdirigent Krill Petrenka\, naast dirigenten als Kent Nagano en Oksana Liniv. Voor een volledig overzicht van de operarollen die Tim Kuypers zong\, zie operabase.com Tim Kuypers: rollen en repertoire. \n-Naast opera heeft Tim een grote passie voor het lied-repertoire: van Schuberts’ Winterreise tot Martin\, tot Mahler’s liederencycli\, tot Butterworth en Fauré. \nPianist Maurice Lammerts van Bueren heeft zich met hart en ziel toegelegd op liedbegeleiding. Zo werkte hij intensief samen met zangers als Ellen Valkenburg en Lilian Farahani. Voordat hij zich volledig richtte op het werken met zangers\, was hij vooral actief als kamermusicus. Als coach is hij verbonden aan de zangafdeling van het Koninklijk Conservatorium te Den Haag. Voor een volledige biografie en video’s van zijn optredens\, zie mauricelammertsvanbueren-pianist.com
URL:https://sintjacobskerk.nl/agenda/optie-kamermuziek-zeeland-4/
CATEGORIES:Zichtbaar op homepage
ATTACH;FMTTYPE=image/jpeg:https://sintjacobskerk.nl/wp-content/uploads/2025/06/Tim-Kuijpers-en-Maurice-van-Buren.jpg
ORGANIZER;CN="Stichting Kamermuziek Zeeland":MAILTO:bestuur@kamermuziekzeeland.nl
END:VEVENT
BEGIN:VEVENT
DTSTART;TZID=Europe/Amsterdam:20260512T120000
DTEND;TZID=Europe/Amsterdam:20260512T130000
DTSTAMP:20260421T174335
CREATED:20260417T062442Z
LAST-MODIFIED:20260417T063518Z
UID:10000661-1778587200-1778590800@sintjacobskerk.nl
SUMMARY:Middagpauzedienst
DESCRIPTION:Een gebed om vrede in de wereld\, in onze stad\, in ons leven en in het leven van de mensen om ons heen.
URL:https://sintjacobskerk.nl/agenda/middagpauzedienst/2026-05-12/
END:VEVENT
BEGIN:VEVENT
DTSTART;VALUE=DATE:20260514
DTEND;VALUE=DATE:20260515
DTSTAMP:20260421T174335
CREATED:20250319T111614Z
LAST-MODIFIED:20250319T111614Z
UID:10000431-1778716800-1778803199@sintjacobskerk.nl
SUMMARY:Hemelvaartsdag
DESCRIPTION:
URL:https://sintjacobskerk.nl/agenda/hemelvaartsdag-3/
END:VEVENT
BEGIN:VEVENT
DTSTART;TZID=Europe/Amsterdam:20260516T200000
DTEND;TZID=Europe/Amsterdam:20260516T200000
DTSTAMP:20260421T174335
CREATED:20251121T111138Z
LAST-MODIFIED:20260216T110949Z
UID:10000541-1778961600-1778961600@sintjacobskerk.nl
SUMMARY:Accordeon Ensemble 'Encore'
DESCRIPTION:Concert accordeonensemble “Encore”. \nHet accordeon ensemble “Encore” onder leiding van Harry Schroevers (dirigent en muziekdocent)\, presenteert een uniek accordeon concert met inspirerende muziek. Dit ensemble bestaat uit hoogopgeleide musici die hun passie voor muziek en het accordeon graag delen met het publiek. \nHet concert belooft een verrassende ervaring te worden met prachtige arrangementen en originele voor accordeon gecomponeerde muziek. \nVan Bach via Rogier van Otterloo tot Abba\, het ensemble brengt een breed repertoire tot leven met hun virtuoze spel. Dit concert zal het accordeon voor velen in een nieuw daglicht stellen. \n“Encore” wordt tijdens dit concert bijgestaan door Bernadette van Steijn op klarinet. Bernadette heeft haar opleiding tot musicus afgerond aan het conservatorium van Berlijn. Zij zal tijdens het concert de solopartij voor haar rekening nemen bij o.a. het stuk “La Califfa” van Ennio Morricone en het prachtige bekende werk “Esther” van Rogier van Otterloo. \nOok o.a. muziekstukken als “Imagine” van The Beatles\, “Eloise” van Paul Ryan\, “Palladio” van Karl Jenkins en “Tango pour Claude” van Richard Galliano” staan op het programma. \nKom en laat u verrassen door de schoonheid van accordeonmuziek.  Het concert is een unieke kans om het accordeon in een nieuwe context te ervaren. \nDe musici in het ensemble zijn: \nHarry Schroevers                          Accordeon \nPauline Marteijn                           Accordeon/bas-accordeon \nAnnelies v.d. Maas                       Accordeon \nHilde Louwerse                            Accordeon \nVeronique Oele                            Accordeon \nMarianne Zwagerman                 Accordeon \nEllie Kurvers                                Accordeon \nWim van Berkel                          Accordeon \nJasja van Steijn                           Toetsen \nBernadette van Steijn                Klarinet \nGuido Marteijn                           Slagwerk \nTickets: € 12\,50 te bestellen via deze site
URL:https://sintjacobskerk.nl/agenda/accordeonvereniging-concertina/
CATEGORIES:Zichtbaar op homepage
ATTACH;FMTTYPE=image/jpeg:https://sintjacobskerk.nl/wp-content/uploads/2026/01/Encore2.jpg
ORGANIZER;CN="Cultuurpodium Sint Jacobskerk":MAILTO:verhuur@sintjacobskerk.nl
END:VEVENT
BEGIN:VEVENT
DTSTART;TZID=Europe/Amsterdam:20260518T120000
DTEND;TZID=Europe/Amsterdam:20260518T170000
DTSTAMP:20260421T174335
CREATED:20250802T154802Z
LAST-MODIFIED:20250802T154948Z
UID:10000478-1779105600-1779123600@sintjacobskerk.nl
SUMMARY:Huwelijk
DESCRIPTION:
URL:https://sintjacobskerk.nl/agenda/huwelijk-4/
END:VEVENT
BEGIN:VEVENT
DTSTART;TZID=Europe/Amsterdam:20260519T120000
DTEND;TZID=Europe/Amsterdam:20260519T130000
DTSTAMP:20260421T174335
CREATED:20260417T062442Z
LAST-MODIFIED:20260417T063518Z
UID:10000665-1779192000-1779195600@sintjacobskerk.nl
SUMMARY:Middagpauzedienst
DESCRIPTION:Een gebed om vrede in de wereld\, in onze stad\, in ons leven en in het leven van de mensen om ons heen.
URL:https://sintjacobskerk.nl/agenda/middagpauzedienst/2026-05-19/
END:VEVENT
BEGIN:VEVENT
DTSTART;TZID=Europe/Amsterdam:20260523T100000
DTEND;TZID=Europe/Amsterdam:20260523T130000
DTSTAMP:20260421T174335
CREATED:20260407T094159Z
LAST-MODIFIED:20260407T094329Z
UID:10000641-1779530400-1779541200@sintjacobskerk.nl
SUMMARY:repetitie Bachkoor
DESCRIPTION:
URL:https://sintjacobskerk.nl/agenda/repetitie-bachkoor/
END:VEVENT
BEGIN:VEVENT
DTSTART;TZID=Europe/Amsterdam:20260524T080000
DTEND;TZID=Europe/Amsterdam:20260524T170000
DTSTAMP:20260421T174335
CREATED:20250319T111650Z
LAST-MODIFIED:20250319T111650Z
UID:10000432-1779609600-1779642000@sintjacobskerk.nl
SUMMARY:1e Pinksterdag
DESCRIPTION:
URL:https://sintjacobskerk.nl/agenda/1e-pinksterdag/
END:VEVENT
BEGIN:VEVENT
DTSTART;TZID=Europe/Amsterdam:20260524T110000
DTEND;TZID=Europe/Amsterdam:20260524T143000
DTSTAMP:20260421T174335
CREATED:20251110T181443Z
LAST-MODIFIED:20251110T181443Z
UID:10000533-1779620400-1779633000@sintjacobskerk.nl
SUMMARY:Kliederkerk
DESCRIPTION:
URL:https://sintjacobskerk.nl/agenda/kliederkerk-6/2026-05-24/
END:VEVENT
BEGIN:VEVENT
DTSTART;VALUE=DATE:20260525
DTEND;VALUE=DATE:20260526
DTSTAMP:20260421T174335
CREATED:20250319T111732Z
LAST-MODIFIED:20250319T111733Z
UID:10000433-1779667200-1779753599@sintjacobskerk.nl
SUMMARY:2e Pinksterdag
DESCRIPTION:
URL:https://sintjacobskerk.nl/agenda/2e-pinksterdag/
END:VEVENT
BEGIN:VEVENT
DTSTART;TZID=Europe/Amsterdam:20260526T120000
DTEND;TZID=Europe/Amsterdam:20260526T130000
DTSTAMP:20260421T174335
CREATED:20260417T062442Z
LAST-MODIFIED:20260417T063518Z
UID:10000666-1779796800-1779800400@sintjacobskerk.nl
SUMMARY:Middagpauzedienst
DESCRIPTION:Een gebed om vrede in de wereld\, in onze stad\, in ons leven en in het leven van de mensen om ons heen.
URL:https://sintjacobskerk.nl/agenda/middagpauzedienst/2026-05-26/
END:VEVENT
BEGIN:VEVENT
DTSTART;TZID=Europe/Amsterdam:20260529T203000
DTEND;TZID=Europe/Amsterdam:20260529T203000
DTSTAMP:20260421T174335
CREATED:20250920T165021Z
LAST-MODIFIED:20260121T094505Z
UID:10000486-1780086600-1780086600@sintjacobskerk.nl
SUMMARY:Dutch Queen Unplugged
DESCRIPTION:Stel je voor: de iconische nummers van Queen in een intieme\, op MTV Unplugged geïnspireerde setting. ‘The Dutch Queen brengt een akoestisch eerbetoon aan de tijdloze muziek van Queen. \nNummers als ‘Radio Ga Ga’ worden omgetoverd tot ingetogen ballads\, en hits als ‘Bohemian Rhapsody’ en ‘Another One Bites The Dust’ krijgen een nieuwe dimensie. \nIn kleine bezetting maar met dezelfde energy brengen topmuzikanten vele juweeltjes uit het rijke oeuvre van de band. De band bestaat uit Merijn van Haren (vocals\, bekend van Navarone en The Analogues)\, Kees Lewiszong (gitaar\, vocals\, Navarone) en Henk Jan Heuvelink (piano\, vocals\, bekend van Marike Jager en Klein Orkest). \n 
URL:https://sintjacobskerk.nl/agenda/optie-dutch-queen-unplugged/
CATEGORIES:Zichtbaar op homepage
ATTACH;FMTTYPE=image/jpeg:https://sintjacobskerk.nl/wp-content/uploads/2026/01/Queen-Unplugged-tour-2025-1.jpg
END:VEVENT
BEGIN:VEVENT
DTSTART;TZID=Europe/Amsterdam:20260602T120000
DTEND;TZID=Europe/Amsterdam:20260602T130000
DTSTAMP:20260421T174335
CREATED:20260417T062442Z
LAST-MODIFIED:20260417T063518Z
UID:10000667-1780401600-1780405200@sintjacobskerk.nl
SUMMARY:Middagpauzedienst
DESCRIPTION:Een gebed om vrede in de wereld\, in onze stad\, in ons leven en in het leven van de mensen om ons heen.
URL:https://sintjacobskerk.nl/agenda/middagpauzedienst/2026-06-02/
END:VEVENT
BEGIN:VEVENT
DTSTART;VALUE=DATE:20260604
DTEND;VALUE=DATE:20260605
DTSTAMP:20260421T174335
CREATED:20251208T160918Z
LAST-MODIFIED:20260420T075113Z
UID:10000573-1780531200-1780617599@sintjacobskerk.nl
SUMMARY:Openingsconcert Vlissingen Maritiem 2026 door de Marinierskapel der Koninklijke Marine.
DESCRIPTION:
URL:https://sintjacobskerk.nl/agenda/openingsconcert-vlissingen-maritiem-2026-door-de-marinierskapel-der-koninklijke-marine/
END:VEVENT
BEGIN:VEVENT
DTSTART;TZID=Europe/Amsterdam:20260605T193000
DTEND;TZID=Europe/Amsterdam:20260605T210000
DTSTAMP:20260421T174335
CREATED:20250930T192608Z
LAST-MODIFIED:20260413T125453Z
UID:10000499-1780687800-1780693200@sintjacobskerk.nl
SUMMARY:Cosmic Sound
DESCRIPTION:Laat je meevoeren door de resonerende vibraties van een sound bath.\n\n\n\n\n\n\n\n\nEen klankreis waarin planetaire gongs\, bronzen en kristallen klankschalen\, stem\, fluit en andere instrumenten samen een rijk klankveld creëren. De trillingen werken door in het lichaam\, laten spanning en blokkades los en nodigen de levensenergie uit om weer vrij te stromen. \n\n\n\n\n\n\n\n\n\nJe ligt comfortabel op je mat op de vloer terwijl de klanken je lichaam zachtjes omhullen. Het geluid spoelt als golven over je heen en nodigt je uit om los te laten. De sessie begint met de klanken van klankschalen of verschillende andere instrumenten. Van daaruit worden de gongs zachtjes verwelkomd om hun stem te laten horen\, terwijl het geluid zich langzaam ontvouwt tot een rijk en diep veld van vibraties en harmoniëen. Doorheen de sessie verweven zich momenten met andere instrumenten en klanken\, maar de gongs vormen steeds het energetische hart van de reis. Naar het einde toe verzachten de klanken en maken zij plaats voor meer aardende geluiden. Daarna volgt een moment van diepe\, allesomvattende stilte. In deze stilte kun je rusten in een staat van diepe aanwezigheid. \n\n\n\n\n\n\n\n\n\nDeur open: 18:45\nAanvang: 19:30\nEinde: ±21:00\n\n\n\n\n\n\n\n\n\nDit is een liggende sound bath. Neem zelf een matrasje\, deken of slaapzak en kussen.
URL:https://sintjacobskerk.nl/agenda/optie-cosmicsound/
LOCATION:Sint Jacobskerk\, Oude Markt 2\, Vlissingen\, 4381 HK
CATEGORIES:Zichtbaar op homepage
ATTACH;FMTTYPE=image/jpeg:https://sintjacobskerk.nl/wp-content/uploads/2025/09/Vlissingen-Cosmic-Sound.jpg
END:VEVENT
BEGIN:VEVENT
DTSTART;TZID=Europe/Amsterdam:20260606T100000
DTEND;TZID=Europe/Amsterdam:20260606T120000
DTSTAMP:20260421T174335
CREATED:20251110T093212Z
LAST-MODIFIED:20251110T093213Z
UID:10000526-1780740000-1780747200@sintjacobskerk.nl
SUMMARY:Repetitie Evensingers
DESCRIPTION:
URL:https://sintjacobskerk.nl/agenda/repetitie-evensingers/2026-06-06/
END:VEVENT
BEGIN:VEVENT
DTSTART;TZID=Europe/Amsterdam:20260607T170000
DTEND;TZID=Europe/Amsterdam:20260607T170000
DTSTAMP:20260421T174335
CREATED:20251110T092426Z
LAST-MODIFIED:20251110T092427Z
UID:10000516-1780851600-1780851600@sintjacobskerk.nl
SUMMARY:Evensong
DESCRIPTION:
URL:https://sintjacobskerk.nl/agenda/evensong-15/2026-06-07/
END:VEVENT
BEGIN:VEVENT
DTSTART;TZID=Europe/Amsterdam:20260609T120000
DTEND;TZID=Europe/Amsterdam:20260609T130000
DTSTAMP:20260421T174335
CREATED:20260417T062442Z
LAST-MODIFIED:20260417T063518Z
UID:10000668-1781006400-1781010000@sintjacobskerk.nl
SUMMARY:Middagpauzedienst
DESCRIPTION:Een gebed om vrede in de wereld\, in onze stad\, in ons leven en in het leven van de mensen om ons heen.
URL:https://sintjacobskerk.nl/agenda/middagpauzedienst/2026-06-09/
END:VEVENT
BEGIN:VEVENT
DTSTART;TZID=Europe/Amsterdam:20260611T200000
DTEND;TZID=Europe/Amsterdam:20260611T200000
DTSTAMP:20260421T174335
CREATED:20251129T112050Z
LAST-MODIFIED:20260323T151524Z
UID:10000562-1781208000-1781208000@sintjacobskerk.nl
SUMMARY:Zomeravondconcerten 2026: JazzSpecs
DESCRIPTION:JazzSpecs timmert inmiddels al bijna 10 jaar aan de weg en wordt gevormd door een viertal ervaren Zeeuwse muzikanten. Zij spelen jazznummers uit het Great American Songbook en Bossa Nova’s\, aangevuld met “verjazzste” nummers uit een recenter verleden. Denk aan componisten als Cole Porter\, George Gershwin\, Kurt Weill\, Atônio Carlos Jobim en Lennon & McCartney. Vooral nummers van Jobim worden vaak in de setlijsten opgenomen. Heerlijke relaxte muziek van een componist die ook wel de Braziliaanse Gershwin genoemd wordt. The Girl From Ipanema is wel het bekendste nummer\, maar hij heeft veel meer mooie nummers geschreven. \n \nJazzSpecs: één welluidende stem\, twee gitaren en een contrabas die u twee uur lang aangenaam gaan verrassen. \nBezetting: \nMarieke van Dijk             Zang \nPum Linck                          Gitaar \nCo van Reijen                    Gitaar\, zang \nCoert Schelfhout              Contrabas \n  \nTickets € 17\,50 Early Bird: € 15\,00 verkrijgbaar via deze website
URL:https://sintjacobskerk.nl/agenda/optie-jazzspecs-4/
ATTACH;FMTTYPE=image/jpeg:https://sintjacobskerk.nl/wp-content/uploads/2026/02/JazzSpecs1200-zw-1.jpeg
ORGANIZER;CN="Cultuurpodium Sint Jacobskerk":MAILTO:verhuur@sintjacobskerk.nl
END:VEVENT
BEGIN:VEVENT
DTSTART;VALUE=DATE:20260612
DTEND;VALUE=DATE:20260613
DTSTAMP:20260421T174336
CREATED:20250702T170214Z
LAST-MODIFIED:20250702T170837Z
UID:10000471-1781222400-1781308799@sintjacobskerk.nl
SUMMARY:Opbouw en repetitie jubileumconcert Zws Concertkoor
DESCRIPTION:
URL:https://sintjacobskerk.nl/agenda/opbouw-en-repetitie-jubileumconcert-zws-concertkoor/
END:VEVENT
BEGIN:VEVENT
DTSTART;TZID=Europe/Amsterdam:20260613T150000
DTEND;TZID=Europe/Amsterdam:20260613T150000
DTSTAMP:20260421T174336
CREATED:20250702T170102Z
LAST-MODIFIED:20260420T075805Z
UID:10000470-1781362800-1781362800@sintjacobskerk.nl
SUMMARY:Optie: Jubileumconcert Zeeuws Concertkoor
DESCRIPTION:Ter ere van 80 jaar VOV\, met de première van de jubileumcantate ‘The journey is one’\, van Jacco Lamfers.
URL:https://sintjacobskerk.nl/agenda/optie-jubileumconcert-zeeuws-concertkoor/
END:VEVENT
BEGIN:VEVENT
DTSTART;TZID=Europe/Amsterdam:20260616T120000
DTEND;TZID=Europe/Amsterdam:20260616T130000
DTSTAMP:20260421T174336
CREATED:20260417T062442Z
LAST-MODIFIED:20260417T063518Z
UID:10000669-1781611200-1781614800@sintjacobskerk.nl
SUMMARY:Middagpauzedienst
DESCRIPTION:Een gebed om vrede in de wereld\, in onze stad\, in ons leven en in het leven van de mensen om ons heen.
URL:https://sintjacobskerk.nl/agenda/middagpauzedienst/2026-06-16/
END:VEVENT
BEGIN:VEVENT
DTSTART;TZID=Europe/Amsterdam:20260618T200000
DTEND;TZID=Europe/Amsterdam:20260618T200000
DTSTAMP:20260421T174336
CREATED:20251125T163959Z
LAST-MODIFIED:20260323T163630Z
UID:10000544-1781812800-1781812800@sintjacobskerk.nl
SUMMARY:Zomeravondconcerten 2026:  Matthijn Buwalda
DESCRIPTION:Matthijn Buwalda brengt Vlissingen een speciaal best-of-programma met zijn mooiste liedjes en verhalen. Als dé verrassing van het televisieprogramma Beste Zangers 2024 weet hij zijn publiek met prachtige liedteksten te raken\, en deze avond belooft opnieuw zo’n bijzondere\, intieme ontmoeting te worden. \nSinds hij in 2012 de overstap maakte van kerkzalen naar het theater\, heeft Matthijn vijf uitverkochte theatertours op zijn naam staan\, en met elke voorstelling groeit zijn publiek. Zijn muziek beweegt zich op een unieke manier tussen kleinkunst en Nederpop. Het Algemeen Dagblad zei het treffend: “Er zijn maar weinig zangers die met Nederlandstalig repertoire recht je hart in kunnen zingen. Matthijn Buwalda is zo iemand”. \n \n\n\nMis deze kans niet om Matthijn live te zien en te horen – een avond vol bezieling\, herkenning en prachtige muziek die je recht in het hart raakt! \n\nTickets € 25\,00 Early Bird € 22\,50 verkrijgbaar via deze site
URL:https://sintjacobskerk.nl/agenda/zomeravondconcerten-26-met-mattijn-buwalda/
CATEGORIES:Zichtbaar op homepage
ATTACH;FMTTYPE=image/jpeg:https://sintjacobskerk.nl/wp-content/uploads/2026/01/Matthijn-Buwalda-Live-door-Nienke-van-Denderen-Fotografie-1.jpg
ORGANIZER;CN="Cultuurpodium Sint Jacobskerk":MAILTO:verhuur@sintjacobskerk.nl
END:VEVENT
BEGIN:VEVENT
DTSTART;TZID=Europe/Amsterdam:20260623T120000
DTEND;TZID=Europe/Amsterdam:20260623T130000
DTSTAMP:20260421T174336
CREATED:20260417T062442Z
LAST-MODIFIED:20260417T063518Z
UID:10000670-1782216000-1782219600@sintjacobskerk.nl
SUMMARY:Middagpauzedienst
DESCRIPTION:Een gebed om vrede in de wereld\, in onze stad\, in ons leven en in het leven van de mensen om ons heen.
URL:https://sintjacobskerk.nl/agenda/middagpauzedienst/2026-06-23/
END:VEVENT
BEGIN:VEVENT
DTSTART;TZID=Europe/Amsterdam:20260625T200000
DTEND;TZID=Europe/Amsterdam:20260625T200000
DTSTAMP:20260421T174336
CREATED:20251125T164251Z
LAST-MODIFIED:20260323T173729Z
UID:10000546-1782417600-1782417600@sintjacobskerk.nl
SUMMARY:Zomeravondconcerten 2026 met Leoni Jansen
DESCRIPTION:LEONI JANSEN JAAGT \nIn haar nieuwe soloprogramma gaat zangeres Leoni Jansen op jacht! Naar waardevolle momenten\, naar de schoonheid van de natuur. Naar de mooiste liedjes\, naar oplossingen voor relatieproblemen. Naar filosofische oplossingen voor dagelijkse problemen\, en nuchtere oplossingen voor filosofische problemen. \nSimpelweg afwachten wat er op je pad komt is tijdverspilling\, daar is Leoni te gretig en te gulzig voor. Nee\, Jansen jaagt. \n \nOnderdeel van de jacht zijn schitterende nummers uit het folk-repertoire\, prachtige Nederlandstalige songs en pareltjes uit de wereldmuziek. Met haar vaak komische overpeinzingen en heldere observaties ontstaat zo een voorstelling over levenslust als elixer tegen het onverbiddelijke verstrijken van de tijd. \nTickets: € 25\,00 Early Bird € 22\,50 verkrijgbaar via deze site
URL:https://sintjacobskerk.nl/agenda/zomeravondconcert-2026-met-leonie-jansen/
CATEGORIES:Zichtbaar op homepage
ATTACH;FMTTYPE=image/jpeg:https://sintjacobskerk.nl/wp-content/uploads/2026/03/cqc9E1A-e1772530408783.jpeg
ORGANIZER;CN="Cultuurpodium Sint Jacobskerk":MAILTO:verhuur@sintjacobskerk.nl
END:VEVENT
END:VCALENDAR