BEGIN:VCALENDAR
VERSION:2.0
PRODID:-//Cultuurpodium Sint Jacobskerk - ECPv6.2.8.1//NONSGML v1.0//EN
CALSCALE:GREGORIAN
METHOD:PUBLISH
X-WR-CALNAME:Cultuurpodium Sint Jacobskerk
X-ORIGINAL-URL:https://sintjacobskerk.nl
X-WR-CALDESC:Evenementen voor Cultuurpodium Sint Jacobskerk
REFRESH-INTERVAL;VALUE=DURATION:PT1H
X-Robots-Tag:noindex
X-PUBLISHED-TTL:PT1H
BEGIN:VTIMEZONE
TZID:Europe/Amsterdam
BEGIN:DAYLIGHT
TZOFFSETFROM:+0100
TZOFFSETTO:+0200
TZNAME:CEST
DTSTART:20240331T010000
END:DAYLIGHT
BEGIN:STANDARD
TZOFFSETFROM:+0200
TZOFFSETTO:+0100
TZNAME:CET
DTSTART:20241027T010000
END:STANDARD
END:VTIMEZONE
BEGIN:VEVENT
DTSTART;TZID=Europe/Amsterdam:20241103T170000
DTEND;TZID=Europe/Amsterdam:20241103T170000
DTSTAMP:20260422T235745
CREATED:20230824T115303Z
LAST-MODIFIED:20231028T073811Z
UID:10000046-1730653200-1730653200@sintjacobskerk.nl
SUMMARY:Evensong
DESCRIPTION:
URL:https://sintjacobskerk.nl/agenda/evensong-13/
LOCATION:Sint Jacobskerk\, Oude Markt 2\, Vlissingen\, 4381 HK
CATEGORIES:Zichtbaar op homepage
ORGANIZER;CN="Cultuurpodium Sint Jacobskerk":MAILTO:verhuur@sintjacobskerk.nl
END:VEVENT
BEGIN:VEVENT
DTSTART;TZID=Europe/Amsterdam:20241102T193000
DTEND;TZID=Europe/Amsterdam:20241102T193000
DTSTAMP:20260422T235745
CREATED:20240826T194834Z
LAST-MODIFIED:20240826T194903Z
UID:10000160-1730575800-1730575800@sintjacobskerk.nl
SUMMARY:Walchers Mannenkoor: Beleef de bevrijding
DESCRIPTION:Het Walchers Mannenkoor met medewerking van een brass tentet onder leiding van Jan Wisse presenteren u het verhaal van een soldaat. \nMiddels zijn brieven wordt u rondgeleid door het muzikale programma. \nOnze soldaat was voor de oorlog muzikant bij een Brassband en neemt u mee in zijn brieven die hij aan zijn ouders richt.\nHet programma is opgebouwd als een doorlopend verhaal\nWij hopen u de doorstane emoties in oorlogstijd en bij de bevrijding niet alleen te laten horen\, maar ook te laten beleven. \nHet orgel wordt bespeeld door Jan de Visser.
URL:https://sintjacobskerk.nl/agenda/optie-walchers-mannenkoor-2/
CATEGORIES:Zichtbaar op homepage
ATTACH;FMTTYPE=image/jpeg:https://sintjacobskerk.nl/wp-content/uploads/2023/10/Walchers-Mannenkoor.jpg
END:VEVENT
BEGIN:VEVENT
DTSTART;TZID=Europe/Amsterdam:20241101T093000
DTEND;TZID=Europe/Amsterdam:20241101T140000
DTSTAMP:20260422T235745
CREATED:20231027T174033Z
LAST-MODIFIED:20241004T132625Z
UID:10000157-1730453400-1730469600@sintjacobskerk.nl
SUMMARY:Opbouw podium voor concert 2 november
DESCRIPTION:
URL:https://sintjacobskerk.nl/agenda/optie-zeeuws-concertkoor-scratch-the-armed-man/
END:VEVENT
BEGIN:VEVENT
DTSTART;VALUE=DATE:20241031
DTEND;VALUE=DATE:20241101
DTSTAMP:20260422T235745
CREATED:20241004T132747Z
LAST-MODIFIED:20241004T132747Z
UID:10000330-1730332800-1730419199@sintjacobskerk.nl
SUMMARY:Geen verhuur mogelijk
DESCRIPTION:
URL:https://sintjacobskerk.nl/agenda/geen-verhuur-mogelijk-28/
END:VEVENT
BEGIN:VEVENT
DTSTART;TZID=Europe/Amsterdam:20241030T173000
DTEND;TZID=Europe/Amsterdam:20241030T230000
DTSTAMP:20260422T235745
CREATED:20240206T085021Z
LAST-MODIFIED:20241004T132427Z
UID:10000217-1730309400-1730329200@sintjacobskerk.nl
SUMMARY:Opbouw podium en repetie Walchers Mannenkoor
DESCRIPTION:
URL:https://sintjacobskerk.nl/agenda/geen-verhuur-mogelijk-23/
END:VEVENT
BEGIN:VEVENT
DTSTART;TZID=Europe/Amsterdam:20241027T153000
DTEND;TZID=Europe/Amsterdam:20241027T153000
DTSTAMP:20260422T235745
CREATED:20240213T164451Z
LAST-MODIFIED:20240628T080331Z
UID:10000225-1730043000-1730043000@sintjacobskerk.nl
SUMMARY:MuziekPodiumZeeland: Heytze\, Meijer & Van Ruller * Ik wilde je iets moois vertellen - Gedichten op de mooiste muziek
DESCRIPTION:Maartje Meijer maakt muziek van poëzie. Net zoals de beste gedichten zijn haar liedjes op de huid geschreven\, hyperpersoonlijk\, en tegelijkertijd heel universeel. Met een lenige\, lichte\, loepzuivere stem onthult ze fluisterend geheimen\, zij zingt jubelend als de voorzangeres van een engelenkoor en fladdert als een panische vogel die op zoek is naar een uitgang. Zo geeft zij de gedichten adem en muziek. Adem en muziek zijn volgens schrijver Gerrit Komrij de natuurlijke ouders van de poëzie. \nDe wereldberoemde gitarist Jesse van Ruller treedt op als een tussenpersoon die de hele voorstelling extra lucht en kleur geeft. Hij vormt de dragende brug tussen de dichter en de zangeres. Zoals een dichter zou kunnen schrijven over muziek\, zo speelt Van Ruller poëzie. Door de combinatie van zang en piano\, gitaar en voordracht op een tapijt van muziek wordt het programma Ik wilde je iets moois vertellen een ode aan de klank en een lofzang van het woord. Werkelijk een warm bad voor de geest. \nDe gedichten van Ingmar Heytze zijn uiterst geschikt omdat zijn regels en zinnen bestaan uit ritme en klank. Voor hem is het dé manier om in de buurt van de muziek te komen en hij vindt het heerlijk om samen met topmuzikanten zoals Meijer en Van Ruller op te treden. \nIk wilde je iets moois vertellen bevat liedjes op basis van gedichten van Toon Tellegen\, Remco Campert\, Herman Gorter\, Joost Zwagerman\, Ramsey Nasr\, Rutger Kopland en Annemarie Estor. Gedichten die Heytze graag leest naast zijn eigen poëzie. \nHet drietal Maartje Meijer (composities/zang/piano)\, Ingmar Heytze (poëzie/voordracht) en Jesse van Ruller (gitaar) brengt een intieme voorstelling en produceert een tastbare chemie tussen zangeres\, dichter en gitarist. \nTickets: €20\,-\nDonateurs: € 17\,50\nStudenten: € 5\,00
URL:https://sintjacobskerk.nl/agenda/muziekpodiumzeeland-heytze-meijer-van-ruller/
CATEGORIES:Zichtbaar op homepage
ATTACH;FMTTYPE=image/jpeg:https://sintjacobskerk.nl/wp-content/uploads/2024/06/Hetze-Meijer.jpg
END:VEVENT
BEGIN:VEVENT
DTSTART;TZID=Europe/Amsterdam:20241026T200000
DTEND;TZID=Europe/Amsterdam:20241026T200000
DTSTAMP:20260422T235745
CREATED:20231212T093429Z
LAST-MODIFIED:20240816T084108Z
UID:10000198-1729972800-1729972800@sintjacobskerk.nl
SUMMARY:Zeeuws Concertkoor: Scratch the Armed Man
DESCRIPTION:Eind oktober/begin november 2024 wordt op vele plaatsen in Walcheren de slag om de Schelde herdacht. Op zaterdag 26 oktober gebeurt dat aan het begin van de middag in de Sint Jacobskerk met aansluitend een plechtigheid op Uncle Beach bij de Oranjemolen.\nHet Zeeuws Concertkoor sluit daar ’s avonds bij aan met een uitvoering van The Armed Man van Karl Jenkins. Het is een uitvoering from scratch\, dat betekent alle koorrepetities op zaterdag 26 oktober plaats vinden\nHet concert zelf begint om 20.00 uur.\nDirigent: Pim Overduin.
URL:https://sintjacobskerk.nl/agenda/optie-zws-concertkoor-scratch-the-armed-man/
CATEGORIES:Zichtbaar op homepage
ATTACH;FMTTYPE=image/png:https://sintjacobskerk.nl/wp-content/uploads/2024/08/240811-The-Armed-Man.png
END:VEVENT
BEGIN:VEVENT
DTSTART;TZID=Europe/Amsterdam:20241026T130000
DTEND;TZID=Europe/Amsterdam:20241026T130000
DTSTAMP:20260422T235745
CREATED:20240930T085804Z
LAST-MODIFIED:20240930T085844Z
UID:10000215-1729947600-1729947600@sintjacobskerk.nl
SUMMARY:Herdenking 80 Jaar bevrijding van Vlissingen en de Slag om de Schelde
DESCRIPTION:12.00 uur inloop\, 13.00 uur start herdenking\nBurgemeester drs. A.R.B. van den Tillaar ontvangt u namens de gemeente Vlissingen in de Sint Jacobskerk voor de herdenking van 80 jaar bevrijding en de Slag om de Schelde. De bijeenkomst wordt muzikaal ondersteund door Jos Vogel op het Flentrop-orgel en door de Koninklijke Harmonie Ons Genoegen. Onder begeleiding van de Deltaband en het Korps Commandotroepen zal na afloop van de bijeenkomt in de kerk de herdenking worden voortgezet met een kranslegging bij de monumenten op Uncle Beach.
URL:https://sintjacobskerk.nl/agenda/optie-gemeente-vlissingen-herdenking-80-jaar-slag-om-de-schelde-2-2-2/
CATEGORIES:Zichtbaar op homepage
ATTACH;FMTTYPE=image/jpeg:https://sintjacobskerk.nl/wp-content/uploads/2024/09/csm_Nieuws_Logo_80-jaar-bevrijding_de515a04ba.jpg
END:VEVENT
BEGIN:VEVENT
DTSTART;TZID=Europe/Amsterdam:20241025T080000
DTEND;TZID=Europe/Amsterdam:20241025T170000
DTSTAMP:20260422T235745
CREATED:20231212T093544Z
LAST-MODIFIED:20231212T093546Z
UID:10000199-1729843200-1729875600@sintjacobskerk.nl
SUMMARY:Optie-> opbouw concert 26 oktober
DESCRIPTION:
URL:https://sintjacobskerk.nl/agenda/optie-opbouw-concert-26-oktober/
END:VEVENT
BEGIN:VEVENT
DTSTART;TZID=Europe/Amsterdam:20241018T200000
DTEND;TZID=Europe/Amsterdam:20241018T200000
DTSTAMP:20260422T235745
CREATED:20240808T084054Z
LAST-MODIFIED:20240808T084728Z
UID:10000272-1729281600-1729281600@sintjacobskerk.nl
SUMMARY:Ekaterina Levental: De Grens
DESCRIPTION:DE GRENS; een actuele muziektheater solo voor een breed publiek \nIndrukwekkend migratieverhaal van gevierde mezzosopraan en harpiste. \nMuziektheatervoorstelling De Grens is gebaseerd op dagboekfragmenten van Ekaterina Levental\, uit de periode waarin ze als 16 jarige vluchteling aankwam in Nederland. In een indrukwekkende one-woman show vertelt ze over haar zoektocht naar een nieuwe identiteit in een maatschappij waar ze geen deel van kan zijn. We zien Nederland door de ogen van een buitenstaander\, met veel humor en begrip. Ekaterina laat op ontroerende en confronterende wijze zien hoe het leven is in een niemandsland\, als enkel de hoop nog rest. \nDe Grens is het vervolg op de succesvolle solo-voorstelling De Weg. Daarin vertelt zangeres en harpiste Ekaterina Levental over haar vlucht uit de voormalige Sovjet Unie. Een weg die eindigt in een veilig politiebureau op de Wallen in Amsterdam. De Grens begint daar waar De Weg eindigt.  \nEen jonge vrouw\, die vecht voor haar bestaan\, dwars door grenzen\, voorbij het oordeel. Ekaterina vertelt\, speelt\, zingt en begeleidt zichzelf op de harp.  \nDe Grens vertelt je een waargebeurd en hoopvol verhaal\, opgetekend aan de rand van Nederland\, met humor en prachtige muziek. \nVideo: Bij Podium Witteman en  De Grens \nKaarten à € 17\,50 kunt u online-bestellen via de ‘koop-tickets’-knop en zijn ook te koop bij boekhandel ’t Spui.
URL:https://sintjacobskerk.nl/agenda/optie-leks-compagnie-muziektheater-de-grens-2/
CATEGORIES:Zichtbaar op homepage
ATTACH;FMTTYPE=image/jpeg:https://sintjacobskerk.nl/wp-content/uploads/2024/05/LEKS-compagnie-Ekaterina-Levental-foto-Chris-Koolmees-5WEB.jpg
END:VEVENT
BEGIN:VEVENT
DTSTART;TZID=Europe/Amsterdam:20241017T113000
DTEND;TZID=Europe/Amsterdam:20241017T123000
DTSTAMP:20260422T235745
CREATED:20241001T125424Z
LAST-MODIFIED:20241001T125425Z
UID:10000325-1729164600-1729168200@sintjacobskerk.nl
SUMMARY:Verhalen rond de Sint Jacob
DESCRIPTION:
URL:https://sintjacobskerk.nl/agenda/verhalen-rond-de-sint-jacob/
END:VEVENT
BEGIN:VEVENT
DTSTART;TZID=Europe/Amsterdam:20241013T153000
DTEND;TZID=Europe/Amsterdam:20241013T153000
DTSTAMP:20260422T235745
CREATED:20240118T101014Z
LAST-MODIFIED:20240610T090144Z
UID:10000211-1728833400-1728833400@sintjacobskerk.nl
SUMMARY:MuziekPodiumZeeland: Lavinia Meijer * Melodieuze muziek van Einaudi
DESCRIPTION:Het tokkelinstrument de Harp spreekt tot de verbeelding. Slanke vingers die de vele snaren in beroering brengen en voor golven van klank zorgen. De harpiste Lavinia Meijer (1983)\, is een van de meest veelzijdige harpisten. Zij won in 2009 de Nederlandse Muziekprijs. \nZe werkte samen met bekende componisten als Philip Glass (Koyaanisqatsi\, the Hours) en Ludovico Einaudi (Intouchables\, Black Swan) en deelde met hen het podium. Maar ze is ook veelzijdig want zij trad ook samen op met de legendarische Iggy Pop\, Patti Smith\, Laurie Anderson\, Olafur Arnalds en Sufjan Stevens. \nPhilip Glass spoorde haar aan om zijn muziek de bewerken voor harp en door het spelen van zijn composities en die van anderen heeft Lavinia Meijer de harpmuziek voor een groot publiek populair gemaakt. Haar albums worden wereldwijd uitgebracht en zijn bekroond met twee Edison Awards en twee platina-status. Lavinia Meijer behoort tot de internationale top van artiesten met de meeste klassieke muziekstreams. \nDe Italiaanse componist en pianist Ludovico Einaudi\, leerling van avant-garde componist Luciano Berio\, schreef toegankelijke muziek voor een groot publiek. Dat komt uit in zijn melodieuze stillevens en ingetogen muziek met onderhuidse spanningen.\nOok zijn muziek krijgt in de bewerkingen voor harp\, onder de vingers van Lavinia Meijer\, een nieuwe dimensie. Een duidelijk bewijs wordt geleverd door het album Passaggio: Einaudi by Lavinia dat in 2023 de platinum status kreeg.\nIn Vlissingen speelt Lavinia Meijer naast composities van Einaudi en Philip Glass\, ook werken van haarzelf. Haar album ‘Are you still there’ met eigen composities werd in 2022 bekroond met een Edison. Laat u betoveren door deze muziek! \nTickets: €22\,50 / €20\,- / Studenten €5\,-
URL:https://sintjacobskerk.nl/agenda/automatisch-2/
CATEGORIES:Zichtbaar op homepage
ATTACH;FMTTYPE=image/jpeg:https://sintjacobskerk.nl/wp-content/uploads/2024/04/Lavinia-Meijer.jpeg
END:VEVENT
BEGIN:VEVENT
DTSTART;TZID=Europe/Amsterdam:20241010T103000
DTEND;TZID=Europe/Amsterdam:20241010T153000
DTSTAMP:20260422T235745
CREATED:20241002T154203Z
LAST-MODIFIED:20241002T154203Z
UID:10000329-1728556200-1728574200@sintjacobskerk.nl
SUMMARY:uitvaart
DESCRIPTION:
URL:https://sintjacobskerk.nl/agenda/uitvaart-7/
END:VEVENT
BEGIN:VEVENT
DTSTART;TZID=Europe/Amsterdam:20241009T100000
DTEND;TZID=Europe/Amsterdam:20241009T153000
DTSTAMP:20260422T235745
CREATED:20241002T154117Z
LAST-MODIFIED:20241002T154118Z
UID:10000328-1728468000-1728487800@sintjacobskerk.nl
SUMMARY:uitvaart
DESCRIPTION:
URL:https://sintjacobskerk.nl/agenda/uitvaart-6/
END:VEVENT
BEGIN:VEVENT
DTSTART;TZID=Europe/Amsterdam:20241008T110000
DTEND;TZID=Europe/Amsterdam:20241008T153000
DTSTAMP:20260422T235745
CREATED:20241001T124408Z
LAST-MODIFIED:20241001T124408Z
UID:10000324-1728385200-1728401400@sintjacobskerk.nl
SUMMARY:Uitvaart
DESCRIPTION:
URL:https://sintjacobskerk.nl/agenda/uitvaart-5/
END:VEVENT
BEGIN:VEVENT
DTSTART;TZID=Europe/Amsterdam:20241006T170000
DTEND;TZID=Europe/Amsterdam:20241006T170000
DTSTAMP:20260422T235745
CREATED:20230824T115146Z
LAST-MODIFIED:20231028T073714Z
UID:10000048-1728234000-1728234000@sintjacobskerk.nl
SUMMARY:Evensong
DESCRIPTION:
URL:https://sintjacobskerk.nl/agenda/evensong-12/
LOCATION:Sint Jacobskerk\, Oude Markt 2\, Vlissingen\, 4381 HK
CATEGORIES:Zichtbaar op homepage
ORGANIZER;CN="Cultuurpodium Sint Jacobskerk":MAILTO:verhuur@sintjacobskerk.nl
END:VEVENT
BEGIN:VEVENT
DTSTART;TZID=Europe/Amsterdam:20241004T160000
DTEND;TZID=Europe/Amsterdam:20241004T223000
DTSTAMP:20260422T235745
CREATED:20240808T074830Z
LAST-MODIFIED:20240808T074830Z
UID:10000297-1728057600-1728081000@sintjacobskerk.nl
SUMMARY:Vrijwilligersavond St. Instandhouding St. Jacobskerk
DESCRIPTION:
URL:https://sintjacobskerk.nl/agenda/vrijwilligersavond-st-instandhouding-st-jacobskerk-2/
END:VEVENT
BEGIN:VEVENT
DTSTART;TZID=Europe/Amsterdam:20240929T110000
DTEND;TZID=Europe/Amsterdam:20240929T150000
DTSTAMP:20260422T235745
CREATED:20240326T141558Z
LAST-MODIFIED:20240326T141559Z
UID:10000240-1727607600-1727622000@sintjacobskerk.nl
SUMMARY:Kliederkerk
DESCRIPTION:
URL:https://sintjacobskerk.nl/agenda/kliederkerk/
END:VEVENT
BEGIN:VEVENT
DTSTART;TZID=Europe/Amsterdam:20240928T200000
DTEND;TZID=Europe/Amsterdam:20240928T200000
DTSTAMP:20260422T235745
CREATED:20231109T104059Z
LAST-MODIFIED:20240628T080204Z
UID:10000187-1727553600-1727553600@sintjacobskerk.nl
SUMMARY:Jubileumconcert 25 jaar shantykoor Het VeerseScheepstuig
DESCRIPTION:Shantykoor Het Veerse Scheepstuig wordt gevormd door 45 zangers en 5 muzikanten. \nOpgericht in 1999 wordt dit jaar in de Sint Jacobskerk het 25 jarig bestaan gevierd tijdens het Jubileumconcert.\nEen enthousiast concert met volksliedjes in diverse talen over de zee en het zeemansleven\, shanty’s\, werk- en vissersliederen\, onder begeleiding van accordeon\, viool\, banjo\, gitaar\, contrabas\, trompet. \n 
URL:https://sintjacobskerk.nl/agenda/jubileumconcert-25-jaar-shantykoor-het-veersescheepstuig/
CATEGORIES:Zichtbaar op homepage
ATTACH;FMTTYPE=image/jpeg:https://sintjacobskerk.nl/wp-content/uploads/2023/11/het-veerse-scheepstuig.jpg
ORGANIZER;CN="Het Veerse Scheepstuig":MAILTO:scheepstuig@zeelandnet.nl
END:VEVENT
BEGIN:VEVENT
DTSTART;TZID=Europe/Amsterdam:20240927T160000
DTEND;TZID=Europe/Amsterdam:20240927T230000
DTSTAMP:20260422T235745
CREATED:20240617T070426Z
LAST-MODIFIED:20240617T070427Z
UID:10000278-1727452800-1727478000@sintjacobskerk.nl
SUMMARY:Generale repetitie concert 28 september
DESCRIPTION:
URL:https://sintjacobskerk.nl/agenda/generale-repetitie-concert-28-september/
ORGANIZER;CN="Het Veerse Scheepstuig":MAILTO:scheepstuig@zeelandnet.nl
END:VEVENT
BEGIN:VEVENT
DTSTART;TZID=Europe/Amsterdam:20240922T153000
DTEND;TZID=Europe/Amsterdam:20240922T153000
DTSTAMP:20260422T235745
CREATED:20231219T150124Z
LAST-MODIFIED:20240610T094703Z
UID:10000202-1727019000-1727019000@sintjacobskerk.nl
SUMMARY:MuziekPodiumZeeland: Arethusa Quartet * Strijkkwartetten van Sjostakovitsj
DESCRIPTION:Het nieuwe Arethusa Quartet werd opgericht in 2023. De strijkers zijn internationaal gerenommeerde musici. Ieder met een zowel een achtergrond als solist\, als lid van wereldberoemde kamermuziekensembles. Zij namen deel aan talloze festivals en zo ontwikkelden Daniel Rowland\, Floor Le Coultre (violen)\, Dana Zemtsov (altviool) en Maja Bogdanovic (cello) een diepe vriendschap. Zij ervoeren hun complementaire passies en idealen en besloten samen verder te gaan als dynamische- en unieke groep.\nZij combineren in hun concerten hun grote fantasie\, creativiteit en avonturen met betoverende intensiteit die ontstaat omdat ze altijd ‘in het moment’ zijn als ze samen musiceren. Direct na de oprichting werd het Kwartet uitgenodigd door festivals en concertzalen. De musici zijn gepassioneerde pleitbezorgers van de hedendaagse muziek en werken nauw samen met componisten zoals Pēteris Vasks en Osvaldo Golijov.\nHet Arethusa Kwartet ontleent zijn naam aan de mythische\, magische waternimf Arethusa. Zij wordt begeerd door goden en halfgoden en als de halfgod Alpheus haar wil vangen verandert Arethusa in water en wordt één met de natuur. Zo wordt zij onbereikbaar. Trek maar een vergelijking met de kunst en de muziek in het bijzonder. Ook prachtig en soms onmogelijk te bevatten. \nSjostakovitsj Strijkkwartetten 1\, 2\, 3 \nHet Arethusa Kwartet speelt de eerste drie kwartetten van Dmitri Sjostakovitsj (1906 – 1975). \nHet Eerste Kwartet (1938) noemde Sjostakovitsj oorspronkelijk Lente. Hij schreef het vlak na de geboorte van zijn zoon. De muziek doet denken aan de eerste stappen van een kind\, vol verwondering en vreugde. Het Tweede Kwartet (1944) is een virtuoos hoogstandje. De delen hebben kleurrijke titels. Het is een adembenemend werk\, vol emotie. \nAl vanaf de eerste noot van het beroemde Derde Kwartet (1946) is de persoonlijke stem van de componist te horen\, overrompeld en groots. Na een humoristisch begin\, voeren een verwoestend oorlogsscherzo en een tragisch langzaam deel naar het diep ontroerende\, haast buitenaardse einde. \nTickets: €25\,- / 22\,50 / Studenten €5\,- \n \n 
URL:https://sintjacobskerk.nl/agenda/optie-muziekpodiumzeeland/
CATEGORIES:Zichtbaar op homepage
ATTACH;FMTTYPE=image/jpeg:https://sintjacobskerk.nl/wp-content/uploads/2024/06/Arethusa-Kwartet.jpg
END:VEVENT
BEGIN:VEVENT
DTSTART;VALUE=DATE:20240920
DTEND;VALUE=DATE:20240921
DTSTAMP:20260422T235745
CREATED:20240915T124459Z
LAST-MODIFIED:20240915T124459Z
UID:10000307-1726790400-1726876799@sintjacobskerk.nl
SUMMARY:Uitvaart
DESCRIPTION:
URL:https://sintjacobskerk.nl/agenda/uitvaart-4/
END:VEVENT
BEGIN:VEVENT
DTSTART;TZID=Europe/Amsterdam:20240919T180000
DTEND;TZID=Europe/Amsterdam:20240919T233000
DTSTAMP:20260422T235745
CREATED:20240626T072427Z
LAST-MODIFIED:20240626T072428Z
UID:10000279-1726768800-1726788600@sintjacobskerk.nl
SUMMARY:Optie: repetitie Veers Scheepstuig
DESCRIPTION:
URL:https://sintjacobskerk.nl/agenda/optie-repetitie-veers-scheepstuig/
END:VEVENT
BEGIN:VEVENT
DTSTART;TZID=Europe/Amsterdam:20240916T200000
DTEND;TZID=Europe/Amsterdam:20240916T200000
DTSTAMP:20260422T235745
CREATED:20240430T071227Z
LAST-MODIFIED:20240915T124933Z
UID:10000259-1726516800-1726516800@sintjacobskerk.nl
SUMMARY:Vredesweek lezing en gespreksavond
DESCRIPTION:
URL:https://sintjacobskerk.nl/agenda/optie-vredesweek-lezing-en-gespreksavond/
END:VEVENT
BEGIN:VEVENT
DTSTART;TZID=Europe/Amsterdam:20240914T203000
DTEND;TZID=Europe/Amsterdam:20240914T203000
DTSTAMP:20260422T235745
CREATED:20231027T170352Z
LAST-MODIFIED:20240429T090305Z
UID:10000156-1726345800-1726345800@sintjacobskerk.nl
SUMMARY:The Unplugged Experience
DESCRIPTION:Beleef en herleef tijdens Tribute to MTV Unplugged van de Unplugged Experience de melancholiek van Alice in Chains\, de lange uithalen van Kurt Cobain\, Eddie Vedders’ cryptische lyrics\, de frisse tonen van George Michael. en iconische nummers van Sinéad O’connor\, Lenny Kravitz\, en Alanis Morisette. 17 Rasmuzikanten halen alles uit de kast en brengen een semi akoestisch eerbetoon aan het beste van MTV Unplugged in de Sint Jacobskerk in Vlissingen. Kom ook en beleef een magische avond! \nDe deuren van de kerk staan open vanaf 19.00 uur en de show begint om 20.30 uur. \nVideo: the unplugged experience \n  \n 
URL:https://sintjacobskerk.nl/agenda/the-unplugged-experience/
CATEGORIES:Zichtbaar op homepage
ATTACH;FMTTYPE=image/jpeg:https://sintjacobskerk.nl/wp-content/uploads/2024/04/MTV-Unplugged-Experience-.jpg
END:VEVENT
BEGIN:VEVENT
DTSTART;TZID=Europe/Amsterdam:20240914T100000
DTEND;TZID=Europe/Amsterdam:20240914T160000
DTSTAMP:20260422T235745
CREATED:20240909T090356Z
LAST-MODIFIED:20240909T090357Z
UID:10000047-1726308000-1726329600@sintjacobskerk.nl
SUMMARY:Open Monumentendag
DESCRIPTION:Bezoek de kerk tijdens Open Monumentendag\, bekijk het de Ruyterraam\, steek een kaarsje aan in het stiltecentrum\, bewonder de scheepsmodellen\, knoop een praatje aan met één van de kerkwachten en hoor over de geschiedenis van de kerk\, beluister de audiotour of  beklim de Sint Jacobstoren tussen 10.00 uur en 16.00 uur. \nIn de loop van de middag zal Jos Vogel\, stadsbeiaardier van Vlissingen\, boven in de toren het carillon bespelen.  Dat maakt de beklimming van de toren extra interessant.
URL:https://sintjacobskerk.nl/agenda/open-monumentendag-3/
LOCATION:Sint Jacobskerk\, Oude Markt 2\, Vlissingen\, 4381 HK
CATEGORIES:Zichtbaar op homepage
ATTACH;FMTTYPE=image/jpeg:https://sintjacobskerk.nl/wp-content/uploads/2023/08/Open-monumentendag.jpeg
END:VEVENT
BEGIN:VEVENT
DTSTART;TZID=Europe/Amsterdam:20240911T200000
DTEND;TZID=Europe/Amsterdam:20240911T200000
DTSTAMP:20260422T235745
CREATED:20240611T114645Z
LAST-MODIFIED:20240611T120408Z
UID:10000273-1726084800-1726084800@sintjacobskerk.nl
SUMMARY:FilmConcert: The Most Dangerous Game
DESCRIPTION:Stichting Klassieke Muziek Vlissingen organiseert met FbtS 2024 de film The Most Dangerous Game\nWaar zie je een filmklassieker als The Most Dangerous Game nou mooier dan in een monumentale kerk? De Sint Jacobskerk vormt op woensdagavond 11 september het ultieme decor voor deze prachtige filmklassieker uit 1932 met muzikale begeleiding van The James Whale Orchestra en het Amsterdam Brass quintet
URL:https://sintjacobskerk.nl/agenda/filmconcert-the-most-dangerous-game/
CATEGORIES:Zichtbaar op homepage
ATTACH;FMTTYPE=image/jpeg:https://sintjacobskerk.nl/wp-content/uploads/2024/06/poster-filmconcert-2024-A3-3.jpeg
END:VEVENT
BEGIN:VEVENT
DTSTART;TZID=Europe/Amsterdam:20240908T153000
DTEND;TZID=Europe/Amsterdam:20240908T153000
DTSTAMP:20260422T235745
CREATED:20240628T080938Z
LAST-MODIFIED:20240628T080946Z
UID:10000214-1725809400-1725809400@sintjacobskerk.nl
SUMMARY:MPZ & Cultuurpodium Sint Jacobskerk: Michael Abspoel * Vive Aznavour
DESCRIPTION:Vive Aznavour\, de laatste grootmeester van het Franse Chanson \nFor Me formidable… Wie kent niet de meest geliefde en bestverkochte chansonnier aller tijden: Charles Aznavour\, die de vergankelijkheid tartte en tot op hoge leeftijd als een jonge god bleef zingen. Hij overleed 1 oktober 2018\, op 94-jarige leeftijd. \nDeze man verdient een eervolle herdenking. MPZ opent daarom het najaar seizoen 2024 met een ode aan hem\, meesterlijk gebracht door Michael Abspoel. Deze herdenkt hem niet alleen met muziek\, maar ook met een zoektocht naar de invloed van Aznavour op zijn en ons leven. Hij maakt duidelijk hoe deze chansonnier ons heeft geraakt.\nMichael Abspoel leidt de nummers met persoonlijke verhalen en herinneringen in. Met zijn teksten schets hij een beeld van het doorleefde leven van Aznavour en zo krijgt elk nummer een extra emotionele lading. \nShahnour Varenagh Aznavourian\, de zoon van Armeense vluchtelingen\, was een monument van het Franse chanson. ‘Le dernier monstre sacré de la chanson’ noemden zijn fans hem liefkozend. Hij zong in negen talen en schreef 1300 nummers\, trad vaak op en was bovendien een succesvolle filmacteur. \nMichael Abspoel bracht eerder een succesvol eerbetoon aan een andere grote chansonnier: de Brusselaar Jacques Brel met het programma ‘Leven met Brel’. Hij deed dit samen met pianist Marc Bischoff. Deze keer werkt ook violiste Laura Rafecas mee. Vive Aznavour is een muziektheaterprogramma vol kleur en sfeer. \nOp het programma o.a. She\, La Bohème\, Yesterday when I was young\, What makes a man a man\, For Me\, formidable\, La Mamma\, Non je n’ai rien oublié\, Emmenez-moi. \nMPZ biedt dit concert aan i.s.m. met Stichting Instandhouding Sint Jacobskerk. \nTickets: €  20\,00\nDonateurs: € 17.50\nStudenten: € 5\,00 \nConcept\, Spel en Zang Michael Abspoel Arrangementen en Piano Marc Bischoff Viool Laura Rafecas Fotografie Frans Verpoorten Beeldprodukties
URL:https://sintjacobskerk.nl/agenda/optie-mpz-cultuurpodium-sint-jacobskerk-2-2/
CATEGORIES:Zichtbaar op homepage
ATTACH;FMTTYPE=image/jpeg:https://sintjacobskerk.nl/wp-content/uploads/2024/04/1.-Persfoto-Michael-Abspoel-Aznavour-high-res_-scaled-1.jpg
END:VEVENT
BEGIN:VEVENT
DTSTART;TZID=Europe/Amsterdam:20240901T170000
DTEND;TZID=Europe/Amsterdam:20240901T170000
DTSTAMP:20260422T235745
CREATED:20230824T115023Z
LAST-MODIFIED:20240830T104421Z
UID:10000045-1725210000-1725210000@sintjacobskerk.nl
SUMMARY:Evensong
DESCRIPTION:De lezingen in de Evensong van 1 september zijn uit Jeremia 5 en Marcus 8. Het gaat hier over moeite hebben met geloven\, letterlijk je ogen niet geloven en meer bevestiging zoeken. Hoe herken je het werk van God? Wat is ervoor nodig om echt te zien waar het om gaat? \nDe Evensingers sluiten hierop aan met Psalm 86 en o.a. de liederen 910 en 943. Als anthem zingen zij “Thine arm\, o Lord\, in days of old” van W. Croft. \nVoorganger in deze Evensong is ds Hans Neels en Jos Vogel is de organist\, dirigente Ineke Wijkhuijs- van den Driest
URL:https://sintjacobskerk.nl/agenda/evensong-11/
LOCATION:Sint Jacobskerk\, Oude Markt 2\, Vlissingen\, 4381 HK
CATEGORIES:Zichtbaar op homepage
ATTACH;FMTTYPE=image/jpeg:https://sintjacobskerk.nl/wp-content/uploads/2024/08/Evensingers.jpg
END:VEVENT
BEGIN:VEVENT
DTSTART;TZID=Europe/Amsterdam:20240831T153000
DTEND;TZID=Europe/Amsterdam:20240831T153000
DTSTAMP:20260422T235745
CREATED:20240722T172435Z
LAST-MODIFIED:20240722T172435Z
UID:10000292-1725118200-1725118200@sintjacobskerk.nl
SUMMARY:Inloopconcert: Jesse van der Wijk en Nienke de Bree
DESCRIPTION:Op 3 zaterdagmiddagen in augustus bent u van harte welkom bij inloopconcerten tijdens de openstelling van de kerk.  \nOp zaterdag 31 augustus sluiten Jesse van der Wijk (vleugel) en Nienke de Bree (saxofoon) deze korte reeks zomer- inloopconcerten af. Jesse en Nienke waren eerder  succesvol met hun optreden in de kerk tijdens de inloopconcerten van 2023. \nDe toegang is gratis\, jouw gift wordt gewaardeerd! 
URL:https://sintjacobskerk.nl/agenda/inloopconcert-jesse-van-der-wijk-en-nienke-de-bree/
CATEGORIES:Zichtbaar op homepage
ATTACH;FMTTYPE=image/jpeg:https://sintjacobskerk.nl/wp-content/uploads/2024/07/Zaterdagmiddag-inloopconcerten-2024.jpg
END:VEVENT
END:VCALENDAR