BEGIN:VCALENDAR
VERSION:2.0
PRODID:-//Cultuurpodium Sint Jacobskerk - ECPv6.2.8.1//NONSGML v1.0//EN
CALSCALE:GREGORIAN
METHOD:PUBLISH
X-WR-CALNAME:Cultuurpodium Sint Jacobskerk
X-ORIGINAL-URL:https://sintjacobskerk.nl
X-WR-CALDESC:Evenementen voor Cultuurpodium Sint Jacobskerk
REFRESH-INTERVAL;VALUE=DURATION:PT1H
X-Robots-Tag:noindex
X-PUBLISHED-TTL:PT1H
BEGIN:VTIMEZONE
TZID:Europe/Amsterdam
BEGIN:DAYLIGHT
TZOFFSETFROM:+0100
TZOFFSETTO:+0200
TZNAME:CEST
DTSTART:20250330T010000
END:DAYLIGHT
BEGIN:STANDARD
TZOFFSETFROM:+0200
TZOFFSETTO:+0100
TZNAME:CET
DTSTART:20251026T010000
END:STANDARD
END:VTIMEZONE
BEGIN:VEVENT
DTSTART;TZID=Europe/Amsterdam:20250731T200000
DTEND;TZID=Europe/Amsterdam:20250731T200000
DTSTAMP:20260421T144915
CREATED:20250430T074723Z
LAST-MODIFIED:20250725T094206Z
UID:14813-1753992000-1753992000@sintjacobskerk.nl
SUMMARY:Zomeravondconcerten 2025: Josee Koning en Jim de Groot zingen Lennaert Nijgh
DESCRIPTION:Feest der herkenning\nJosee Koning en Jim de Groot zingen Lennaert Nijgh \nLennaert Nijgh (1945 – 2002) gaf woorden aan Malle Babbe\, schreef op zijn 21e een Testament\, trok door het Land van Maas en Waal en liet het onbeschrijflijk prachtig Avond worden. \nJosee Koning en Jim de Groot hebben drie voorstellingen gemaakt over het werk en leven van tekstdichter Lennaert: Tip van de Sluier (2018)\, Testament (2020-’21)\, Feest der Herkenning (2024). \nJosee Koning (Lennaert’s laatste vrouw) en Jim de Groot (opgegroeid met Nijgh) kennen Lennaert’s teksten en inspiratiebronnen als geen ander. \nTijdens dit concert brengen zij het beste samen in het ultieme ‘Feest der Herkenning’\, Lennaert Nijghs grootste hits. \nToetsen: Hans Vroomans\nGitaar: Ed Verhoeff\, Jim\nZang: Jim en Josee \n \nTickets: € 22\,50\nKoop uw tickets via deze site\,  bij boekhandel  ’t Spui\, Oude Markt 5\, Vlissingen of voorafgaande aan het concert in de kerk.\n \nJosee Koning studeerde zang aan het Conservatorium van Amsterdam en verdiepte zich in de Braziliaanse muziek en cultuur in Rio de Janeiro. In Nederland richtte zij in de jaren tachtig de Braziliaanse fusion band Batida op\, samen met pianist Peter Schön. Josee maakte in 1995 haar eerste solo-album Tribute to Antonio Carlos Jobim. Na een aantal Braziliaanse albums volgde in 2005 haar eerste Nederlandstalige album: Verdronken Vlinder\, Josee Koning zingt Lennaert Nijgh (2005) . Tijdens hun huwelijk kwam het niet tot een muzikale samenwerking. Na Lennaert’s dood in 2002 groeit bij Josee de wens om zijn werk op te nemen. . \n \nDe zomeravondconcerten zijn mede mogelijk gemaakt door de
URL:https://sintjacobskerk.nl/agenda/josee-koning-zingt-lennaert-nijghs-grootste-hits-2-2-2-2-2/
CATEGORIES:Zichtbaar op homepage
ATTACH;FMTTYPE=image/jpeg:https://sintjacobskerk.nl/wp-content/uploads/2025/01/Josee-en-Jim.jpeg
END:VEVENT
END:VCALENDAR