BEGIN:VCALENDAR
VERSION:2.0
PRODID:-//Cultuurpodium Sint Jacobskerk - ECPv6.2.8.1//NONSGML v1.0//EN
CALSCALE:GREGORIAN
METHOD:PUBLISH
X-WR-CALNAME:Cultuurpodium Sint Jacobskerk
X-ORIGINAL-URL:https://sintjacobskerk.nl
X-WR-CALDESC:Evenementen voor Cultuurpodium Sint Jacobskerk
REFRESH-INTERVAL;VALUE=DURATION:PT1H
X-Robots-Tag:noindex
X-PUBLISHED-TTL:PT1H
BEGIN:VTIMEZONE
TZID:Europe/Amsterdam
BEGIN:DAYLIGHT
TZOFFSETFROM:+0100
TZOFFSETTO:+0200
TZNAME:CEST
DTSTART:20240331T010000
END:DAYLIGHT
BEGIN:STANDARD
TZOFFSETFROM:+0200
TZOFFSETTO:+0100
TZNAME:CET
DTSTART:20241027T010000
END:STANDARD
END:VTIMEZONE
BEGIN:VEVENT
DTSTART;TZID=Europe/Amsterdam:20240303T170000
DTEND;TZID=Europe/Amsterdam:20240303T170000
DTSTAMP:20260422T142648
CREATED:20230824T113443Z
LAST-MODIFIED:20240209T112233Z
UID:7169-1709485200-1709485200@sintjacobskerk.nl
SUMMARY:Evensong
DESCRIPTION:De muzikale invulling van de Evensong omvat Psalm 19 (verzen 8-15) en het anthem “Hail\, gladdening light’. \nDe evensingers staan onder leiding van Ineke Wijkhuijs-van den Driest\, de voorganger is ds. Martine Bakema en de organist is Jos Vogel. \nNa afloop van deze Evensong ontmoet het koor graag de bezoekers om bij een kopje koffie of thee na te praten over de viering.
URL:https://sintjacobskerk.nl/agenda/evensong-6/
CATEGORIES:Zichtbaar op homepage
ATTACH;FMTTYPE=image/jpeg:https://sintjacobskerk.nl/wp-content/uploads/2023/08/evensingers.jpg
END:VEVENT
END:VCALENDAR