BEGIN:VCALENDAR
VERSION:2.0
PRODID:-//Cultuurpodium Sint Jacobskerk - ECPv6.2.8.1//NONSGML v1.0//EN
CALSCALE:GREGORIAN
METHOD:PUBLISH
X-WR-CALNAME:Cultuurpodium Sint Jacobskerk
X-ORIGINAL-URL:https://sintjacobskerk.nl
X-WR-CALDESC:Evenementen voor Cultuurpodium Sint Jacobskerk
REFRESH-INTERVAL;VALUE=DURATION:PT1H
X-Robots-Tag:noindex
X-PUBLISHED-TTL:PT1H
BEGIN:VTIMEZONE
TZID:Europe/Amsterdam
BEGIN:DAYLIGHT
TZOFFSETFROM:+0100
TZOFFSETTO:+0200
TZNAME:CEST
DTSTART:20240331T010000
END:DAYLIGHT
BEGIN:STANDARD
TZOFFSETFROM:+0200
TZOFFSETTO:+0100
TZNAME:CET
DTSTART:20241027T010000
END:STANDARD
END:VTIMEZONE
BEGIN:VEVENT
DTSTART;TZID=Europe/Amsterdam:20240707T170000
DTEND;TZID=Europe/Amsterdam:20240707T170000
DTSTAMP:20260422T094231
CREATED:20230824T114939Z
LAST-MODIFIED:20240610T141044Z
UID:7185-1720371600-1720371600@sintjacobskerk.nl
SUMMARY:Evensong
DESCRIPTION:Op zondag 7 juli a.s. om 17.00 uur is de volgende Evensong in de Sint Jacobskerk in Vlissingen\, de laatste van het seizoen 2023-2024. Het wordt een Evensong in een zomerse sfeer\, waarin hoop en vertrouwen door zal klinken. \nDe Evensingers\, o.l.v. Ineke Wijkhuijs-v.d. Driest\, zingen onder andere Psalm 121 en als anthem\, ‘Thou knowest Lord\, the secrets of our heart’ van Henry Purcell. De lezingen zijn: Zacharia 9 : 9-12 en Mattheus 11 : 25-30. \nDe voorganger in deze Evensong is Ds. Gerrit Klein en de organist is Jos Vogel.
URL:https://sintjacobskerk.nl/agenda/evensong-10/
CATEGORIES:Zichtbaar op homepage
ATTACH;FMTTYPE=image/jpeg:https://sintjacobskerk.nl/wp-content/uploads/2023/08/P1020476.jpg
END:VEVENT
END:VCALENDAR