BEGIN:VCALENDAR
VERSION:2.0
PRODID:-//Cultuurpodium Sint Jacobskerk - ECPv6.2.8.1//NONSGML v1.0//EN
CALSCALE:GREGORIAN
METHOD:PUBLISH
X-WR-CALNAME:Cultuurpodium Sint Jacobskerk
X-ORIGINAL-URL:https://sintjacobskerk.nl
X-WR-CALDESC:Evenementen voor Cultuurpodium Sint Jacobskerk
REFRESH-INTERVAL;VALUE=DURATION:PT1H
X-Robots-Tag:noindex
X-PUBLISHED-TTL:PT1H
BEGIN:VTIMEZONE
TZID:Europe/Amsterdam
BEGIN:DAYLIGHT
TZOFFSETFROM:+0100
TZOFFSETTO:+0200
TZNAME:CEST
DTSTART:20260329T010000
END:DAYLIGHT
BEGIN:STANDARD
TZOFFSETFROM:+0200
TZOFFSETTO:+0100
TZNAME:CET
DTSTART:20261025T010000
END:STANDARD
END:VTIMEZONE
BEGIN:VEVENT
DTSTART;TZID=Europe/Amsterdam:20261106T080000
DTEND;TZID=Europe/Amsterdam:20261107T230000
DTSTAMP:20260421T145248
CREATED:20260117T110110Z
LAST-MODIFIED:20260319T150120Z
UID:18857-1793952000-1794092400@sintjacobskerk.nl
SUMMARY:Workshop en lezing over Maurits Escher
DESCRIPTION:Escher & Bach is ontstaan in 2023\, het jaar waarin het 125e geboortejaar van Maurits Escher werd gevierd. De beroemde graficus Escher had een grote liefde voor muziek\, in het bijzonder de (orgel)muziek van Johann Sebastian Bach. Escher & Bach is een multidisciplinaire voorstelling waarin het leven en werk van Escher en Bach op bijzondere wijze bij elkaar komen in muziek\, lichtkunst en theater. Orgelwerken van Bach\, uitgevoerd door organist Geerten van de Wetering\, worden afgewisseld met theatrale bijdragen waarin acteur Aus Greidanus bruggen slaat tussen de muziek van Bach en het leven en werk van Escher. Lichtkunstenaar Jeroen Alexander Meijer vertoont lichtkunstwerken bij de muziek van Bach geïnspireerd op het werk van Escher\, waarin het publiek wordt meegenomen op een reis door herhaling\, perspectief en schaduw\, belangrijke elementen in het werk van Escher. Deze imposante muziektheatervoorstelling komt nu naar Vlissingen. Een bijzondere avond in de indrukwekkende ruimte van de Jacobskerk! \nCredits \nOrgel Geerten van de Wetering\nActeur Aus Greidanus\nLichtkunst Jeroen Alexander Meijer\nSopraan Elma Dekker\nConcept Geerten van de Wetering / Podium21 \nTickets zijn binnenkort verkrijgbaar via deze site.
URL:https://sintjacobskerk.nl/agenda/escher-en-bach/
ATTACH;FMTTYPE=image/png:https://sintjacobskerk.nl/wp-content/uploads/2026/01/Esher-en-Bach.png
END:VEVENT
END:VCALENDAR