BEGIN:VCALENDAR
VERSION:2.0
PRODID:-//Cultuurpodium Sint Jacobskerk - ECPv6.2.8.1//NONSGML v1.0//EN
CALSCALE:GREGORIAN
METHOD:PUBLISH
X-WR-CALNAME:Cultuurpodium Sint Jacobskerk
X-ORIGINAL-URL:https://sintjacobskerk.nl
X-WR-CALDESC:Evenementen voor Cultuurpodium Sint Jacobskerk
REFRESH-INTERVAL;VALUE=DURATION:PT1H
X-Robots-Tag:noindex
X-PUBLISHED-TTL:PT1H
BEGIN:VTIMEZONE
TZID:Europe/Amsterdam
BEGIN:DAYLIGHT
TZOFFSETFROM:+0100
TZOFFSETTO:+0200
TZNAME:CEST
DTSTART:20260329T010000
END:DAYLIGHT
BEGIN:STANDARD
TZOFFSETFROM:+0200
TZOFFSETTO:+0100
TZNAME:CET
DTSTART:20261025T010000
END:STANDARD
END:VTIMEZONE
BEGIN:VEVENT
DTSTART;TZID=Europe/Amsterdam:20260709T200000
DTEND;TZID=Europe/Amsterdam:20260709T200000
DTSTAMP:20260424T072115
CREATED:20251204T101849Z
LAST-MODIFIED:20260324T165729Z
UID:18053-1783627200-1783627200@sintjacobskerk.nl
SUMMARY:Zomeravondconcerten 2026: Black Pencil: Barok à la Folk
DESCRIPTION:Barok à la Folk \nEen reis door volksmuziek en barokke pracht.\nspecial: mét nieuwe werken van Celia Swart\, Anthony Fiumara en Renske Vrolijk \nMuziek is grenzeloos. Door de eeuwen heen hebben componisten zich laten inspireren door de volksmuziek die hen omringde. In Barok à la Folk duikt Black Pencil in de intrigerende verbindingen tussen barokmuziek en de rijke tradities van volksmuziek uit verschillende culturen. Een programma dat sprankelt van virtuositeit\, emotie en verrassingen. \nFolk-geïnspireerde muziek is altijd al een onuitputtelijke bron van inspiratie voor Black Pencil. Het ensemble laat zich verleiden door de zeggingskracht van volkselementen: de ene keer uit dit zich gecompliceerd\, rauw en krachtig\, de andere keer subtiel\, zacht en in eenvoud. In Barok à la Folk vieren de vijf musici met hun scala aan instrumenten hoe volksmuziek niet alleen de barokke meesters beïnvloedde\, maar ook vandaag de dag blijft fascineren en ontroeren. \nHet neemt je mee op een muzikale ontdekkingsreis\, waar twee werelden hand in hand gaan en grenzen vervagen. Laat je tijdens dit concertprogramma verrassen door de veelzijdigheid en perfecte harmonie van barok en folk. Beleef de samensmelting van deze culturen\, samen met Ensemble Black Pencil. \nSpeciaal voor het concert in Vlissingen worden werken toegevoegd die zijn  geschreven voor Land Art kunstwerken. Waaronder het werk ‘Tij’ van de in Vlissingen geboren en opgegroeide Celia Swart.\nMaar ook nieuw werk van Anthony Fiumara ‘Exposure’ (2025) en Renske Vrolijk ‘Shrad’ (2026). \nVolksmuziek in barokke klanken: Black Pencil’s reis door landen en tijden\nOp het programma staan meesterwerken van Georg Philippe Telemann en Jean Hotteterre. Daarnaast maakt Black Pencil ruimte voor prachtige baroktraditionals uit Ierland en Scandinavië en Oud-Slavische traditionele liedjes. Elk werk krijgt de unieke Black Pencil-touch: een speelse combinatie van traditionele instrumenten en verrassende arrangementen. \nOver Black Pencil \nBlack Pencil is een game changer ensemble met meer dan duizend jaar muziekgeschiedenis als speelveld. De mogelijkheden van een enorme collectie blokfluiten\, panfluiten\, altviool\, accordeon en percussie zijn eindeloos – net als de nieuwsgierigheid en fantasie van de vijf musici. \nHet internationale ensemble\, geworteld in Flevoland\, is een graag geziene gast in klassieke concertzalen en op podia en festivals in Nederland\, maar ook in Duitsland\, Oostenrijk\, Spanje\, Ierland\, Turkije\, Denemarken\, Indonesië en Venezuela. De musici organiseren eigen concertseries in Amsterdam en Almere en werken o.a. samen met andere gezelschappen\, Land Art Flevoland en Schokland UNESCO Werelderfgoed. \nHet ensemble – dat dit jaar haar 15 jarig bestaan viert – daagt zichzelf voortdurend uit om nieuw werk te genereren en nodigt hiertoe vooraanstaande en nieuwe componisten uit\, vanuit alle windstreken van de wereld. Met respect\, kennis en verfijning wordt de mooiste muziek van haar historische plek getild en in een verfrissend nieuw daglicht gebracht. Sinds de oprichting van de groep in 2010 zijn er 500 nieuwe stukken gecomponeerd voor Black Pencil. De band heeft met succes verschillende albums uitgebracht. Recente projecten verbinden Black Pencil met de werelden van virtual reality\, theater\, dans en landschapskunst. \nJorge Isaac          (blokfluit)\nMatthijs Koene (panfluit)\nEsra Pehlivanli   (altviool)\nMarko Kassl        (accordeon)\nEnric Monfort    (slagwerk) \n \nTickets: € 25\,00 Early Bird € 22\,50 verkrijgbaar via deze website
URL:https://sintjacobskerk.nl/agenda/black-pencil/
CATEGORIES:Zichtbaar op homepage
ATTACH;FMTTYPE=image/jpeg:https://sintjacobskerk.nl/wp-content/uploads/2026/02/Black-Pencil-Barok-a-la-Folk.jpg
ORGANIZER;CN="Cultuurpodium Sint Jacobskerk":MAILTO:verhuur@sintjacobskerk.nl
END:VEVENT
END:VCALENDAR