BEGIN:VCALENDAR
VERSION:2.0
PRODID:-//Cultuurpodium Sint Jacobskerk - ECPv6.2.8.1//NONSGML v1.0//EN
CALSCALE:GREGORIAN
METHOD:PUBLISH
X-WR-CALNAME:Cultuurpodium Sint Jacobskerk
X-ORIGINAL-URL:https://sintjacobskerk.nl
X-WR-CALDESC:Evenementen voor Cultuurpodium Sint Jacobskerk
REFRESH-INTERVAL;VALUE=DURATION:PT1H
X-Robots-Tag:noindex
X-PUBLISHED-TTL:PT1H
BEGIN:VTIMEZONE
TZID:Europe/Amsterdam
BEGIN:DAYLIGHT
TZOFFSETFROM:+0100
TZOFFSETTO:+0200
TZNAME:CEST
DTSTART:20260329T010000
END:DAYLIGHT
BEGIN:STANDARD
TZOFFSETFROM:+0200
TZOFFSETTO:+0100
TZNAME:CET
DTSTART:20261025T010000
END:STANDARD
END:VTIMEZONE
BEGIN:VEVENT
DTSTART;TZID=Europe/Amsterdam:20260605T193000
DTEND;TZID=Europe/Amsterdam:20260605T210000
DTSTAMP:20260422T011715
CREATED:20250930T192608Z
LAST-MODIFIED:20260413T125453Z
UID:10000499-1780687800-1780693200@sintjacobskerk.nl
SUMMARY:Cosmic Sound
DESCRIPTION:Laat je meevoeren door de resonerende vibraties van een sound bath.\n\n\n\n\n\n\n\n\nEen klankreis waarin planetaire gongs\, bronzen en kristallen klankschalen\, stem\, fluit en andere instrumenten samen een rijk klankveld creëren. De trillingen werken door in het lichaam\, laten spanning en blokkades los en nodigen de levensenergie uit om weer vrij te stromen. \n\n\n\n\n\n\n\n\n\nJe ligt comfortabel op je mat op de vloer terwijl de klanken je lichaam zachtjes omhullen. Het geluid spoelt als golven over je heen en nodigt je uit om los te laten. De sessie begint met de klanken van klankschalen of verschillende andere instrumenten. Van daaruit worden de gongs zachtjes verwelkomd om hun stem te laten horen\, terwijl het geluid zich langzaam ontvouwt tot een rijk en diep veld van vibraties en harmoniëen. Doorheen de sessie verweven zich momenten met andere instrumenten en klanken\, maar de gongs vormen steeds het energetische hart van de reis. Naar het einde toe verzachten de klanken en maken zij plaats voor meer aardende geluiden. Daarna volgt een moment van diepe\, allesomvattende stilte. In deze stilte kun je rusten in een staat van diepe aanwezigheid. \n\n\n\n\n\n\n\n\n\nDeur open: 18:45\nAanvang: 19:30\nEinde: ±21:00\n\n\n\n\n\n\n\n\n\nDit is een liggende sound bath. Neem zelf een matrasje\, deken of slaapzak en kussen.
URL:https://sintjacobskerk.nl/agenda/optie-cosmicsound/
LOCATION:Sint Jacobskerk\, Oude Markt 2\, Vlissingen\, 4381 HK
CATEGORIES:Zichtbaar op homepage
ATTACH;FMTTYPE=image/jpeg:https://sintjacobskerk.nl/wp-content/uploads/2025/09/Vlissingen-Cosmic-Sound.jpg
END:VEVENT
END:VCALENDAR