BEGIN:VCALENDAR
VERSION:2.0
PRODID:-//Cultuurpodium Sint Jacobskerk - ECPv6.2.8.1//NONSGML v1.0//EN
CALSCALE:GREGORIAN
METHOD:PUBLISH
X-ORIGINAL-URL:https://sintjacobskerk.nl
X-WR-CALDESC:Evenementen voor Cultuurpodium Sint Jacobskerk
REFRESH-INTERVAL;VALUE=DURATION:PT1H
X-Robots-Tag:noindex
X-PUBLISHED-TTL:PT1H
BEGIN:VTIMEZONE
TZID:Europe/Amsterdam
BEGIN:DAYLIGHT
TZOFFSETFROM:+0100
TZOFFSETTO:+0200
TZNAME:CEST
DTSTART:20260329T010000
END:DAYLIGHT
BEGIN:STANDARD
TZOFFSETFROM:+0200
TZOFFSETTO:+0100
TZNAME:CET
DTSTART:20261025T010000
END:STANDARD
END:VTIMEZONE
BEGIN:VEVENT
DTSTART;TZID=Europe/Amsterdam:20260418T193000
DTEND;TZID=Europe/Amsterdam:20260418T193000
DTSTAMP:20260421T161250
CREATED:20250920T094748Z
LAST-MODIFIED:20260413T115112Z
UID:10000484-1776540600-1776540600@sintjacobskerk.nl
SUMMARY:KoorCultuurLokaal: Popkoor X-stream en Slavisch Koor Srétenieje
DESCRIPTION:Een dubbelconcert van twee lokale koren met elk een heel eigen repertoire. \nWat gebeurt er als melancholische Slavische koorklanken en popmuziek elkaar ontmoeten?\nDan ontstaat er een verrassende concertavond: van serieus tot licht. Twee lokale koren nemen je mee in een programma dat verrast en verbindt. Soms ontroerend\, soms meezingend- maar altijd muzikaal. \nConcertdiner \nBen je op zoek naar een compleet avondje uit? Combineer op 18 april een heerlijk etentje met het dubbelkorenconcert van Slavisch koor Srétenieje en Popkoor X-Stream. \n🎟️ Scoor een ticket via onze website\n🍴 Reserveer via de website van SO-IF en vermeld dat je een ticket hebt voor het concert: www.so-if.nl\n🪑 We reserveren een stoel op de eerste of tweede rij zodat je ultiem van het concert kunt genieten. \n\n   \n\n\n\n\n\n\n\n\n\n\nView this post on Instagram\n\n\n\n\n\n\n\n\n\n\n\n\n\n\n\n\n\n\n\n\n\n\n\n\n \nTickets € 12\,50  zijn te bestellen via deze website.
URL:https://sintjacobskerk.nl/agenda/koorcultuurlokaal-2/
CATEGORIES:Zichtbaar op homepage
ATTACH;FMTTYPE=image/jpeg:https://sintjacobskerk.nl/wp-content/uploads/2026/02/dubbelconcert-xstream-sretenije.jpg
ORGANIZER;CN="Cultuurpodium Sint Jacobskerk":MAILTO:verhuur@sintjacobskerk.nl
END:VEVENT
END:VCALENDAR