BEGIN:VCALENDAR
VERSION:2.0
PRODID:-//Cultuurpodium Sint Jacobskerk - ECPv6.2.8.1//NONSGML v1.0//EN
CALSCALE:GREGORIAN
METHOD:PUBLISH
X-ORIGINAL-URL:https://sintjacobskerk.nl
X-WR-CALDESC:Evenementen voor Cultuurpodium Sint Jacobskerk
REFRESH-INTERVAL;VALUE=DURATION:PT1H
X-Robots-Tag:noindex
X-PUBLISHED-TTL:PT1H
BEGIN:VTIMEZONE
TZID:Europe/Amsterdam
BEGIN:DAYLIGHT
TZOFFSETFROM:+0100
TZOFFSETTO:+0200
TZNAME:CEST
DTSTART:20260329T010000
END:DAYLIGHT
BEGIN:STANDARD
TZOFFSETFROM:+0200
TZOFFSETTO:+0100
TZNAME:CET
DTSTART:20261025T010000
END:STANDARD
END:VTIMEZONE
BEGIN:VEVENT
DTSTART;TZID=Europe/Amsterdam:20260411T120000
DTEND;TZID=Europe/Amsterdam:20260411T160000
DTSTAMP:20260421T161316
CREATED:20231028T081143Z
LAST-MODIFIED:20260319T150828Z
UID:10000171-1775908800-1775923200@sintjacobskerk.nl
SUMMARY:Kunstmarkt in de Sint Jacobskerk tijdens Vlissingen 1572
DESCRIPTION:Tijdens het historische evenement Vlissingen 1572 op zaterdag 11 april verandert de monumentale Sint Jacobskerk in het centrum van Vlissingen in een sfeervolle kunstmarkt met werk van lokale en regionale kunstenaars. \nTussen 12.00 en 16.00 uur presenteren bijna twintig kunstenaars hun werk aan het publiek. Bezoekers kunnen er een gevarieerde selectie kunstvormen ontdekken\, variërend van schilderkunst\, keramiek en grafiek tot sieraden\, ambachtelijke objecten en kunst geïnspireerd door de Zeeuwse kust. \nAan de kunstmarkt nemen uitsluitend kunstenaars uit Walcheren deel. Makers uit Vlissingen\, Middelburg en omliggende plaatsen tonen er hun werk\, variërend van schilderkunst en keramiek tot sieraden en ambachtelijke kunstobjecten. Daarmee biedt de markt een mooi overzicht van het creatieve talent uit de regio. \nDe kunstmarkt vormt één van de culturele onderdelen van Vlissingen 1572\, een dag waarop de stad stilstaat bij de bevrijding van Vlissingen van de Spaanse overheersing. In de binnenstad zijn die dag verschillende activiteiten te beleven\, waaronder muziek\, historische elementen\, markten en optredens. \nDe toegang tot de kunstmarkt in de Sint Jacobskerk is gratis. \nDe toren kan worden beklommen !\nWandel  dus eens binnen in de Sint Jacobskerk en ontdek 700 jaar geschiedenis. Een audiotour is gratis te downloaden op je telefoon. En bekijk het feestgedruis in de stad vanaf de toren.\n\nAvonturiers kunnen voor € 3\,- de toren beklimmen. Kinderen tot 12 jaar gratis.
URL:https://sintjacobskerk.nl/agenda/herdenking-opstand-1572/
CATEGORIES:Zichtbaar op homepage
ATTACH;FMTTYPE=image/jpeg:https://sintjacobskerk.nl/wp-content/uploads/2023/10/P1020945.jpg
END:VEVENT
END:VCALENDAR