BEGIN:VCALENDAR
VERSION:2.0
PRODID:-//Cultuurpodium Sint Jacobskerk - ECPv6.2.8.1//NONSGML v1.0//EN
CALSCALE:GREGORIAN
METHOD:PUBLISH
X-WR-CALNAME:Cultuurpodium Sint Jacobskerk
X-ORIGINAL-URL:https://sintjacobskerk.nl
X-WR-CALDESC:Evenementen voor Cultuurpodium Sint Jacobskerk
REFRESH-INTERVAL;VALUE=DURATION:PT1H
X-Robots-Tag:noindex
X-PUBLISHED-TTL:PT1H
BEGIN:VTIMEZONE
TZID:Europe/Amsterdam
BEGIN:DAYLIGHT
TZOFFSETFROM:+0100
TZOFFSETTO:+0200
TZNAME:CEST
DTSTART:20260329T010000
END:DAYLIGHT
BEGIN:STANDARD
TZOFFSETFROM:+0200
TZOFFSETTO:+0100
TZNAME:CET
DTSTART:20261025T010000
END:STANDARD
END:VTIMEZONE
BEGIN:VEVENT
DTSTART;TZID=Europe/Amsterdam:20260313T193000
DTEND;TZID=Europe/Amsterdam:20260313T193000
DTSTAMP:20260421T174603
CREATED:20251121T121738Z
LAST-MODIFIED:20260302T100554Z
UID:10000542-1773430200-1773430200@sintjacobskerk.nl
SUMMARY:Cosmic Sound
DESCRIPTION: Dompel jezelf onder in de vibraties van een klankbad\, gecreëerd door de klanken van planetair gestemde gongs\, bronzen en kristallen klankschalen\, zang\, fluiten en andere instrumenten te combineren om spanningen en blokkades in het lichaam los te laten en de energie vrijer te laten stromen. \nEen Klankbad kan innerlijke rust en een gevoel van verbondenheid met uzelf brengen en andere aandoeningen  verlichten die kunnen leiden tot een gebrek aan balans en harmonie in het lichaam. De trillingen stimuleren de klieren en de bloedsomloop en regenereren het zenuwstelsel. \n***Let op: dit is een liggend klankbad. Je dient je eigen matras\, deken of slaapzak\, kussen en andere accessoires mee te nemen om zo comfortabel mogelijk op de grond te kunnen liggen. De kerk zal verwarmd zijn tot een comfortabele temperatuur. \nDe deuren gaan open om 18.30 uur en het klankbad vangt aan om 19.30 uur.
URL:https://sintjacobskerk.nl/agenda/cosmic-sound/
CATEGORIES:Zichtbaar op homepage
ATTACH;FMTTYPE=image/jpeg:https://sintjacobskerk.nl/wp-content/uploads/2025/11/Cosmic-Sound-Vlissingen.jpg
END:VEVENT
END:VCALENDAR