BEGIN:VCALENDAR
VERSION:2.0
PRODID:-//Cultuurpodium Sint Jacobskerk - ECPv6.2.8.1//NONSGML v1.0//EN
CALSCALE:GREGORIAN
METHOD:PUBLISH
X-WR-CALNAME:Cultuurpodium Sint Jacobskerk
X-ORIGINAL-URL:https://sintjacobskerk.nl
X-WR-CALDESC:Evenementen voor Cultuurpodium Sint Jacobskerk
REFRESH-INTERVAL;VALUE=DURATION:PT1H
X-Robots-Tag:noindex
X-PUBLISHED-TTL:PT1H
BEGIN:VTIMEZONE
TZID:Europe/Amsterdam
BEGIN:DAYLIGHT
TZOFFSETFROM:+0100
TZOFFSETTO:+0200
TZNAME:CEST
DTSTART:20260329T010000
END:DAYLIGHT
BEGIN:STANDARD
TZOFFSETFROM:+0200
TZOFFSETTO:+0100
TZNAME:CET
DTSTART:20261025T010000
END:STANDARD
END:VTIMEZONE
BEGIN:VEVENT
DTSTART;TZID=Europe/Amsterdam:20260205T080000
DTEND;TZID=Europe/Amsterdam:20260207T120000
DTSTAMP:20260421T204634
CREATED:20250711T133738Z
LAST-MODIFIED:20250923T155419Z
UID:10000477-1770278400-1770465600@sintjacobskerk.nl
SUMMARY:Optie: Bruisend Zeeland
DESCRIPTION:
URL:https://sintjacobskerk.nl/agenda/optie-bruisend-zeeland/
END:VEVENT
BEGIN:VEVENT
DTSTART;TZID=Europe/Amsterdam:20260206T180000
DTEND;TZID=Europe/Amsterdam:20260206T180000
DTSTAMP:20260421T204634
CREATED:20251215T102538Z
LAST-MODIFIED:20251215T102946Z
UID:10000577-1770400800-1770400800@sintjacobskerk.nl
SUMMARY:Thank Vlissingen It's Friday
DESCRIPTION:Bedankt Vlissingen Het is vrijdag met La Fuente | St. Jacobskerk [UITVERKOCHT]\nDaar gaan we! De eerste editie van de leukste vrijdagborrel van Zeeland in Vlissingen! \nWe geven op vrijdag 6 februari 2026 acte de presentie in de Sint Jacobskerk. Lekker dansen\, borrelen en netwerken in de mooiste locatie van de stad. \n𝐋𝐈𝐍𝐄-𝐔𝐏:\n– La Fuente\n– Pawelo\n– Funkstar\n– H4ZEL\n– Nick Edwins\n– Patty
URL:https://sintjacobskerk.nl/agenda/thank-vlissingen-its-friday/
CATEGORIES:Zichtbaar op homepage
ATTACH;FMTTYPE=image/jpeg:https://sintjacobskerk.nl/wp-content/uploads/2025/12/TVIF-MAINFLYER-1080-1.jpg
END:VEVENT
END:VCALENDAR