BEGIN:VCALENDAR
VERSION:2.0
PRODID:-//Cultuurpodium Sint Jacobskerk - ECPv6.2.8.1//NONSGML v1.0//EN
CALSCALE:GREGORIAN
METHOD:PUBLISH
X-WR-CALNAME:Cultuurpodium Sint Jacobskerk
X-ORIGINAL-URL:https://sintjacobskerk.nl
X-WR-CALDESC:Evenementen voor Cultuurpodium Sint Jacobskerk
REFRESH-INTERVAL;VALUE=DURATION:PT1H
X-Robots-Tag:noindex
X-PUBLISHED-TTL:PT1H
BEGIN:VTIMEZONE
TZID:Europe/Amsterdam
BEGIN:DAYLIGHT
TZOFFSETFROM:+0100
TZOFFSETTO:+0200
TZNAME:CEST
DTSTART:20260329T010000
END:DAYLIGHT
BEGIN:STANDARD
TZOFFSETFROM:+0200
TZOFFSETTO:+0100
TZNAME:CET
DTSTART:20261025T010000
END:STANDARD
END:VTIMEZONE
BEGIN:VEVENT
DTSTART;TZID=Europe/Amsterdam:20260116T200000
DTEND;TZID=Europe/Amsterdam:20260116T200000
DTSTAMP:20260422T214541
CREATED:20240405T082915Z
LAST-MODIFIED:20251027T103356Z
UID:10000256-1768593600-1768593600@sintjacobskerk.nl
SUMMARY:Nieuwjaarsconcert Zeeuws Orkest met Philippe Elan
DESCRIPTION:Misschien was u er bij. Nieuwjaar 2012. De chansonnier Philippe Elan was de smaakmaker van de avond met zijn ontroerend mooie Franse Chansons van o.a. Aznavour\, Piaf\, en Brel. Afgelopen zomer was hij in de Sint Jacobskerk bij één van de zomeravondconcerten en ook toen een enthousiaste zaal en een inspirerend concert. Een goede reden om hem weer terug te vragen. \nEen nieuwjaarsconcert is altijd een feest\, laat u verrassen met het overige programma.
URL:https://sintjacobskerk.nl/agenda/optie-nieuwjaarsconcert-zeeuws-orkest/
CATEGORIES:Zichtbaar op homepage
ATTACH;FMTTYPE=image/png:https://sintjacobskerk.nl/wp-content/uploads/2024/12/P.Elan-Concertgebouw.png
END:VEVENT
END:VCALENDAR