BEGIN:VCALENDAR
VERSION:2.0
PRODID:-//Cultuurpodium Sint Jacobskerk - ECPv6.2.8.1//NONSGML v1.0//EN
CALSCALE:GREGORIAN
METHOD:PUBLISH
X-WR-CALNAME:Cultuurpodium Sint Jacobskerk
X-ORIGINAL-URL:https://sintjacobskerk.nl
X-WR-CALDESC:Evenementen voor Cultuurpodium Sint Jacobskerk
REFRESH-INTERVAL;VALUE=DURATION:PT1H
X-Robots-Tag:noindex
X-PUBLISHED-TTL:PT1H
BEGIN:VTIMEZONE
TZID:Europe/Amsterdam
BEGIN:DAYLIGHT
TZOFFSETFROM:+0100
TZOFFSETTO:+0200
TZNAME:CEST
DTSTART:20250330T010000
END:DAYLIGHT
BEGIN:STANDARD
TZOFFSETFROM:+0200
TZOFFSETTO:+0100
TZNAME:CET
DTSTART:20251026T010000
END:STANDARD
END:VTIMEZONE
BEGIN:VEVENT
DTSTART;TZID=Europe/Amsterdam:20250215T200000
DTEND;TZID=Europe/Amsterdam:20250215T200000
DTSTAMP:20260421T103054
CREATED:20241112T154117Z
LAST-MODIFIED:20241112T154124Z
UID:10000218-1739649600-1739649600@sintjacobskerk.nl
SUMMARY:MuziekPodiumZeeland: Concert Johanna Rose
DESCRIPTION:Virtuoze barokmuziek in Europa \nDe film Toutes les Matins du Monde gaat over de ontmoeting tussen twee grote gambisten: Marin Marais en Sieur de Sainte-Colombe. Deze laatste heeft aan de gamba de zevende snaar (A-snaar) toegevoegd waardoor het instrument een meer gevoelige speelwijze kreeg. Als componist vernietigde hij bijna al zijn composities. Zijn bekendste werk: Le tombeau des regrets\, schreef hij voor zijn overleden vrouw. Jordi Savall speelde de gambamuziek in deze film. De film zette de schijnwerper op het instrument dat virtuoos bespeeld wordt door o.a. Savall\, Sigiswald Kuijken en Mieneke van der Velde.\nJohanna Rose is de nieuwe ster aan dit firmament. Ze wordt zelfs dé gambiste van het moment genoemd. Haar spel is\, volgens de internationale pers\, virtuoos en elegant\, gevoelig en intelligent\, technisch sensationeel en adembenemend muzikaal. Zij is geboren in Tübingen en werkt nu vanuit haar thuishaven Sevilla waar ze ook muciseert met een eigen ensemble: Sarao de Musas.\nZij treedt regelmatig op. En tijdens haar recitals speelt zij werken van de grote gambagenieën: Bach\, Marin-Marais en De Sainte-Colombe. Barokmuziek uit Duitsland\, Frankrijk en vaak ook Spanje.\nDe viola da gamba (Italiaans voor beenviool) is een familie van strijkinstrumenten die haar oorsprong heeft in de gitaar\, meer bepaald de vihuela de arco. Het instrument verkreeg zijn huidige vorm in de 16e eeuw. Met name in Engeland waren in de 16de en 17de eeuw gambaconsorten (ensembles van verschillende gamba’s) populair. \ni.s.m. Stichting Oude Muziek
URL:https://sintjacobskerk.nl/agenda/optie-mpz-concert-johanna-rose-2-2/
LOCATION:Sint Jacobskerk\, Oude Markt 2\, Vlissingen\, 4381 HK
CATEGORIES:Zichtbaar op homepage
ATTACH;FMTTYPE=image/jpeg:https://sintjacobskerk.nl/wp-content/uploads/2024/02/JOHANNA_LAURALEON.jpg
END:VEVENT
END:VCALENDAR