BEGIN:VCALENDAR
VERSION:2.0
PRODID:-//Cultuurpodium Sint Jacobskerk - ECPv6.2.8.1//NONSGML v1.0//EN
CALSCALE:GREGORIAN
METHOD:PUBLISH
X-ORIGINAL-URL:https://sintjacobskerk.nl
X-WR-CALDESC:Evenementen voor Cultuurpodium Sint Jacobskerk
REFRESH-INTERVAL;VALUE=DURATION:PT1H
X-Robots-Tag:noindex
X-PUBLISHED-TTL:PT1H
BEGIN:VTIMEZONE
TZID:Europe/Amsterdam
BEGIN:DAYLIGHT
TZOFFSETFROM:+0100
TZOFFSETTO:+0200
TZNAME:CEST
DTSTART:20240331T010000
END:DAYLIGHT
BEGIN:STANDARD
TZOFFSETFROM:+0200
TZOFFSETTO:+0100
TZNAME:CET
DTSTART:20241027T010000
END:STANDARD
END:VTIMEZONE
BEGIN:VEVENT
DTSTART;VALUE=DATE:20241213
DTEND;VALUE=DATE:20241214
DTSTAMP:20260422T190051
CREATED:20231028T080018Z
LAST-MODIFIED:20241208T161554Z
UID:10000165-1734048000-1734134399@sintjacobskerk.nl
SUMMARY:Geen verhuur mogelijk: podiumopbouw en repetities voor14 dec.
DESCRIPTION:
URL:https://sintjacobskerk.nl/agenda/geen-verhuur-mogelijk-13/
END:VEVENT
END:VCALENDAR