BEGIN:VCALENDAR
VERSION:2.0
PRODID:-//Cultuurpodium Sint Jacobskerk - ECPv6.2.8.1//NONSGML v1.0//EN
CALSCALE:GREGORIAN
METHOD:PUBLISH
X-ORIGINAL-URL:https://sintjacobskerk.nl
X-WR-CALDESC:Evenementen voor Cultuurpodium Sint Jacobskerk
REFRESH-INTERVAL;VALUE=DURATION:PT1H
X-Robots-Tag:noindex
X-PUBLISHED-TTL:PT1H
BEGIN:VTIMEZONE
TZID:Europe/Amsterdam
BEGIN:DAYLIGHT
TZOFFSETFROM:+0100
TZOFFSETTO:+0200
TZNAME:CEST
DTSTART:20240331T010000
END:DAYLIGHT
BEGIN:STANDARD
TZOFFSETFROM:+0200
TZOFFSETTO:+0100
TZNAME:CET
DTSTART:20241027T010000
END:STANDARD
END:VTIMEZONE
BEGIN:VEVENT
DTSTART;TZID=Europe/Amsterdam:20241123T110000
DTEND;TZID=Europe/Amsterdam:20241123T163000
DTSTAMP:20260422T175610
CREATED:20240912T131943Z
LAST-MODIFIED:20240930T074923Z
UID:10000306-1732359600-1732379400@sintjacobskerk.nl
SUMMARY:Een dag om te herinneren ....
DESCRIPTION:Bijeenkomst van de Protestantse Gemeente in samenwerking met verschillende uitvaartondernemingen ter nagedachtenis aan overledenen in het afgelopen kerkelijk jaar
URL:https://sintjacobskerk.nl/agenda/brand-een-kaars-voor-2/
END:VEVENT
END:VCALENDAR