BEGIN:VCALENDAR
VERSION:2.0
PRODID:-//Cultuurpodium Sint Jacobskerk - ECPv6.2.8.1//NONSGML v1.0//EN
CALSCALE:GREGORIAN
METHOD:PUBLISH
X-WR-CALNAME:Cultuurpodium Sint Jacobskerk
X-ORIGINAL-URL:https://sintjacobskerk.nl
X-WR-CALDESC:Evenementen voor Cultuurpodium Sint Jacobskerk
REFRESH-INTERVAL;VALUE=DURATION:PT1H
X-Robots-Tag:noindex
X-PUBLISHED-TTL:PT1H
BEGIN:VTIMEZONE
TZID:Europe/Amsterdam
BEGIN:DAYLIGHT
TZOFFSETFROM:+0100
TZOFFSETTO:+0200
TZNAME:CEST
DTSTART:20240331T010000
END:DAYLIGHT
BEGIN:STANDARD
TZOFFSETFROM:+0200
TZOFFSETTO:+0100
TZNAME:CET
DTSTART:20241027T010000
END:STANDARD
END:VTIMEZONE
BEGIN:VEVENT
DTSTART;TZID=Europe/Amsterdam:20241109T193000
DTEND;TZID=Europe/Amsterdam:20241109T193000
DTSTAMP:20260422T175523
CREATED:20240910T092521Z
LAST-MODIFIED:20240910T092521Z
UID:10000162-1731180600-1731180600@sintjacobskerk.nl
SUMMARY:Omnis-Cantare
DESCRIPTION:Bevrijdingsconcert “Zeeland 80 jaar vrij” \nMedewerking: \nChr. Samengesteld Mannenkoor Zeeland  \ndirigent:\nMatthijs Breukhoven \nEnsemble ‘ENCORE’ van de Zeeuwse Accordeonvereniging Concertina  \ndirigent:\nHarrie Schroevers  \nOrganist\nHugo van der Meij  \nvleugel:\nFlip Markwat  \naanvang 19.30 uur\nsamenzang vanaf 19.15 uur\nGratis toegang
URL:https://sintjacobskerk.nl/agenda/optie-omnis-cantare-concert-in-het-kader-van-80-jaar-bevrijding-van-walcheren-2-2/
CATEGORIES:Zichtbaar op homepage
ATTACH;FMTTYPE=image/jpeg:https://sintjacobskerk.nl/wp-content/uploads/2024/09/flyer-9-11-2024.jpg
ORGANIZER;CN="Omnis Cantare":MAILTO:info@omnis-cantare.nl
END:VEVENT
END:VCALENDAR